{"text_format":"1","workbook":"xlsx","n_sheets":3,"sheets":["Interface","Compteur","Carton"],"not_rendered":{"charts":0,"images":11,"macros":1,"external_links":0,"defined_names":4,"comments":1,"pivot_tables":0},"unopened":[],"bounds":{"document_bytes":16777216,"sheet_cells":100000,"rows_first":2000,"rows_last":500,"rows_between":2000,"halvings":0,"cell_chars":16384,"cell_head_chars":4096},"cells_cut":0,"cells_raw":0,"read":"whole","date_system":"1900"}

{"sheet":"Interface","index":0,"n_rows":25,"n_cols":20,"rows_kept":25,"cut":false,"hidden":false,"merged":[[15,16,15,21],[7,18,7,22],[8,18,8,22],[9,18,9,22],[1,23,4,23],[5,23,6,23],[1,7,2,16],[4,5,5,18],[7,23,8,23],[24,10,24,14],[11,1,12,3],[7,1,10,3],[0,2,0,20],[10,18,10,22],[23,9,23,14],[23,19,23,22],[23,16,23,18],[24,16,24,17],[24,18,24,23],[22,8,22,10],[22,11,22,20],[7,15,9,15],[7,16,9,16],[13,16,13,21],[14,16,14,21]]}
[null,null,"Gestion Des Compteurs"]
[null,null,null,null,null,null,null,"Fonctionne sous Excel, Version 2010 ou supérieur"]
[]
[]
[null,null,null,null,null,"Dans ce logiciel , vous ne pouvez modifier, que les cellules de cette Couleur"]
[]
[]
[null,"Basse par Jour            en 100°    pour le  calcul des compteurs",null,null,null,"Jour","Temps","Saisie",null,"Module test",null,"RTT Salarier","RTT Employeur","Ancienneté","Congés","Report > à la Variation   autorisée   sur le RH                 Oui  = 1              Non = 0","Report            des RH           de             l'Année N -1",null,"Plage flottante                   de semaine. en sem."]
[null,null,null,null,null,"Lundi",{"$f":"(H9-INT(H9))*24","v":7.5},0.3125,null,1,"Jour",7,8,3,25,null,null,null,4]
[null,null,null,null,null,"Mardi",{"$f":"(H10-INT(H10))*24","v":7.5},0.3125,null,{"$f":"J9*B12","v":7.5},"100° H",{"$f":"L9*B12","v":52.5},{"$f":"M9*B12","v":60},{"$f":"N9*B12","v":22.5},{"$f":"O9*B12","v":187.5},null,null,null,"Variation Sem. + ou -"]
[null,null,null,null,null,"Mercredi",7.5,0.3125,null,{"$f":"(TIME(TRUNC(ABS(J10-(INT(J10/24)*24))),ROUND((ABS(J10-(INT(J10/24)*24))-TRUNC(ABS(J10-(INT(J10/24)*24))))*60,),0))+INT(J10/24)","v":0.3125},"humm",{"$f":"(TIME(TRUNC(ABS(L10-(INT(L10/24)*24))),ROUND((ABS(L10-(INT(L10/24)*24))-TRUNC(ABS(L10-(INT(L10/24)*24))))*60,),0))+INT(L10/24)","v":2.1875},{"$f":"(TIME(TRUNC(ABS(M10-(INT(M10/24)*24))),ROUND((ABS(M10-(INT(M10/24)*24))-TRUNC(ABS(M10-(INT(M10/24)*24))))*60,),0))+INT(M10/24)","v":2.5},{"$f":"(TIME(TRUNC(ABS(N10-(INT(N10/24)*24))),ROUND((ABS(N10-(INT(N10/24)*24))-TRUNC(ABS(N10-(INT(N10/24)*24))))*60,),0))+INT(N10/24)","v":0.9375},{"$f":"(TIME(TRUNC(ABS(O10-(INT(O10/24)*24))),ROUND((ABS(O10-(INT(O10/24)*24))-TRUNC(ABS(O10-(INT(O10/24)*24))))*60,),0))+INT(O10/24)","v":7.8125},0,0,null,1]
[null,7.5,null,null,null,"Jeudi",7.5,0.3125]
[null,null,null,null,null,"Vendredi",7.5,0.3125]
[null,null,null,null,null,"Samedi",0,0,null,null,null,null,null,null,null,null,"Entre à la mains "]
[null,null,null,null,null,"Dimanche",0,0,null,null,null,null,null,null,null,null,"La gestion du temps"]
[null,null,null,null,null,"TOTAL",{"$f":"SUM(G9:G15)","v":37.5},{"$f":"SUM(H9:H15)","v":1.5625},null,null,null,null,null,null,null,null," Que vous avez"]
[]
[]
[]
[]
[]
[]
[]
[null,null,null,null,null,null,null,null,null,"Développée par :",null,null,null,null,null,null,"Version : ",null,null,{"$f":"Carton!AD11","v":2023}]
[null,null,null,null,null,null,null,null,null,"Site :",{"$f":"Carton!AD14","v":"Mich-Logiciel.fr"},null,null,null,null,null,"N° Série :",null,{"$f":"Carton!AD13","v":"SN-2023-01-0001-AM"}]

{"sheet":"Compteur","index":1,"n_rows":436,"n_cols":32,"rows_kept":436,"cut":false,"hidden":false,"merged":[[0,22,1,22],[0,23,0,24],[19,27,19,31],[74,2,74,3],[1,2,1,5],[10,2,10,3],[18,2,18,3],[26,2,26,3],[34,2,34,3],[42,2,42,3],[50,2,50,3],[58,2,58,3],[66,2,66,3],[4,27,5,31],[1,6,1,10],[170,2,170,3],[82,2,82,3],[90,2,90,3],[98,2,98,3],[106,2,106,3],[114,2,114,3],[122,2,122,3],[130,2,130,3],[138,2,138,3],[146,2,146,3],[154,2,154,3],[162,2,162,3],[266,2,266,3],[178,2,178,3],[186,2,186,3],[194,2,194,3],[202,2,202,3],[210,2,210,3],[218,2,218,3],[226,2,226,3],[234,2,234,3],[242,2,242,3],[250,2,250,3],[258,2,258,3],[362,2,362,3],[274,2,274,3],[282,2,282,3],[290,2,290,3],[298,2,298,3],[306,2,306,3],[314,2,314,3],[322,2,322,3],[330,2,330,3],[338,2,338,3],[346,2,346,3],[354,2,354,3],[434,18,435,19],[418,2,418,3],[426,2,426,3],[370,2,370,3],[378,2,378,3],[386,2,386,3],[394,2,394,3],[402,2,402,3],[410,2,410,3],[428,9,428,10],[429,9,429,10],[430,9,430,10],[431,9,431,10]]}
[null,"Saisie",null,null,null,null,null,null,null,null,null,null,null,null,null,null,null,null,1,2,3,4,"5      =    Ferié",7]
["100°",null,{"$f":"Carton!AD9","v":"Gestion Des Compteurs"},null,null,null,{"$f":"Carton!X10","v":"Effectuées                        En 2023"},null,null,null,null,null,0,null,null,"Solde en  Report N-1 (hh:mn)","Heures  par semaine",null,"Solde RTT Salarier (hh:mn)","Solde RTT Employeur (hh:mn)","Solde Ancienneté (hh:mn)","Solde Congé       (hh:mn)",null,"Solde         RH  - (hh:mn) ","Solde          RH +    (100°) "]
["H.mn",{"$f":"TIME(TRUNC(B2),ROUND((B2-TRUNC(B2))*60,),0)","v":0},"Arrivée (hh:mn)","Départ (hh:mn)","Arrivée (hh:mn)","Départ (hh:mn)",null,null,null,null,null,null,0,{"$f":"((M3-ROUNDDOWN(M3,0))/3*5)+ROUNDDOWN(M3,0)","v":0},null,"00:00:00",{"$f":"Interface!G16","v":37.5},null,{"$f":"Interface!L11-(S429)","v":2.1875},{"$f":"Interface!M11-(T429)","v":2.5},{"$f":"Interface!N11-(U429)","v":0.9375},{"$f":"Interface!O11-(V429)","v":7.8125},"6        =   Secu",{"$f":"X432","v":0},{"$f":"Y432","v":0},"Cumul"]
[null,{"$f":"Carton!U10","v":"2023-01-02"},null,null,null,null,{"$f":"D4-C4+F4-E4","v":"00:00:00"},{"$f":"(G4-INT(G4))*24","v":0},{"$f":"IF(H4>0,H4-Interface!$G$9,0)","v":0},{"$f":"IF(I4>=0,\"+\",\"-\")","v":"+"},{"$f":"TIME(TRUNC(ABS(I4)),ROUND((ABS(I4)-TRUNC(ABS(I4)))*60,),0)","v":0},null,{"$f":"IF(H4>0,H4-Interface!$G$9,$M$2-Interface!$G$9)","v":-7.5},{"$f":"((M4-ROUNDDOWN(M4,0))/5*3)+ROUNDDOWN(M4,0)","v":-7.3},{"$f":"Interface!$S$9","v":4},"Report",{"$f":"(P3-INT(P3))*24","v":0},null,null,null,null,null,null,null,null,{"$f":"IF(S4>0,1,IF(T4>0,2,IF(U4>0,3,IF(V4>0,4,IF(W4>0,W4,IF(X4>0,7,\"\"))))))","v":""}]
[null,{"$f":"B4+1","v":"2023-01-03"},null,null,null,null,"00:00:00",0,{"$f":"IF(H5>0,H5-Interface!$G$10+I4,0+I4)","v":0},"+",0,null,{"$f":"IF(H5>0,H5-Interface!$G$10+M4,$M$2-Interface!$G$10+M4)","v":-15},-15,{"$f":"Interface!$S$11","v":1},"En Plus",{"$f":"IF(M10>0,M10,0)","v":0},null,null,null,null,null,null,null,null,{"$f":"IF(S5>0,1,IF(T5>0,2,IF(U5>0,3,IF(V5>0,4,IF(W5>0,W5,IF(X5>0,7,\"\"))))))","v":""},null,"Couleur de fond              du Calcul"]
[null,{"$f":"B5+1","v":"2023-01-04"},null,null,null,null,"00:00:00",0,{"$f":"IF(H6>0,H6-Interface!$G$11+I5,0+I5)","v":0},"+",0,null,{"$f":"IF(H6>0,H6-Interface!$G$11+M5,$M$2-Interface!$G$11+M5)","v":-22.5},-22.3,0.01,"Retenue +",{"$f":"IF(Q5 > O9,O5,Q5)","v":0},null,null,null,null,null,null,null,null,""]
[null,"2023-01-05",null,null,null,null,"00:00:00",0,{"$f":"IF(H7>0,H7-Interface!$G$12+I6,0+I6)","v":0},"+",0,null,{"$f":"IF(H7>0,H7-Interface!$G$12+M6,$M$2-Interface!$G$12+M6)","v":-30},-30,{"$f":"IF(Q7<0,-Q7,Q7)","v":0},"En Moins",{"$f":"IF(M10<-($Q$3-O6),0,IF(M10<0,M10,0))","v":0},null,null,null,null,null,null,null,null,""]
[null,"2023-01-06",null,null,null,null,"00:00:00",0,{"$f":"IF(H8>0,H8-Interface!$G$13+I7,0+I7)","v":0},"+",0,null,{"$f":"IF(H8>0,H8-Interface!$G$13+M7,$M$2-Interface!$G$13+M7)","v":-37.5},-37.299999999999997,{"$f":"SUM(O5-O6)","v":0.99},"Retenue -",{"$f":"IF(Q7=-Q3,0,IF(Q7>=0,0,IF(Q7>-O8,IF(Q4<O5,IF(Q7>-O8,IF(Q4=O7,Q7,IF(O7>Q4,IF((Q4-O5)<Q7,IF(O7>Q4,-Q4,Q4+Q7),-Q4),Q7)),Q7),Q7),IF(Q4<O5,IF(Q7>=-O8,44,Q4+Q7),-O5))))","v":0},null,null,null,null,null,null,null,null,"",null,null,2,null,null,7]
[null,"2023-01-07",null,null,null,null,"00:00:00",0,{"$f":"IF(H9>0,H9-Interface!$G$14+I8,0+I8)","v":0},"+",0,null,{"$f":"IF(H9>0,H9-Interface!$G$14+M8,$M$2-Interface!$G$14+M8)","v":-37.5},-37.299999999999997,{"$f":"SUM(O5+O6)","v":1.01},{"$f":"IF(M10=0,Q4, IF(M10=-$Q$3,Q4,IF(Q4+Q6>O4,0,IF(Q4<O5,IF(Q6>0,Q4+Q8+Q6,Q4-O7),0))))","v":0},{"$f":"IF(M10=-$Q$3,0,IF(Q4+Q6>O4,O4,IF(Q4>=O5,IF(Q8<=-O6,Q4+Q8,Q4+Q6),0)))","v":0},null,null,null,null,null,null,null,null,""]
[null,"2023-01-08",null,null,null,null,"00:00:00",0,{"$f":"IF(H10>0,H10-Interface!$G$15+I9,0+I9)","v":0},"+",0,null,{"$f":"IF(H10>0,H10-Interface!$G$15+M9,$M$2-Interface!$G$15+M9)","v":-37.5},-37.299999999999997,null,{"$f":"IF(M10=0,Q4,IF((P9+Q9)<=0,0,P9+Q9))","v":0},{"$f":"IF(M10=-$Q$3,0,IF(M10<-O6,IF(Q4>-O8,IF(Q4<O5,IF(Q7<-O8,Q8,IF(Q4=0,Q7,IF(Q4=O7,Q4+Q7,Q7-Q8))),IF(Q7<=-O5,Q7-Q8,IF((Q4-Q8)>0,0,41))),0),0))","v":0},null,null,null,null,null,null,null,null,"",null,null,3,null,null,8]
[null,null,"Ajustement Compteur",null,0,1,{"$f":"G4+G5+G6+G7+G8+G9+G10","v":0},{"$f":"SUM(H4:H10)","v":0},{"$f":"I10","v":0},{"$f":"IF(I11>=0,\"+\",\"-\")","v":"+"},{"$f":"TIME(TRUNC(ABS(I11)),ROUND((ABS(I11)-TRUNC(ABS(I11)))*60,),0)","v":0},null,{"$f":"M10","v":-37.5},-37.299999999999997,{"$f":"((P11-INT(P11))*5/3)+INT(P11)","v":0},{"$f":"((P10-INT(P10))*3/5)+INT(P10)+E11","v":0},{"$f":"((Q10-ROUNDDOWN(Q10,0))/5*3)+ROUNDDOWN(Q10,0)","v":0},null,{"$f":"SUM(S4:S10)","v":0},{"$f":"SUM(T4:T10)","v":0},{"$f":"SUM(U4:U10)","v":0},{"$f":"SUM(V4:V10)","v":0},null,{"$f":"SUM(X4:X10)","v":0},{"$f":"SUM(Y4:Y10)+IF(Interface!$P$11=O5,IF(Q4<O4,IF(Q4+Q5>(O4-O6),Q4+Q5-O4,0),Q5))","v":0}]
[null,{"$f":"B10+1","v":"2023-01-09"},null,null,null,null,{"$f":"D12-C12+F12-E12","v":"00:00:00"},{"$f":"(G12-INT(G12))*24","v":0},{"$f":"IF(H12>0,H12-Interface!$G$9,0)","v":0},{"$f":"IF(I12>=0,\"+\",\"-\")","v":"+"},{"$f":"TIME(TRUNC(ABS(I12)),ROUND((ABS(I12)-TRUNC(ABS(I12)))*60,),0)","v":0},null,{"$f":"IF(H12>0,H12-Interface!$G$9,$M$2-Interface!$G$9)","v":-7.5},-7.3,{"$f":"Interface!$S$9","v":4},"Report",{"$f":"O11","v":0},null,null,null,null,null,null,null,null,{"$f":"IF(S12>0,1,IF(T12>0,2,IF(U12>0,3,IF(V12>0,4,IF(W12>0,W12,IF(X12>0,7,\"\"))))))","v":""},null,null,4,null,null,9]
[null,{"$f":"B12+1","v":"2023-01-10"},null,null,null,null,"00:00:00",0,{"$f":"IF(H13>0,H13-Interface!$G$10+I12,0+I12)","v":0},"+",0,null,{"$f":"IF(H13>0,H13-Interface!$G$10+M12,$M$2-Interface!$G$10+M12)","v":-15},-15,{"$f":"Interface!$S$11","v":1},"En Plus",{"$f":"IF(M18>0,M18,0)","v":0},null,null,null,null,null,null,null,null,{"$f":"IF(S13>0,1,IF(T13>0,2,IF(U13>0,3,IF(V13>0,4,IF(W13>0,W13,IF(X13>0,7,\"\"))))))","v":""}]
[null,"2023-01-11",null,null,null,null,"00:00:00",0,{"$f":"IF(H14>0,H14-Interface!$G$11+I13,0+I13)","v":0},"+",0,null,{"$f":"IF(H14>0,H14-Interface!$G$11+M13,$M$2-Interface!$G$11+M13)","v":-22.5},-22.3,0.01,"Retenue +",{"$f":"IF(Q13 > O17,O13,Q13)","v":0},null,null,null,null,null,null,null,null,"",null,null,5,null,null,10]
[null,"2023-01-12",null,null,null,null,"00:00:00",0,{"$f":"IF(H15>0,H15-Interface!$G$12+I14,0+I14)","v":0},"+",0,null,{"$f":"IF(H15>0,H15-Interface!$G$12+M14,$M$2-Interface!$G$12+M14)","v":-30},-30,{"$f":"IF(Q15<0,-Q15,Q15)","v":0},"En Moins",{"$f":"IF(M18<-($Q$3-O14),0,IF(M18<0,M18,0))","v":0},null,null,null,null,null,null,null,null,""]
[null,"2023-01-13",null,null,null,null,"00:00:00",0,{"$f":"IF(H16>0,H16-Interface!$G$13+I15,0+I15)","v":0},"+",0,null,{"$f":"IF(H16>0,H16-Interface!$G$13+M15,$M$2-Interface!$G$13+M15)","v":-37.5},-37.299999999999997,{"$f":"SUM(O13-O14)","v":0.99},"Retenue -",{"$f":"IF(Q15=-Q11,0,IF(Q15>=0,0,IF(Q15>-O16,IF(Q12<O13,IF(Q15>-O16,IF(Q12=O15,Q15,IF(O15>Q12,IF((Q12-O13)<Q15,IF(O15>Q12,-Q12,Q12+Q15),-Q12),Q15)),Q15),Q15),IF(Q12<O13,IF(Q15>=-O16,44,Q12+Q15),-O13))))","v":0},null,null,null,null,null,null,null,null,"",null,null,6,null,null,11]
[null,"2023-01-14",null,null,null,null,"00:00:00",0,{"$f":"IF(H17>0,H17-Interface!$G$14+I16,0+I16)","v":0},"+",0,null,{"$f":"IF(H17>0,H17-Interface!$G$14+M16,$M$2-Interface!$G$14+M16)","v":-37.5},-37.299999999999997,{"$f":"SUM(O13+O14)","v":1.01},{"$f":"IF(M18=0,Q12, IF(M18=-$Q$3,Q12,IF(Q12+Q14>O12,0,IF(Q12<O13,IF(Q14>0,Q12+Q16+Q14,Q12-O15),0))))","v":0},{"$f":"IF(M18=-$Q$3,0,IF(Q12+Q14>O12,O12,IF(Q12>=O13,IF(Q16<=-O14,Q12+Q16,Q12+Q14),0)))","v":0},null,null,null,null,null,null,null,null,""]
[null,"2023-01-15",null,null,null,null,"00:00:00",0,{"$f":"IF(H18>0,H18-Interface!$G$15+I17,0+I17)","v":0},"+",0,null,{"$f":"IF(H18>0,H18-Interface!$G$15+M17,$M$2-Interface!$G$15+M17)","v":-37.5},-37.299999999999997,null,{"$f":"IF(M18=0,Q12,IF((P17+Q17)<=0,0,P17+Q17))","v":0},{"$f":"IF(M18=-$Q$3,0,IF(M18<-O14,IF(Q12>-O16,IF(Q12<O13,IF(Q15<-O16,Q16,IF(Q12=0,Q15,IF(Q12=O15,Q12+Q15,Q15-Q16))),IF(Q15<=-O13,Q15-Q16,IF((Q12-Q16)>0,0,41))),0),0))","v":0},null,null,null,null,null,null,null,null,""]
[null,null,"Ajustement Compteur",null,0,{"$f":"F11+1","v":2},{"$f":"G12+G13+G14+G15+G16+G17+G18","v":0},{"$f":"SUM(H12:H18)","v":0},{"$f":"I18","v":0},"+",0,null,{"$f":"M18","v":-37.5},-37.299999999999997,{"$f":"((P19-INT(P19))*5/3)+INT(P19)","v":0},{"$f":"((P18-INT(P18))*3/5)+INT(P18)+E19","v":0},{"$f":"((Q18-ROUNDDOWN(Q18,0))/5*3)+ROUNDDOWN(Q18,0)","v":0},null,{"$f":"SUM(S12:S18)","v":0},{"$f":"SUM(T12:T18)","v":0},{"$f":"SUM(U12:U18)","v":0},{"$f":"SUM(V12:V18)","v":0},null,{"$f":"SUM(X12:X18)","v":0},{"$f":"SUM(Y12:Y18)+IF(Interface!$P$11=O13,IF(Q12<O12,IF(Q12+Q13>(O12-O14),Q12+Q13-O12,0),Q13))","v":0}]
[null,{"$f":"B18+1","v":"2023-01-16"},null,null,null,null,{"$f":"D20-C20+F20-E20","v":"00:00:00"},{"$f":"(G20-INT(G20))*24","v":0},{"$f":"IF(H20>0,H20-Interface!$G$9,0)","v":0},"+",0,null,{"$f":"IF(H20>0,H20-Interface!$G$9,$M$2-Interface!$G$9)","v":-7.5},-7.3,{"$f":"Interface!$S$9","v":4},"Report",{"$f":"O19","v":0},null,null,null,null,null,null,null,null,{"$f":"IF(S20>0,1,IF(T20>0,2,IF(U20>0,3,IF(V20>0,4,IF(W20>0,W20,IF(X20>0,7,\"\"))))))","v":""},null,"Votre Choix"]
[null,{"$f":"B20+1","v":"2023-01-17"},null,null,null,null,"00:00:00",0,{"$f":"IF(H21>0,H21-Interface!$G$10+I20,0+I20)","v":0},"+",0,null,{"$f":"IF(H21>0,H21-Interface!$G$10+M20,$M$2-Interface!$G$10+M20)","v":-15},-15,{"$f":"Interface!$S$11","v":1},"En Plus",{"$f":"IF(M26>0,M26,0)","v":0},null,null,null,null,null,null,null,null,{"$f":"IF(S21>0,1,IF(T21>0,2,IF(U21>0,3,IF(V21>0,4,IF(W21>0,W21,IF(X21>0,7,\"\"))))))","v":""}]
[null,"2023-01-18",null,null,null,null,"00:00:00",0,{"$f":"IF(H22>0,H22-Interface!$G$11+I21,0+I21)","v":0},"+",0,null,{"$f":"IF(H22>0,H22-Interface!$G$11+M21,$M$2-Interface!$G$11+M21)","v":-22.5},-22.3,0.01,"Retenue +",{"$f":"IF(Q21 > O25,O21,Q21)","v":0},null,null,null,null,null,null,null,null,"",null,null,4]
[null,"2023-01-19",null,null,null,null,"00:00:00",0,{"$f":"IF(H23>0,H23-Interface!$G$12+I22,0+I22)","v":0},"+",0,null,{"$f":"IF(H23>0,H23-Interface!$G$12+M22,$M$2-Interface!$G$12+M22)","v":-30},-30,{"$f":"IF(Q23<0,-Q23,Q23)","v":0},"En Moins",{"$f":"IF(M26<-($Q$3-O22),0,IF(M26<0,M26,0))","v":0},null,null,null,null,null,null,null,null,""]
[null,"2023-01-20",null,null,null,null,"00:00:00",0,{"$f":"IF(H24>0,H24-Interface!$G$13+I23,0+I23)","v":0},"+",0,null,{"$f":"IF(H24>0,H24-Interface!$G$13+M23,$M$2-Interface!$G$13+M23)","v":-37.5},-37.299999999999997,{"$f":"SUM(O21-O22)","v":0.99},"Retenue -",{"$f":"IF(Q23=-Q19,0,IF(Q23>=0,0,IF(Q23>-O24,IF(Q20<O21,IF(Q23>-O24,IF(Q20=O23,Q23,IF(O23>Q20,IF((Q20-O21)<Q23,IF(O23>Q20,-Q20,Q20+Q23),-Q20),Q23)),Q23),Q23),IF(Q20<O21,IF(Q23>=-O24,44,Q20+Q23),-O21))))","v":0},null,null,null,null,null,null,null,null,""]
[null,"2023-01-21",null,null,null,null,"00:00:00",0,{"$f":"IF(H25>0,H25-Interface!$G$14+I24,0+I24)","v":0},"+",0,null,{"$f":"IF(H25>0,H25-Interface!$G$14+M24,$M$2-Interface!$G$14+M24)","v":-37.5},-37.299999999999997,{"$f":"SUM(O21+O22)","v":1.01},{"$f":"IF(M26=0,Q20, IF(M26=-$Q$3,Q20,IF(Q20+Q22>O20,0,IF(Q20<O21,IF(Q22>0,Q20+Q24+Q22,Q20-O23),0))))","v":0},{"$f":"IF(M26=-$Q$3,0,IF(Q20+Q22>O20,O20,IF(Q20>=O21,IF(Q24<=-O22,Q20+Q24,Q20+Q22),0)))","v":0},null,null,null,null,null,null,null,null,""]
[null,"2023-01-22",null,null,null,null,"00:00:00",0,{"$f":"IF(H26>0,H26-Interface!$G$15+I25,0+I25)","v":0},"+",0,null,{"$f":"IF(H26>0,H26-Interface!$G$15+M25,$M$2-Interface!$G$15+M25)","v":-37.5},-37.299999999999997,null,{"$f":"IF(M26=0,Q20,IF((P25+Q25)<=0,0,P25+Q25))","v":0},{"$f":"IF(M26=-$Q$3,0,IF(M26<-O22,IF(Q20>-O24,IF(Q20<O21,IF(Q23<-O24,Q24,IF(Q20=0,Q23,IF(Q20=O23,Q20+Q23,Q23-Q24))),IF(Q23<=-O21,Q23-Q24,IF((Q20-Q24)>0,0,41))),0),0))","v":0},null,null,null,null,null,null,null,null,""]
[null,null,"Ajustement Compteur",null,0,{"$f":"F19+1","v":3},{"$f":"G20+G21+G22+G23+G24+G25+G26","v":0},{"$f":"SUM(H20:H26)","v":0},{"$f":"I26","v":0},"+",0,null,{"$f":"M26","v":-37.5},-37.299999999999997,{"$f":"((P27-INT(P27))*5/3)+INT(P27)","v":0},{"$f":"((P26-INT(P26))*3/5)+INT(P26)+E27","v":0},{"$f":"((Q26-ROUNDDOWN(Q26,0))/5*3)+ROUNDDOWN(Q26,0)","v":0},null,{"$f":"SUM(S20:S26)","v":0},0,0,0,null,{"$f":"SUM(X20:X26)","v":0},{"$f":"SUM(Y20:Y26)+IF(Interface!$P$11=O21,IF(Q20<O20,IF(Q20+Q21>(O20-O22),Q20+Q21-O20,0),Q21))","v":0}]
[null,{"$f":"B26+1","v":"2023-01-23"},null,null,null,null,{"$f":"D28-C28+F28-E28","v":"00:00:00"},{"$f":"(G28-INT(G28))*24","v":0},{"$f":"IF(H28>0,H28-Interface!$G$9,0)","v":0},"+",0,null,{"$f":"IF(H28>0,H28-Interface!$G$9,$M$2-Interface!$G$9)","v":-7.5},-7.3,{"$f":"Interface!$S$9","v":4},"Report",{"$f":"O27","v":0},null,null,null,null,null,null,null,null,{"$f":"IF(S28>0,1,IF(T28>0,2,IF(U28>0,3,IF(V28>0,4,IF(W28>0,W28,IF(X28>0,7,\"\"))))))","v":""}]
[null,{"$f":"B28+1","v":"2023-01-24"},null,null,null,null,"00:00:00",0,{"$f":"IF(H29>0,H29-Interface!$G$10+I28,0+I28)","v":0},"+",0,null,{"$f":"IF(H29>0,H29-Interface!$G$10+M28,$M$2-Interface!$G$10+M28)","v":-15},-15,{"$f":"Interface!$S$11","v":1},"En Plus",{"$f":"IF(M34>0,M34,0)","v":0},null,null,null,null,null,null,null,null,{"$f":"IF(S29>0,1,IF(T29>0,2,IF(U29>0,3,IF(V29>0,4,IF(W29>0,W29,IF(X29>0,7,\"\"))))))","v":""}]
[null,"2023-01-25",null,null,null,null,"00:00:00",0,{"$f":"IF(H30>0,H30-Interface!$G$11+I29,0+I29)","v":0},"+",0,null,{"$f":"IF(H30>0,H30-Interface!$G$11+M29,$M$2-Interface!$G$11+M29)","v":-22.5},-22.3,0.01,"Retenue +",{"$f":"IF(Q29 > O33,O29,Q29)","v":0},null,null,null,null,null,null,null,null,""]
[null,"2023-01-26",null,null,null,null,"00:00:00",0,{"$f":"IF(H31>0,H31-Interface!$G$12+I30,0+I30)","v":0},"+",0,null,{"$f":"IF(H31>0,H31-Interface!$G$12+M30,$M$2-Interface!$G$12+M30)","v":-30},-30,{"$f":"IF(Q31<0,-Q31,Q31)","v":0},"En Moins",{"$f":"IF(M34<-($Q$3-O30),0,IF(M34<0,M34,0))","v":0},null,null,null,null,null,null,null,null,""]
[null,"2023-01-27",null,null,null,null,"00:00:00",0,{"$f":"IF(H32>0,H32-Interface!$G$13+I31,0+I31)","v":0},"+",0,null,{"$f":"IF(H32>0,H32-Interface!$G$13+M31,$M$2-Interface!$G$13+M31)","v":-37.5},-37.299999999999997,{"$f":"SUM(O29-O30)","v":0.99},"Retenue -",{"$f":"IF(Q31=-Q27,0,IF(Q31>=0,0,IF(Q31>-O32,IF(Q28<O29,IF(Q31>-O32,IF(Q28=O31,Q31,IF(O31>Q28,IF((Q28-O29)<Q31,IF(O31>Q28,-Q28,Q28+Q31),-Q28),Q31)),Q31),Q31),IF(Q28<O29,IF(Q31>=-O32,44,Q28+Q31),-O29))))","v":0},null,null,null,null,null,null,null,null,""]
[null,"2023-01-28",null,null,null,null,"00:00:00",0,{"$f":"IF(H33>0,H33-Interface!$G$14+I32,0+I32)","v":0},"+",0,null,{"$f":"IF(H33>0,H33-Interface!$G$14+M32,$M$2-Interface!$G$14+M32)","v":-37.5},-37.299999999999997,{"$f":"SUM(O29+O30)","v":1.01},{"$f":"IF(M34=0,Q28, IF(M34=-$Q$3,Q28,IF(Q28+Q30>O28,0,IF(Q28<O29,IF(Q30>0,Q28+Q32+Q30,Q28-O31),0))))","v":0},{"$f":"IF(M34=-$Q$3,0,IF(Q28+Q30>O28,O28,IF(Q28>=O29,IF(Q32<=-O30,Q28+Q32,Q28+Q30),0)))","v":0},null,null,null,null,null,null,null,null,""]
[null,"2023-01-29",null,null,null,null,"00:00:00",0,{"$f":"IF(H34>0,H34-Interface!$G$15+I33,0+I33)","v":0},"+",0,null,{"$f":"IF(H34>0,H34-Interface!$G$15+M33,$M$2-Interface!$G$15+M33)","v":-37.5},-37.299999999999997,null,{"$f":"IF(M34=0,Q28,IF((P33+Q33)<=0,0,P33+Q33))","v":0},{"$f":"IF(M34=-$Q$3,0,IF(M34<-O30,IF(Q28>-O32,IF(Q28<O29,IF(Q31<-O32,Q32,IF(Q28=0,Q31,IF(Q28=O31,Q28+Q31,Q31-Q32))),IF(Q31<=-O29,Q31-Q32,IF((Q28-Q32)>0,0,41))),0),0))","v":0},null,null,null,null,null,null,null,null,""]
[null,null,"Ajustement Compteur",null,0,{"$f":"F27+1","v":4},{"$f":"G28+G29+G30+G31+G32+G33+G34","v":0},{"$f":"SUM(H28:H34)","v":0},{"$f":"I34","v":0},"+",0,null,-37.5,-37.299999999999997,{"$f":"((P35-INT(P35))*5/3)+INT(P35)","v":0},{"$f":"((P34-INT(P34))*3/5)+INT(P34)+E35","v":0},{"$f":"((Q34-ROUNDDOWN(Q34,0))/5*3)+ROUNDDOWN(Q34,0)","v":0},null,{"$f":"SUM(S28:S34)","v":0},0,0,0,null,{"$f":"SUM(X28:X34)","v":0},{"$f":"SUM(Y28:Y34)+IF(Interface!$P$11=O29,IF(Q28<O28,IF(Q28+Q29>(O28-O30),Q28+Q29-O28,0),Q29))","v":0}]
[null,{"$f":"B34+1","v":"2023-01-30"},null,null,null,null,{"$f":"D36-C36+F36-E36","v":"00:00:00"},{"$f":"(G36-INT(G36))*24","v":0},{"$f":"IF(H36>0,H36-Interface!$G$9,0)","v":0},"+",0,null,{"$f":"IF(H36>0,H36-Interface!$G$9,$M$2-Interface!$G$9)","v":-7.5},-7.3,{"$f":"Interface!$S$9","v":4},"Report",{"$f":"O35","v":0},null,null,null,null,null,null,null,null,{"$f":"IF(S36>0,1,IF(T36>0,2,IF(U36>0,3,IF(V36>0,4,IF(W36>0,W36,IF(X36>0,7,\"\"))))))","v":""}]
[null,{"$f":"B36+1","v":"2023-01-31"},null,null,null,null,"00:00:00",0,{"$f":"IF(H37>0,H37-Interface!$G$10+I36,0+I36)","v":0},"+",0,null,{"$f":"IF(H37>0,H37-Interface!$G$10+M36,$M$2-Interface!$G$10+M36)","v":-15},-15,{"$f":"Interface!$S$11","v":1},"En Plus",{"$f":"IF(M42>0,M42,0)","v":0},null,null,null,null,null,null,null,null,{"$f":"IF(S37>0,1,IF(T37>0,2,IF(U37>0,3,IF(V37>0,4,IF(W37>0,W37,IF(X37>0,7,\"\"))))))","v":""}]
[null,"2023-02-01",null,null,null,null,"00:00:00",0,{"$f":"IF(H38>0,H38-Interface!$G$11+I37,0+I37)","v":0},"+",0,null,{"$f":"IF(H38>0,H38-Interface!$G$11+M37,$M$2-Interface!$G$11+M37)","v":-22.5},-22.3,0.01,"Retenue +",{"$f":"IF(Q37 > O41,O37,Q37)","v":0},null,null,null,null,null,null,null,null,""]
[null,"2023-02-02",null,null,null,null,"00:00:00",0,{"$f":"IF(H39>0,H39-Interface!$G$12+I38,0+I38)","v":0},"+",0,null,{"$f":"IF(H39>0,H39-Interface!$G$12+M38,$M$2-Interface!$G$12+M38)","v":-30},-30,{"$f":"IF(Q39<0,-Q39,Q39)","v":0},"En Moins",{"$f":"IF(M42<-($Q$3-O38),0,IF(M42<0,M42,0))","v":0},null,null,null,null,null,null,null,null,""]
[null,"2023-02-03",null,null,null,null,"00:00:00",0,{"$f":"IF(H40>0,H40-Interface!$G$13+I39,0+I39)","v":0},"+",0,null,{"$f":"IF(H40>0,H40-Interface!$G$13+M39,$M$2-Interface!$G$13+M39)","v":-37.5},-37.299999999999997,{"$f":"SUM(O37-O38)","v":0.99},"Retenue -",{"$f":"IF(Q39=-Q35,0,IF(Q39>=0,0,IF(Q39>-O40,IF(Q36<O37,IF(Q39>-O40,IF(Q36=O39,Q39,IF(O39>Q36,IF((Q36-O37)<Q39,IF(O39>Q36,-Q36,Q36+Q39),-Q36),Q39)),Q39),Q39),IF(Q36<O37,IF(Q39>=-O40,44,Q36+Q39),-O37))))","v":0},null,null,null,null,null,null,null,null,""]
[null,"2023-02-04",null,null,null,null,"00:00:00",0,{"$f":"IF(H41>0,H41-Interface!$G$14+I40,0+I40)","v":0},"+",0,null,{"$f":"IF(H41>0,H41-Interface!$G$14+M40,$M$2-Interface!$G$14+M40)","v":-37.5},-37.299999999999997,{"$f":"SUM(O37+O38)","v":1.01},{"$f":"IF(M42=0,Q36, IF(M42=-$Q$3,Q36,IF(Q36+Q38>O36,0,IF(Q36<O37,IF(Q38>0,Q36+Q40+Q38,Q36-O39),0))))","v":0},{"$f":"IF(M42=-$Q$3,0,IF(Q36+Q38>O36,O36,IF(Q36>=O37,IF(Q40<=-O38,Q36+Q40,Q36+Q38),0)))","v":0},null,null,null,null,null,null,null,null,""]
[null,"2023-02-05",null,null,null,null,"00:00:00",0,{"$f":"IF(H42>0,H42-Interface!$G$15+I41,0+I41)","v":0},"+",0,null,{"$f":"IF(H42>0,H42-Interface!$G$15+M41,$M$2-Interface!$G$15+M41)","v":-37.5},-37.299999999999997,null,{"$f":"IF(M42=0,Q36,IF((P41+Q41)<=0,0,P41+Q41))","v":0},{"$f":"IF(M42=-$Q$3,0,IF(M42<-O38,IF(Q36>-O40,IF(Q36<O37,IF(Q39<-O40,Q40,IF(Q36=0,Q39,IF(Q36=O39,Q36+Q39,Q39-Q40))),IF(Q39<=-O37,Q39-Q40,IF((Q36-Q40)>0,0,41))),0),0))","v":0},null,null,null,null,null,null,null,null,""]
[null,"Janvier","Ajustement Compteur",null,0,{"$f":"F35+1","v":5},{"$f":"G36+G37+G38+G39+G40+G41+G42","v":0},{"$f":"SUM(H36:H42)","v":0},{"$f":"I42","v":0},"+",0,null,-37.5,-37.299999999999997,{"$f":"((P43-INT(P43))*5/3)+INT(P43)","v":0},{"$f":"((P42-INT(P42))*3/5)+INT(P42)+E43","v":0},{"$f":"((Q42-ROUNDDOWN(Q42,0))/5*3)+ROUNDDOWN(Q42,0)","v":0},null,{"$f":"SUM(S36:S42)+S11+S19+S27+S35","v":0},{"$f":"SUM(T36:T42)+T11+T19+T27+T35","v":0},0,0,null,{"$f":"SUM(X36:X42)+X11+X19+X27+X35","v":0},{"$f":"(SUM(Y36:Y42)+Y35+Y27+Y19+Y11)+IF(Interface!$Q$12=1,IF(Q36<O28,IF(Q36+Q37>(O28-O30),Q36+Q37-O36,0),Q37))","v":0}]
[null,{"$f":"B42+1","v":"2023-02-06"},null,null,null,null,{"$f":"D44-C44+F44-E44","v":"00:00:00"},{"$f":"(G44-INT(G44))*24","v":0},{"$f":"IF(H44>0,H44-Interface!$G$9,0)","v":0},"+",0,null,{"$f":"IF(H44>0,H44-Interface!$G$9,$M$2-Interface!$G$9)","v":-7.5},-7.3,{"$f":"Interface!$S$9","v":4},"Report",{"$f":"O43","v":0},null,null,null,null,null,null,null,null,{"$f":"IF(S44>0,1,IF(T44>0,2,IF(U44>0,3,IF(V44>0,4,IF(W44>0,W44,IF(X44>0,7,\"\"))))))","v":""}]
[null,{"$f":"B44+1","v":"2023-02-07"},null,null,null,null,"00:00:00",0,{"$f":"IF(H45>0,H45-Interface!$G$10+I44,0+I44)","v":0},"+",0,null,{"$f":"IF(H45>0,H45-Interface!$G$10+M44,$M$2-Interface!$G$10+M44)","v":-15},-15,{"$f":"Interface!$S$11","v":1},"En Plus",{"$f":"IF(M50>0,M50,0)","v":0},null,null,null,null,null,null,null,null,{"$f":"IF(S45>0,1,IF(T45>0,2,IF(U45>0,3,IF(V45>0,4,IF(W45>0,W45,IF(X45>0,7,\"\"))))))","v":""}]
[null,"2023-02-08",null,null,null,null,"00:00:00",0,{"$f":"IF(H46>0,H46-Interface!$G$11+I45,0+I45)","v":0},"+",0,null,{"$f":"IF(H46>0,H46-Interface!$G$11+M45,$M$2-Interface!$G$11+M45)","v":-22.5},-22.3,0.01,"Retenue +",{"$f":"IF(Q45 > O49,O45,Q45)","v":0},null,null,null,null,null,null,null,null,""]
[null,"2023-02-09",null,null,null,null,"00:00:00",0,{"$f":"IF(H47>0,H47-Interface!$G$12+I46,0+I46)","v":0},"+",0,null,{"$f":"IF(H47>0,H47-Interface!$G$12+M46,$M$2-Interface!$G$12+M46)","v":-30},-30,{"$f":"IF(Q47<0,-Q47,Q47)","v":0},"En Moins",{"$f":"IF(M50<-($Q$3-O46),0,IF(M50<0,M50,0))","v":0},null,null,null,null,null,null,null,null,""]
[null,"2023-02-10",null,null,null,null,"00:00:00",0,{"$f":"IF(H48>0,H48-Interface!$G$13+I47,0+I47)","v":0},"+",0,null,{"$f":"IF(H48>0,H48-Interface!$G$13+M47,$M$2-Interface!$G$13+M47)","v":-37.5},-37.299999999999997,{"$f":"SUM(O45-O46)","v":0.99},"Retenue -",{"$f":"IF(Q47=-Q43,0,IF(Q47>=0,0,IF(Q47>-O48,IF(Q44<O45,IF(Q47>-O48,IF(Q44=O47,Q47,IF(O47>Q44,IF((Q44-O45)<Q47,IF(O47>Q44,-Q44,Q44+Q47),-Q44),Q47)),Q47),Q47),IF(Q44<O45,IF(Q47>=-O48,44,Q44+Q47),-O45))))","v":0},null,null,null,null,null,null,null,null,""]
[null,"2023-02-11",null,null,null,null,"00:00:00",0,{"$f":"IF(H49>0,H49-Interface!$G$14+I48,0+I48)","v":0},"+",0,null,{"$f":"IF(H49>0,H49-Interface!$G$14+M48,$M$2-Interface!$G$14+M48)","v":-37.5},-37.299999999999997,{"$f":"SUM(O45+O46)","v":1.01},{"$f":"IF(M50=0,Q44, IF(M50=-$Q$3,Q44,IF(Q44+Q46>O44,0,IF(Q44<O45,IF(Q46>0,Q44+Q48+Q46,Q44-O47),0))))","v":0},{"$f":"IF(M50=-$Q$3,0,IF(Q44+Q46>O44,O44,IF(Q44>=O45,IF(Q48<=-O46,Q44+Q48,Q44+Q46),0)))","v":0},null,null,null,null,null,null,null,null,""]
[null,"2023-02-12",null,null,null,null,"00:00:00",0,{"$f":"IF(H50>0,H50-Interface!$G$15+I49,0+I49)","v":0},"+",0,null,{"$f":"IF(H50>0,H50-Interface!$G$15+M49,$M$2-Interface!$G$15+M49)","v":-37.5},-37.299999999999997,null,{"$f":"IF(M50=0,Q44,IF((P49+Q49)<=0,0,P49+Q49))","v":0},{"$f":"IF(M50=-$Q$3,0,IF(M50<-O46,IF(Q44>-O48,IF(Q44<O45,IF(Q47<-O48,Q48,IF(Q44=0,Q47,IF(Q44=O47,Q44+Q47,Q47-Q48))),IF(Q47<=-O45,Q47-Q48,IF((Q44-Q48)>0,0,41))),0),0))","v":0},null,null,null,null,null,null,null,null,""]
[null,null,"Ajustement Compteur",null,0,{"$f":"F43+1","v":6},{"$f":"G44+G45+G46+G47+G48+G49+G50","v":0},{"$f":"SUM(H44:H50)","v":0},{"$f":"I50","v":0},"+",0,null,-37.5,-37.299999999999997,{"$f":"((P51-INT(P51))*5/3)+INT(P51)","v":0},{"$f":"((P50-INT(P50))*3/5)+INT(P50)+E51","v":0},{"$f":"((Q50-ROUNDDOWN(Q50,0))/5*3)+ROUNDDOWN(Q50,0)","v":0},null,{"$f":"SUM(S44:S50)","v":0},0,0,0,null,{"$f":"SUM(X44:X50)","v":0},{"$f":"SUM(Y44:Y50)+IF(Interface!$P$11=O45,IF(Q44<O44,IF(Q44+Q45>(O44-O46),Q44+Q45-O44,0),Q45))","v":0}]
[null,{"$f":"B50+1","v":"2023-02-13"},null,null,null,null,{"$f":"D52-C52+F52-E52","v":"00:00:00"},{"$f":"(G52-INT(G52))*24","v":0},{"$f":"IF(H52>0,H52-Interface!$G$9,0)","v":0},"+",0,null,{"$f":"IF(H52>0,H52-Interface!$G$9,$M$2-Interface!$G$9)","v":-7.5},-7.3,{"$f":"Interface!$S$9","v":4},"Report",{"$f":"O51","v":0},null,null,null,null,null,null,null,null,{"$f":"IF(S52>0,1,IF(T52>0,2,IF(U52>0,3,IF(V52>0,4,IF(W52>0,W52,IF(X52>0,7,\"\"))))))","v":""}]
[null,{"$f":"B52+1","v":"2023-02-14"},null,null,null,null,"00:00:00",0,{"$f":"IF(H53>0,H53-Interface!$G$10+I52,0+I52)","v":0},"+",0,null,{"$f":"IF(H53>0,H53-Interface!$G$10+M52,$M$2-Interface!$G$10+M52)","v":-15},-15,{"$f":"Interface!$S$11","v":1},"En Plus",{"$f":"IF(M58>0,M58,0)","v":0},null,null,null,null,null,null,null,null,{"$f":"IF(S53>0,1,IF(T53>0,2,IF(U53>0,3,IF(V53>0,4,IF(W53>0,W53,IF(X53>0,7,\"\"))))))","v":""}]
[null,"2023-02-15",null,null,null,null,"00:00:00",0,{"$f":"IF(H54>0,H54-Interface!$G$11+I53,0+I53)","v":0},"+",0,null,{"$f":"IF(H54>0,H54-Interface!$G$11+M53,$M$2-Interface!$G$11+M53)","v":-22.5},-22.3,0.01,"Retenue +",{"$f":"IF(Q53 > O57,O53,Q53)","v":0},null,null,null,null,null,null,null,null,""]
[null,"2023-02-16",null,null,null,null,"00:00:00",0,{"$f":"IF(H55>0,H55-Interface!$G$12+I54,0+I54)","v":0},"+",0,null,{"$f":"IF(H55>0,H55-Interface!$G$12+M54,$M$2-Interface!$G$12+M54)","v":-30},-30,{"$f":"IF(Q55<0,-Q55,Q55)","v":0},"En Moins",{"$f":"IF(M58<-($Q$3-O54),0,IF(M58<0,M58,0))","v":0},null,null,null,null,null,null,null,null,""]
[null,"2023-02-17",null,null,null,null,"00:00:00",0,{"$f":"IF(H56>0,H56-Interface!$G$13+I55,0+I55)","v":0},"+",0,null,{"$f":"IF(H56>0,H56-Interface!$G$13+M55,$M$2-Interface!$G$13+M55)","v":-37.5},-37.299999999999997,{"$f":"SUM(O53-O54)","v":0.99},"Retenue -",{"$f":"IF(Q55=-Q51,0,IF(Q55>=0,0,IF(Q55>-O56,IF(Q52<O53,IF(Q55>-O56,IF(Q52=O55,Q55,IF(O55>Q52,IF((Q52-O53)<Q55,IF(O55>Q52,-Q52,Q52+Q55),-Q52),Q55)),Q55),Q55),IF(Q52<O53,IF(Q55>=-O56,44,Q52+Q55),-O53))))","v":0},null,null,null,null,null,null,null,null,""]
[null,"2023-02-18",null,null,null,null,"00:00:00",0,{"$f":"IF(H57>0,H57-Interface!$G$14+I56,0+I56)","v":0},"+",0,null,{"$f":"IF(H57>0,H57-Interface!$G$14+M56,$M$2-Interface!$G$14+M56)","v":-37.5},-37.299999999999997,{"$f":"SUM(O53+O54)","v":1.01},{"$f":"IF(M58=0,Q52, IF(M58=-$Q$3,Q52,IF(Q52+Q54>O52,0,IF(Q52<O53,IF(Q54>0,Q52+Q56+Q54,Q52-O55),0))))","v":0},{"$f":"IF(M58=-$Q$3,0,IF(Q52+Q54>O52,O52,IF(Q52>=O53,IF(Q56<=-O54,Q52+Q56,Q52+Q54),0)))","v":0},null,null,null,null,null,null,null,null,""]
[null,"2023-02-19",null,null,null,null,"00:00:00",0,{"$f":"IF(H58>0,H58-Interface!$G$15+I57,0+I57)","v":0},"+",0,null,{"$f":"IF(H58>0,H58-Interface!$G$15+M57,$M$2-Interface!$G$15+M57)","v":-37.5},-37.299999999999997,null,{"$f":"IF(M58=0,Q52,IF((P57+Q57)<=0,0,P57+Q57))","v":0},{"$f":"IF(M58=-$Q$3,0,IF(M58<-O54,IF(Q52>-O56,IF(Q52<O53,IF(Q55<-O56,Q56,IF(Q52=0,Q55,IF(Q52=O55,Q52+Q55,Q55-Q56))),IF(Q55<=-O53,Q55-Q56,IF((Q52-Q56)>0,0,41))),0),0))","v":0},null,null,null,null,null,null,null,null,""]
[null,null,"Ajustement Compteur",null,0,{"$f":"F51+1","v":7},{"$f":"G52+G53+G54+G55+G56+G57+G58","v":0},{"$f":"SUM(H52:H58)","v":0},{"$f":"I58","v":0},"+",0,null,-37.5,-37.299999999999997,{"$f":"((P59-INT(P59))*5/3)+INT(P59)","v":0},{"$f":"((P58-INT(P58))*3/5)+INT(P58)+E59","v":0},{"$f":"((Q58-ROUNDDOWN(Q58,0))/5*3)+ROUNDDOWN(Q58,0)","v":0},null,{"$f":"SUM(S52:S58)","v":0},0,0,0,null,{"$f":"SUM(X52:X58)","v":0},{"$f":"SUM(Y52:Y58)+IF(Interface!$P$11=O53,IF(Q52<O52,IF(Q52+Q53>(O52-O54),Q52+Q53-O52,0),Q53))","v":0}]
[null,{"$f":"B58+1","v":"2023-02-20"},null,null,null,null,{"$f":"D60-C60+F60-E60","v":"00:00:00"},{"$f":"(G60-INT(G60))*24","v":0},{"$f":"IF(H60>0,H60-Interface!$G$9,0)","v":0},"+",0,null,{"$f":"IF(H60>0,H60-Interface!$G$9,$M$2-Interface!$G$9)","v":-7.5},-7.3,{"$f":"Interface!$S$9","v":4},"Report",{"$f":"O59","v":0},null,null,null,null,null,null,null,null,{"$f":"IF(S60>0,1,IF(T60>0,2,IF(U60>0,3,IF(V60>0,4,IF(W60>0,W60,IF(X60>0,7,\"\"))))))","v":""}]
[null,{"$f":"B60+1","v":"2023-02-21"},null,null,null,null,"00:00:00",0,{"$f":"IF(H61>0,H61-Interface!$G$10+I60,0+I60)","v":0},"+",0,null,{"$f":"IF(H61>0,H61-Interface!$G$10+M60,$M$2-Interface!$G$10+M60)","v":-15},-15,{"$f":"Interface!$S$11","v":1},"En Plus",{"$f":"IF(M66>0,M66,0)","v":0},null,null,null,null,null,null,null,null,{"$f":"IF(S61>0,1,IF(T61>0,2,IF(U61>0,3,IF(V61>0,4,IF(W61>0,W61,IF(X61>0,7,\"\"))))))","v":""}]
[null,"2023-02-22",null,null,null,null,"00:00:00",0,{"$f":"IF(H62>0,H62-Interface!$G$11+I61,0+I61)","v":0},"+",0,null,{"$f":"IF(H62>0,H62-Interface!$G$11+M61,$M$2-Interface!$G$11+M61)","v":-22.5},-22.3,0.01,"Retenue +",{"$f":"IF(Q61 > O65,O61,Q61)","v":0},null,null,null,null,null,null,null,null,""]
[null,"2023-02-23",null,null,null,null,"00:00:00",0,{"$f":"IF(H63>0,H63-Interface!$G$12+I62,0+I62)","v":0},"+",0,null,{"$f":"IF(H63>0,H63-Interface!$G$12+M62,$M$2-Interface!$G$12+M62)","v":-30},-30,{"$f":"IF(Q63<0,-Q63,Q63)","v":0},"En Moins",{"$f":"IF(M66<-($Q$3-O62),0,IF(M66<0,M66,0))","v":0},null,null,null,null,null,null,null,null,""]
[null,"2023-02-24",null,null,null,null,"00:00:00",0,{"$f":"IF(H64>0,H64-Interface!$G$13+I63,0+I63)","v":0},"+",0,null,{"$f":"IF(H64>0,H64-Interface!$G$13+M63,$M$2-Interface!$G$13+M63)","v":-37.5},-37.299999999999997,{"$f":"SUM(O61-O62)","v":0.99},"Retenue -",{"$f":"IF(Q63=-Q59,0,IF(Q63>=0,0,IF(Q63>-O64,IF(Q60<O61,IF(Q63>-O64,IF(Q60=O63,Q63,IF(O63>Q60,IF((Q60-O61)<Q63,IF(O63>Q60,-Q60,Q60+Q63),-Q60),Q63)),Q63),Q63),IF(Q60<O61,IF(Q63>=-O64,44,Q60+Q63),-O61))))","v":0},null,null,null,null,null,null,null,null,""]
[null,"2023-02-25",null,null,null,null,"00:00:00",0,{"$f":"IF(H65>0,H65-Interface!$G$14+I64,0+I64)","v":0},"+",0,null,{"$f":"IF(H65>0,H65-Interface!$G$14+M64,$M$2-Interface!$G$14+M64)","v":-37.5},-37.299999999999997,{"$f":"SUM(O61+O62)","v":1.01},{"$f":"IF(M66=0,Q60, IF(M66=-$Q$3,Q60,IF(Q60+Q62>O60,0,IF(Q60<O61,IF(Q62>0,Q60+Q64+Q62,Q60-O63),0))))","v":0},{"$f":"IF(M66=-$Q$3,0,IF(Q60+Q62>O60,O60,IF(Q60>=O61,IF(Q64<=-O62,Q60+Q64,Q60+Q62),0)))","v":0},null,null,null,null,null,null,null,null,""]
[null,"2023-02-26",null,null,null,null,"00:00:00",0,{"$f":"IF(H66>0,H66-Interface!$G$15+I65,0+I65)","v":0},"+",0,null,{"$f":"IF(H66>0,H66-Interface!$G$15+M65,$M$2-Interface!$G$15+M65)","v":-37.5},-37.299999999999997,null,{"$f":"IF(M66=0,Q60,IF((P65+Q65)<=0,0,P65+Q65))","v":0},{"$f":"IF(M66=-$Q$3,0,IF(M66<-O62,IF(Q60>-O64,IF(Q60<O61,IF(Q63<-O64,Q64,IF(Q60=0,Q63,IF(Q60=O63,Q60+Q63,Q63-Q64))),IF(Q63<=-O61,Q63-Q64,IF((Q60-Q64)>0,0,41))),0),0))","v":0},null,null,null,null,null,null,null,null,""]
[null,null,"Ajustement Compteur",null,0,{"$f":"F59+1","v":8},{"$f":"G60+G61+G62+G63+G64+G65+G66","v":0},{"$f":"SUM(H60:H66)","v":0},{"$f":"I66","v":0},"+",0,null,-37.5,-37.299999999999997,{"$f":"((P67-INT(P67))*5/3)+INT(P67)","v":0},{"$f":"((P66-INT(P66))*3/5)+INT(P66)+E67","v":0},{"$f":"((Q66-ROUNDDOWN(Q66,0))/5*3)+ROUNDDOWN(Q66,0)","v":0},null,{"$f":"SUM(S60:S66)","v":0},0,0,0,null,{"$f":"SUM(X60:X66)","v":0},{"$f":"SUM(Y60:Y66)+IF(Interface!$P$11=O61,IF(Q60<O60,IF(Q60+Q61>(O60-O62),Q60+Q61-O60,0),Q61))","v":0}]
[null,{"$f":"B66+1","v":"2023-02-27"},null,null,null,null,{"$f":"D68-C68+F68-E68","v":"00:00:00"},{"$f":"(G68-INT(G68))*24","v":0},{"$f":"IF(H68>0,H68-Interface!$G$9,0)","v":0},"+",0,null,{"$f":"IF(H68>0,H68-Interface!$G$9,$M$2-Interface!$G$9)","v":-7.5},{"$f":"((M68-ROUNDDOWN(M68,0))/5*3)+ROUNDDOWN(M68,0)","v":-7.3},{"$f":"Interface!$S$9","v":4},"Report",{"$f":"O67","v":0},null,null,null,null,null,null,null,null,{"$f":"IF(S68>0,1,IF(T68>0,2,IF(U68>0,3,IF(V68>0,4,IF(W68>0,W68,IF(X68>0,7,\"\"))))))","v":""}]
[null,{"$f":"B68+1","v":"2023-02-28"},null,null,null,null,"00:00:00",0,{"$f":"IF(H69>0,H69-Interface!$G$10+I68,0+I68)","v":0},"+",0,null,{"$f":"IF(H69>0,H69-Interface!$G$10+M68,$M$2-Interface!$G$10+M68)","v":-15},-15,{"$f":"Interface!$S$11","v":1},"En Plus",{"$f":"IF(M74>0,M74,0)","v":0},null,null,null,null,null,null,null,null,{"$f":"IF(S69>0,1,IF(T69>0,2,IF(U69>0,3,IF(V69>0,4,IF(W69>0,W69,IF(X69>0,7,\"\"))))))","v":""}]
[null,"2023-03-01",null,null,null,null,"00:00:00",0,{"$f":"IF(H70>0,H70-Interface!$G$11+I69,0+I69)","v":0},"+",0,null,{"$f":"IF(H70>0,H70-Interface!$G$11+M69,$M$2-Interface!$G$11+M69)","v":-22.5},-22.3,0.01,"Retenue +",{"$f":"IF(Q69 > O73,O69,Q69)","v":0},null,null,null,null,null,null,null,null,""]
[null,"2023-03-02",null,null,null,null,"00:00:00",0,{"$f":"IF(H71>0,H71-Interface!$G$12+I70,0+I70)","v":0},"+",0,null,{"$f":"IF(H71>0,H71-Interface!$G$12+M70,$M$2-Interface!$G$12+M70)","v":-30},-30,{"$f":"IF(Q71<0,-Q71,Q71)","v":0},"En Moins",{"$f":"IF(M74<-($Q$3-O70),0,IF(M74<0,M74,0))","v":0},null,null,null,null,null,null,null,null,""]
[null,"2023-03-03",null,null,null,null,"00:00:00",0,{"$f":"IF(H72>0,H72-Interface!$G$13+I71,0+I71)","v":0},"+",0,null,{"$f":"IF(H72>0,H72-Interface!$G$13+M71,$M$2-Interface!$G$13+M71)","v":-37.5},-37.299999999999997,{"$f":"SUM(O69-O70)","v":0.99},"Retenue -",{"$f":"IF(Q71=-Q67,0,IF(Q71>=0,0,IF(Q71>-O72,IF(Q68<O69,IF(Q71>-O72,IF(Q68=O71,Q71,IF(O71>Q68,IF((Q68-O69)<Q71,IF(O71>Q68,-Q68,Q68+Q71),-Q68),Q71)),Q71),Q71),IF(Q68<O69,IF(Q71>=-O72,44,Q68+Q71),-O69))))","v":0},null,null,null,null,null,null,null,null,""]
[null,"2023-03-04",null,null,null,null,"00:00:00",0,{"$f":"IF(H73>0,H73-Interface!$G$14+I72,0+I72)","v":0},"+",0,null,{"$f":"IF(H73>0,H73-Interface!$G$14+M72,$M$2-Interface!$G$14+M72)","v":-37.5},-37.299999999999997,{"$f":"SUM(O69+O70)","v":1.01},{"$f":"IF(M74=0,Q68, IF(M74=-$Q$3,Q68,IF(Q68+Q70>O68,0,IF(Q68<O69,IF(Q70>0,Q68+Q72+Q70,Q68-O71),0))))","v":0},{"$f":"IF(M74=-$Q$3,0,IF(Q68+Q70>O68,O68,IF(Q68>=O69,IF(Q72<=-O70,Q68+Q72,Q68+Q70),0)))","v":0},null,null,null,null,null,null,null,null,""]
[null,"2023-03-05",null,null,null,null,"00:00:00",0,{"$f":"IF(H74>0,H74-Interface!$G$15+I73,0+I73)","v":0},"+",0,null,{"$f":"IF(H74>0,H74-Interface!$G$15+M73,$M$2-Interface!$G$15+M73)","v":-37.5},-37.299999999999997,null,{"$f":"IF(M74=0,Q68,IF((P73+Q73)<=0,0,P73+Q73))","v":0},{"$f":"IF(M74=-$Q$3,0,IF(M74<-O70,IF(Q68>-O72,IF(Q68<O69,IF(Q71<-O72,Q72,IF(Q68=0,Q71,IF(Q68=O71,Q68+Q71,Q71-Q72))),IF(Q71<=-O69,Q71-Q72,IF((Q68-Q72)>0,0,41))),0),0))","v":0},null,null,null,null,null,null,null,null,""]
[null,"Février","Ajustement Compteur",null,0,{"$f":"F67+1","v":9},{"$f":"G68+G69+G70+G71+G72+G73+G74","v":0},{"$f":"SUM(H68:H74)","v":0},{"$f":"I74","v":0},"+",0,null,-37.5,-37.299999999999997,{"$f":"((P75-INT(P75))*5/3)+INT(P75)","v":0},{"$f":"((P74-INT(P74))*3/5)+INT(P74)+E75","v":0},{"$f":"((Q74-ROUNDDOWN(Q74,0))/5*3)+ROUNDDOWN(Q74,0)","v":0},null,{"$f":"SUM(S68:S74)+S51+S59+S67","v":0},{"$f":"SUM(T68:T74)+T51+T59+T67","v":0},0,0,null,{"$f":"SUM(X68:X74)+X51+X59+X67","v":0},{"$f":"(SUM(Y68:Y74)+Y67+Y59+Y51)+IF(Interface!$Q$12=1,IF(Q68<O60,IF(Q68+Q69>(O60-O62),Q68+Q69-O68,0),Q69))","v":0}]
[null,{"$f":"B74+1","v":"2023-03-06"},null,null,null,null,{"$f":"D76-C76+F76-E76","v":"00:00:00"},{"$f":"(G76-INT(G76))*24","v":0},{"$f":"IF(H76>0,H76-Interface!$G$9,0)","v":0},{"$f":"IF(I76>=0,\"+\",\"-\")","v":"+"},{"$f":"TIME(TRUNC(ABS(I76)),ROUND((ABS(I76)-TRUNC(ABS(I76)))*60,),0)","v":0},null,{"$f":"IF(H76>0,H76-Interface!$G$9,$M$2-Interface!$G$9)","v":-7.5},-7.3,{"$f":"Interface!$S$9","v":4},"Report",{"$f":"O75","v":0},null,null,null,null,null,null,null,null,{"$f":"IF(S76>0,1,IF(T76>0,2,IF(U76>0,3,IF(V76>0,4,IF(W76>0,W76,IF(X76>0,7,\"\"))))))","v":""}]
[null,{"$f":"B76+1","v":"2023-03-07"},null,null,null,null,"00:00:00",0,{"$f":"IF(H77>0,H77-Interface!$G$10+I76,0+I76)","v":0},"+",0,null,{"$f":"IF(H77>0,H77-Interface!$G$10+M76,$M$2-Interface!$G$10+M76)","v":-15},-15,{"$f":"Interface!$S$11","v":1},"En Plus",{"$f":"IF(M82>0,M82,0)","v":0},null,null,null,null,null,null,null,null,{"$f":"IF(S77>0,1,IF(T77>0,2,IF(U77>0,3,IF(V77>0,4,IF(W77>0,W77,IF(X77>0,7,\"\"))))))","v":""}]
[null,"2023-03-08",null,null,null,null,"00:00:00",0,{"$f":"IF(H78>0,H78-Interface!$G$11+I77,0+I77)","v":0},"+",0,null,{"$f":"IF(H78>0,H78-Interface!$G$11+M77,$M$2-Interface!$G$11+M77)","v":-22.5},-22.3,0.01,"Retenue +",{"$f":"IF(Q77 > O81,O77,Q77)","v":0},null,null,null,null,null,null,null,null,""]
[null,"2023-03-09",null,null,null,null,"00:00:00",0,{"$f":"IF(H79>0,H79-Interface!$G$12+I78,0+I78)","v":0},"+",0,null,{"$f":"IF(H79>0,H79-Interface!$G$12+M78,$M$2-Interface!$G$12+M78)","v":-30},-30,{"$f":"IF(Q79<0,-Q79,Q79)","v":0},"En Moins",{"$f":"IF(M82<-($Q$3-O78),0,IF(M82<0,M82,0))","v":0},null,null,null,null,null,null,null,null,""]
[null,"2023-03-10",null,null,null,null,"00:00:00",0,{"$f":"IF(H80>0,H80-Interface!$G$13+I79,0+I79)","v":0},"+",0,null,{"$f":"IF(H80>0,H80-Interface!$G$13+M79,$M$2-Interface!$G$13+M79)","v":-37.5},-37.299999999999997,{"$f":"SUM(O77-O78)","v":0.99},"Retenue -",{"$f":"IF(Q79=-Q75,0,IF(Q79>=0,0,IF(Q79>-O80,IF(Q76<O77,IF(Q79>-O80,IF(Q76=O79,Q79,IF(O79>Q76,IF((Q76-O77)<Q79,IF(O79>Q76,-Q76,Q76+Q79),-Q76),Q79)),Q79),Q79),IF(Q76<O77,IF(Q79>=-O80,44,Q76+Q79),-O77))))","v":0},null,null,null,null,null,null,null,null,""]
[null,"2023-03-11",null,null,null,null,"00:00:00",0,{"$f":"IF(H81>0,H81-Interface!$G$14+I80,0+I80)","v":0},"+",0,null,{"$f":"IF(H81>0,H81-Interface!$G$14+M80,$M$2-Interface!$G$14+M80)","v":-37.5},-37.299999999999997,{"$f":"SUM(O77+O78)","v":1.01},{"$f":"IF(M82=0,Q76, IF(M82=-$Q$3,Q76,IF(Q76+Q78>O76,0,IF(Q76<O77,IF(Q78>0,Q76+Q80+Q78,Q76-O79),0))))","v":0},{"$f":"IF(M82=-$Q$3,0,IF(Q76+Q78>O76,O76,IF(Q76>=O77,IF(Q80<=-O78,Q76+Q80,Q76+Q78),0)))","v":0},null,null,null,null,null,null,null,null,""]
[null,"2023-03-12",null,null,null,null,"00:00:00",0,{"$f":"IF(H82>0,H82-Interface!$G$15+I81,0+I81)","v":0},"+",0,null,{"$f":"IF(H82>0,H82-Interface!$G$15+M81,$M$2-Interface!$G$15+M81)","v":-37.5},-37.299999999999997,null,{"$f":"IF(M82=0,Q76,IF((P81+Q81)<=0,0,P81+Q81))","v":0},{"$f":"IF(M82=-$Q$3,0,IF(M82<-O78,IF(Q76>-O80,IF(Q76<O77,IF(Q79<-O80,Q80,IF(Q76=0,Q79,IF(Q76=O79,Q76+Q79,Q79-Q80))),IF(Q79<=-O77,Q79-Q80,IF((Q76-Q80)>0,0,41))),0),0))","v":0},null,null,null,null,null,null,null,null,""]
[null,null,"Ajustement Compteur",null,0,{"$f":"F75+1","v":10},{"$f":"G76+G77+G78+G79+G80+G81+G82","v":0},{"$f":"SUM(H76:H82)","v":0},{"$f":"I82","v":0},"+",0,null,-37.5,-37.299999999999997,{"$f":"((P83-INT(P83))*5/3)+INT(P83)","v":0},{"$f":"((P82-INT(P82))*3/5)+INT(P82)+E83","v":0},{"$f":"((Q82-ROUNDDOWN(Q82,0))/5*3)+ROUNDDOWN(Q82,0)","v":0},null,{"$f":"SUM(S76:S82)","v":0},0,0,0,null,{"$f":"SUM(X76:X82)","v":0},{"$f":"SUM(Y76:Y82)+IF(Interface!$P$11=O77,IF(Q76<O76,IF(Q76+Q77>(O76-O78),Q76+Q77-O76,0),Q77))","v":0}]
[null,{"$f":"B82+1","v":"2023-03-13"},null,null,null,null,{"$f":"D84-C84+F84-E84","v":"00:00:00"},{"$f":"(G84-INT(G84))*24","v":0},{"$f":"IF(H84>0,H84-Interface!$G$9,0)","v":0},"+",0,null,{"$f":"IF(H84>0,H84-Interface!$G$9,$M$2-Interface!$G$9)","v":-7.5},-7.3,{"$f":"Interface!$S$9","v":4},"Report",{"$f":"O83","v":0},null,null,null,null,null,null,null,null,{"$f":"IF(S84>0,1,IF(T84>0,2,IF(U84>0,3,IF(V84>0,4,IF(W84>0,W84,IF(X84>0,7,\"\"))))))","v":""}]
[null,{"$f":"B84+1","v":"2023-03-14"},null,null,null,null,"00:00:00",0,{"$f":"IF(H85>0,H85-Interface!$G$10+I84,0+I84)","v":0},"+",0,null,{"$f":"IF(H85>0,H85-Interface!$G$10+M84,$M$2-Interface!$G$10+M84)","v":-15},-15,{"$f":"Interface!$S$11","v":1},"En Plus",{"$f":"IF(M90>0,M90,0)","v":0},null,null,null,null,null,null,null,null,{"$f":"IF(S85>0,1,IF(T85>0,2,IF(U85>0,3,IF(V85>0,4,IF(W85>0,W85,IF(X85>0,7,\"\"))))))","v":""}]
[null,"2023-03-15",null,null,null,null,"00:00:00",0,{"$f":"IF(H86>0,H86-Interface!$G$11+I85,0+I85)","v":0},"+",0,null,{"$f":"IF(H86>0,H86-Interface!$G$11+M85,$M$2-Interface!$G$11+M85)","v":-22.5},-22.3,0.01,"Retenue +",{"$f":"IF(Q85 > O89,O85,Q85)","v":0},null,null,null,null,null,null,null,null,""]
[null,"2023-03-16",null,null,null,null,"00:00:00",0,{"$f":"IF(H87>0,H87-Interface!$G$12+I86,0+I86)","v":0},"+",0,null,{"$f":"IF(H87>0,H87-Interface!$G$12+M86,$M$2-Interface!$G$12+M86)","v":-30},-30,{"$f":"IF(Q87<0,-Q87,Q87)","v":0},"En Moins",{"$f":"IF(M90<-($Q$3-O86),0,IF(M90<0,M90,0))","v":0},null,null,null,null,null,null,null,null,""]
[null,"2023-03-17",null,null,null,null,"00:00:00",0,{"$f":"IF(H88>0,H88-Interface!$G$13+I87,0+I87)","v":0},"+",0,null,{"$f":"IF(H88>0,H88-Interface!$G$13+M87,$M$2-Interface!$G$13+M87)","v":-37.5},-37.299999999999997,{"$f":"SUM(O85-O86)","v":0.99},"Retenue -",{"$f":"IF(Q87=-Q83,0,IF(Q87>=0,0,IF(Q87>-O88,IF(Q84<O85,IF(Q87>-O88,IF(Q84=O87,Q87,IF(O87>Q84,IF((Q84-O85)<Q87,IF(O87>Q84,-Q84,Q84+Q87),-Q84),Q87)),Q87),Q87),IF(Q84<O85,IF(Q87>=-O88,44,Q84+Q87),-O85))))","v":0},null,null,null,null,null,null,null,null,""]
[null,"2023-03-18",null,null,null,null,"00:00:00",0,{"$f":"IF(H89>0,H89-Interface!$G$14+I88,0+I88)","v":0},"+",0,null,{"$f":"IF(H89>0,H89-Interface!$G$14+M88,$M$2-Interface!$G$14+M88)","v":-37.5},-37.299999999999997,{"$f":"SUM(O85+O86)","v":1.01},{"$f":"IF(M90=0,Q84, IF(M90=-$Q$3,Q84,IF(Q84+Q86>O84,0,IF(Q84<O85,IF(Q86>0,Q84+Q88+Q86,Q84-O87),0))))","v":0},{"$f":"IF(M90=-$Q$3,0,IF(Q84+Q86>O84,O84,IF(Q84>=O85,IF(Q88<=-O86,Q84+Q88,Q84+Q86),0)))","v":0},null,null,null,null,null,null,null,null,""]
[null,"2023-03-19",null,null,null,null,"00:00:00",0,{"$f":"IF(H90>0,H90-Interface!$G$15+I89,0+I89)","v":0},"+",0,null,{"$f":"IF(H90>0,H90-Interface!$G$15+M89,$M$2-Interface!$G$15+M89)","v":-37.5},-37.299999999999997,null,{"$f":"IF(M90=0,Q84,IF((P89+Q89)<=0,0,P89+Q89))","v":0},{"$f":"IF(M90=-$Q$3,0,IF(M90<-O86,IF(Q84>-O88,IF(Q84<O85,IF(Q87<-O88,Q88,IF(Q84=0,Q87,IF(Q84=O87,Q84+Q87,Q87-Q88))),IF(Q87<=-O85,Q87-Q88,IF((Q84-Q88)>0,0,41))),0),0))","v":0},null,null,null,null,null,null,null,null,""]
[null,null,"Ajustement Compteur",null,0,{"$f":"F83+1","v":11},{"$f":"G84+G85+G86+G87+G88+G89+G90","v":0},{"$f":"SUM(H84:H90)","v":0},{"$f":"I90","v":0},"+",0,null,{"$f":"M90","v":-37.5},-37.299999999999997,{"$f":"((P91-INT(P91))*5/3)+INT(P91)","v":0},{"$f":"((P90-INT(P90))*3/5)+INT(P90)+E91","v":0},{"$f":"((Q90-ROUNDDOWN(Q90,0))/5*3)+ROUNDDOWN(Q90,0)","v":0},null,{"$f":"SUM(S84:S90)","v":0},0,0,0,null,{"$f":"SUM(X84:X90)","v":0},{"$f":"SUM(Y84:Y90)+IF(Interface!$P$11=O85,IF(Q84<O84,IF(Q84+Q85>(O84-O86),Q84+Q85-O84,0),Q85))","v":0}]
[null,{"$f":"B90+1","v":"2023-03-20"},null,null,null,null,{"$f":"D92-C92+F92-E92","v":"00:00:00"},{"$f":"(G92-INT(G92))*24","v":0},{"$f":"IF(H92>0,H92-Interface!$G$9,0)","v":0},"+",0,null,{"$f":"IF(H92>0,H92-Interface!$G$9,$M$2-Interface!$G$9)","v":-7.5},-7.3,{"$f":"Interface!$S$9","v":4},"Report",{"$f":"O91","v":0},null,null,null,null,null,null,null,null,{"$f":"IF(S92>0,1,IF(T92>0,2,IF(U92>0,3,IF(V92>0,4,IF(W92>0,W92,IF(X92>0,7,\"\"))))))","v":""}]
[null,{"$f":"B92+1","v":"2023-03-21"},null,null,null,null,"00:00:00",0,{"$f":"IF(H93>0,H93-Interface!$G$10+I92,0+I92)","v":0},"+",0,null,{"$f":"IF(H93>0,H93-Interface!$G$10+M92,$M$2-Interface!$G$10+M92)","v":-15},-15,{"$f":"Interface!$S$11","v":1},"En Plus",{"$f":"IF(M98>0,M98,0)","v":0},null,null,null,null,null,null,null,null,{"$f":"IF(S93>0,1,IF(T93>0,2,IF(U93>0,3,IF(V93>0,4,IF(W93>0,W93,IF(X93>0,7,\"\"))))))","v":""}]
[null,"2023-03-22",null,null,null,null,"00:00:00",0,{"$f":"IF(H94>0,H94-Interface!$G$11+I93,0+I93)","v":0},"+",0,null,{"$f":"IF(H94>0,H94-Interface!$G$11+M93,$M$2-Interface!$G$11+M93)","v":-22.5},-22.3,0.01,"Retenue +",{"$f":"IF(Q93 > O97,O93,Q93)","v":0},null,null,null,null,null,null,null,null,""]
[null,"2023-03-23",null,null,null,null,"00:00:00",0,{"$f":"IF(H95>0,H95-Interface!$G$12+I94,0+I94)","v":0},"+",0,null,{"$f":"IF(H95>0,H95-Interface!$G$12+M94,$M$2-Interface!$G$12+M94)","v":-30},-30,{"$f":"IF(Q95<0,-Q95,Q95)","v":0},"En Moins",{"$f":"IF(M98<-($Q$3-O94),0,IF(M98<0,M98,0))","v":0},null,null,null,null,null,null,null,null,""]
[null,"2023-03-24",null,null,null,null,"00:00:00",0,{"$f":"IF(H96>0,H96-Interface!$G$13+I95,0+I95)","v":0},"+",0,null,{"$f":"IF(H96>0,H96-Interface!$G$13+M95,$M$2-Interface!$G$13+M95)","v":-37.5},-37.299999999999997,{"$f":"SUM(O93-O94)","v":0.99},"Retenue -",{"$f":"IF(Q95=-Q91,0,IF(Q95>=0,0,IF(Q95>-O96,IF(Q92<O93,IF(Q95>-O96,IF(Q92=O95,Q95,IF(O95>Q92,IF((Q92-O93)<Q95,IF(O95>Q92,-Q92,Q92+Q95),-Q92),Q95)),Q95),Q95),IF(Q92<O93,IF(Q95>=-O96,44,Q92+Q95),-O93))))","v":0},null,null,null,null,null,null,null,null,""]
[null,"2023-03-25",null,null,null,null,"00:00:00",0,{"$f":"IF(H97>0,H97-Interface!$G$14+I96,0+I96)","v":0},"+",0,null,{"$f":"IF(H97>0,H97-Interface!$G$14+M96,$M$2-Interface!$G$14+M96)","v":-37.5},-37.299999999999997,{"$f":"SUM(O93+O94)","v":1.01},{"$f":"IF(M98=0,Q92, IF(M98=-$Q$3,Q92,IF(Q92+Q94>O92,0,IF(Q92<O93,IF(Q94>0,Q92+Q96+Q94,Q92-O95),0))))","v":0},{"$f":"IF(M98=-$Q$3,0,IF(Q92+Q94>O92,O92,IF(Q92>=O93,IF(Q96<=-O94,Q92+Q96,Q92+Q94),0)))","v":0},null,null,null,null,null,null,null,null,""]
[null,"2023-03-26",null,null,null,null,"00:00:00",0,{"$f":"IF(H98>0,H98-Interface!$G$15+I97,0+I97)","v":0},"+",0,null,{"$f":"IF(H98>0,H98-Interface!$G$15+M97,$M$2-Interface!$G$15+M97)","v":-37.5},-37.299999999999997,null,{"$f":"IF(M98=0,Q92,IF((P97+Q97)<=0,0,P97+Q97))","v":0},{"$f":"IF(M98=-$Q$3,0,IF(M98<-O94,IF(Q92>-O96,IF(Q92<O93,IF(Q95<-O96,Q96,IF(Q92=0,Q95,IF(Q92=O95,Q92+Q95,Q95-Q96))),IF(Q95<=-O93,Q95-Q96,IF((Q92-Q96)>0,0,41))),0),0))","v":0},null,null,null,null,null,null,null,null,""]
[null,null,"Ajustement Compteur",null,0,{"$f":"F91+1","v":12},{"$f":"G92+G93+G94+G95+G96+G97+G98","v":0},{"$f":"SUM(H92:H98)","v":0},{"$f":"I98","v":0},"+",0,null,-37.5,-37.299999999999997,{"$f":"((P99-INT(P99))*5/3)+INT(P99)","v":0},{"$f":"((P98-INT(P98))*3/5)+INT(P98)+E99","v":0},{"$f":"((Q98-ROUNDDOWN(Q98,0))/5*3)+ROUNDDOWN(Q98,0)","v":0},null,{"$f":"SUM(S92:S98)","v":0},0,0,0,null,{"$f":"SUM(X92:X98)","v":0},{"$f":"SUM(Y92:Y98)+IF(Interface!$P$11=O93,IF(Q92<O92,IF(Q92+Q93>(O92-O94),Q92+Q93-O92,0),Q93))","v":0}]
[null,{"$f":"B98+1","v":"2023-03-27"},null,null,null,null,{"$f":"D100-C100+F100-E100","v":"00:00:00"},{"$f":"(G100-INT(G100))*24","v":0},{"$f":"IF(H100>0,H100-Interface!$G$9,0)","v":0},"+",0,null,{"$f":"IF(H100>0,H100-Interface!$G$9,$M$2-Interface!$G$9)","v":-7.5},-7.3,{"$f":"Interface!$S$9","v":4},"Report",{"$f":"O99","v":0},null,null,null,null,null,null,null,null,{"$f":"IF(S100>0,1,IF(T100>0,2,IF(U100>0,3,IF(V100>0,4,IF(W100>0,W100,IF(X100>0,7,\"\"))))))","v":""}]
[null,{"$f":"B100+1","v":"2023-03-28"},null,null,null,null,"00:00:00",0,{"$f":"IF(H101>0,H101-Interface!$G$10+I100,0+I100)","v":0},"+",0,null,{"$f":"IF(H101>0,H101-Interface!$G$10+M100,$M$2-Interface!$G$10+M100)","v":-15},-15,{"$f":"Interface!$S$11","v":1},"En Plus",{"$f":"IF(M106>0,M106,0)","v":0},null,null,null,null,null,null,null,null,{"$f":"IF(S101>0,1,IF(T101>0,2,IF(U101>0,3,IF(V101>0,4,IF(W101>0,W101,IF(X101>0,7,\"\"))))))","v":""}]
[null,"2023-03-29",null,null,null,null,"00:00:00",0,{"$f":"IF(H102>0,H102-Interface!$G$11+I101,0+I101)","v":0},"+",0,null,{"$f":"IF(H102>0,H102-Interface!$G$11+M101,$M$2-Interface!$G$11+M101)","v":-22.5},-22.3,0.01,"Retenue +",{"$f":"IF(Q101 > O105,O101,Q101)","v":0},null,null,null,null,null,null,null,null,""]
[null,"2023-03-30",null,null,null,null,"00:00:00",0,{"$f":"IF(H103>0,H103-Interface!$G$12+I102,0+I102)","v":0},"+",0,null,{"$f":"IF(H103>0,H103-Interface!$G$12+M102,$M$2-Interface!$G$12+M102)","v":-30},-30,{"$f":"IF(Q103<0,-Q103,Q103)","v":0},"En Moins",{"$f":"IF(M106<-($Q$3-O102),0,IF(M106<0,M106,0))","v":0},null,null,null,null,null,null,null,null,""]
[null,"2023-03-31",null,null,null,null,"00:00:00",0,{"$f":"IF(H104>0,H104-Interface!$G$13+I103,0+I103)","v":0},"+",0,null,{"$f":"IF(H104>0,H104-Interface!$G$13+M103,$M$2-Interface!$G$13+M103)","v":-37.5},-37.299999999999997,{"$f":"SUM(O101-O102)","v":0.99},"Retenue -",{"$f":"IF(Q103=-Q99,0,IF(Q103>=0,0,IF(Q103>-O104,IF(Q100<O101,IF(Q103>-O104,IF(Q100=O103,Q103,IF(O103>Q100,IF((Q100-O101)<Q103,IF(O103>Q100,-Q100,Q100+Q103),-Q100),Q103)),Q103),Q103),IF(Q100<O101,IF(Q103>=-O104,44,Q100+Q103),-O101))))","v":0},null,null,null,null,null,null,null,null,""]
[null,"2023-04-01",null,null,null,null,"00:00:00",0,{"$f":"IF(H105>0,H105-Interface!$G$14+I104,0+I104)","v":0},"+",0,null,{"$f":"IF(H105>0,H105-Interface!$G$14+M104,$M$2-Interface!$G$14+M104)","v":-37.5},-37.299999999999997,{"$f":"SUM(O101+O102)","v":1.01},{"$f":"IF(M106=0,Q100, IF(M106=-$Q$3,Q100,IF(Q100+Q102>O100,0,IF(Q100<O101,IF(Q102>0,Q100+Q104+Q102,Q100-O103),0))))","v":0},{"$f":"IF(M106=-$Q$3,0,IF(Q100+Q102>O100,O100,IF(Q100>=O101,IF(Q104<=-O102,Q100+Q104,Q100+Q102),0)))","v":0},null,null,null,null,null,null,null,null,""]
[null,"2023-04-02",null,null,null,null,"00:00:00",0,{"$f":"IF(H106>0,H106-Interface!$G$15+I105,0+I105)","v":0},"+",0,null,{"$f":"IF(H106>0,H106-Interface!$G$15+M105,$M$2-Interface!$G$15+M105)","v":-37.5},-37.299999999999997,null,{"$f":"IF(M106=0,Q100,IF((P105+Q105)<=0,0,P105+Q105))","v":0},{"$f":"IF(M106=-$Q$3,0,IF(M106<-O102,IF(Q100>-O104,IF(Q100<O101,IF(Q103<-O104,Q104,IF(Q100=0,Q103,IF(Q100=O103,Q100+Q103,Q103-Q104))),IF(Q103<=-O101,Q103-Q104,IF((Q100-Q104)>0,0,41))),0),0))","v":0},null,null,null,null,null,null,null,null,""]
[null,"Mars","Ajustement Compteur",null,0,{"$f":"F99+1","v":13},{"$f":"G100+G101+G102+G103+G104+G105+G106","v":0},{"$f":"SUM(H100:H106)","v":0},{"$f":"I106","v":0},"+",0,null,-37.5,-37.299999999999997,{"$f":"((P107-INT(P107))*5/3)+INT(P107)","v":0},{"$f":"((P106-INT(P106))*3/5)+INT(P106)+E107","v":0},{"$f":"((Q106-ROUNDDOWN(Q106,0))/5*3)+ROUNDDOWN(Q106,0)","v":0},null,{"$f":"SUM(S100:S106)+S83+S91+S99","v":0},{"$f":"SUM(T100:T106)+T83+T91+T99","v":0},0,0,null,{"$f":"SUM(X100:X106)+X83+X91+X99","v":0},{"$f":"(SUM(Y100:Y106)+Y99+Y91+Y83)+IF(Interface!$Q$12=1,IF(Q100<O92,IF(Q100+Q101>(O92-O94),Q100+Q101-O100,0),Q101))","v":0}]
[null,{"$f":"B106+1","v":"2023-04-03"},null,null,null,null,{"$f":"D108-C108+F108-E108","v":"00:00:00"},{"$f":"(G108-INT(G108))*24","v":0},{"$f":"IF(H108>0,H108-Interface!$G$9,0)","v":0},"+",0,null,{"$f":"IF(H108>0,H108-Interface!$G$9,$M$2-Interface!$G$9)","v":-7.5},-7.3,{"$f":"Interface!$S$9","v":4},"Report",{"$f":"O107","v":0},null,null,null,null,null,null,null,null,{"$f":"IF(S108>0,1,IF(T108>0,2,IF(U108>0,3,IF(V108>0,4,IF(W108>0,W108,IF(X108>0,7,\"\"))))))","v":""}]
[null,{"$f":"B108+1","v":"2023-04-04"},null,null,null,null,"00:00:00",0,{"$f":"IF(H109>0,H109-Interface!$G$10+I108,0+I108)","v":0},"+",0,null,{"$f":"IF(H109>0,H109-Interface!$G$10+M108,$M$2-Interface!$G$10+M108)","v":-15},-15,{"$f":"Interface!$S$11","v":1},"En Plus",{"$f":"IF(M114>0,M114,0)","v":0},null,null,null,null,null,null,null,null,{"$f":"IF(S109>0,1,IF(T109>0,2,IF(U109>0,3,IF(V109>0,4,IF(W109>0,W109,IF(X109>0,7,\"\"))))))","v":""}]
[null,"2023-04-05",null,null,null,null,"00:00:00",0,{"$f":"IF(H110>0,H110-Interface!$G$11+I109,0+I109)","v":0},"+",0,null,{"$f":"IF(H110>0,H110-Interface!$G$11+M109,$M$2-Interface!$G$11+M109)","v":-22.5},-22.3,0.01,"Retenue +",{"$f":"IF(Q109 > O113,O109,Q109)","v":0},null,null,null,null,null,null,null,null,""]
[null,"2023-04-06",null,null,null,null,"00:00:00",0,{"$f":"IF(H111>0,H111-Interface!$G$12+I110,0+I110)","v":0},"+",0,null,{"$f":"IF(H111>0,H111-Interface!$G$12+M110,$M$2-Interface!$G$12+M110)","v":-30},-30,{"$f":"IF(Q111<0,-Q111,Q111)","v":0},"En Moins",{"$f":"IF(M114<-($Q$3-O110),0,IF(M114<0,M114,0))","v":0},null,null,null,null,null,null,null,null,""]
[null,"2023-04-07",null,null,null,null,"00:00:00",0,{"$f":"IF(H112>0,H112-Interface!$G$13+I111,0+I111)","v":0},"+",0,null,{"$f":"IF(H112>0,H112-Interface!$G$13+M111,$M$2-Interface!$G$13+M111)","v":-37.5},-37.299999999999997,{"$f":"SUM(O109-O110)","v":0.99},"Retenue -",{"$f":"IF(Q111=-Q107,0,IF(Q111>=0,0,IF(Q111>-O112,IF(Q108<O109,IF(Q111>-O112,IF(Q108=O111,Q111,IF(O111>Q108,IF((Q108-O109)<Q111,IF(O111>Q108,-Q108,Q108+Q111),-Q108),Q111)),Q111),Q111),IF(Q108<O109,IF(Q111>=-O112,44,Q108+Q111),-O109))))","v":0},null,null,null,null,null,null,null,null,""]
[null,"2023-04-08",null,null,null,null,"00:00:00",0,{"$f":"IF(H113>0,H113-Interface!$G$14+I112,0+I112)","v":0},"+",0,null,{"$f":"IF(H113>0,H113-Interface!$G$14+M112,$M$2-Interface!$G$14+M112)","v":-37.5},-37.299999999999997,{"$f":"SUM(O109+O110)","v":1.01},{"$f":"IF(M114=0,Q108, IF(M114=-$Q$3,Q108,IF(Q108+Q110>O108,0,IF(Q108<O109,IF(Q110>0,Q108+Q112+Q110,Q108-O111),0))))","v":0},{"$f":"IF(M114=-$Q$3,0,IF(Q108+Q110>O108,O108,IF(Q108>=O109,IF(Q112<=-O110,Q108+Q112,Q108+Q110),0)))","v":0},null,null,null,null,null,null,null,null,""]
[null,"2023-04-09",null,null,null,null,"00:00:00",0,{"$f":"IF(H114>0,H114-Interface!$G$15+I113,0+I113)","v":0},"+",0,null,{"$f":"IF(H114>0,H114-Interface!$G$15+M113,$M$2-Interface!$G$15+M113)","v":-37.5},-37.299999999999997,null,{"$f":"IF(M114=0,Q108,IF((P113+Q113)<=0,0,P113+Q113))","v":0},{"$f":"IF(M114=-$Q$3,0,IF(M114<-O110,IF(Q108>-O112,IF(Q108<O109,IF(Q111<-O112,Q112,IF(Q108=0,Q111,IF(Q108=O111,Q108+Q111,Q111-Q112))),IF(Q111<=-O109,Q111-Q112,IF((Q108-Q112)>0,0,41))),0),0))","v":0},null,null,null,null,null,null,null,null,""]
[null,null,"Ajustement Compteur",null,0,{"$f":"F107+1","v":14},{"$f":"G108+G109+G110+G111+G112+G113+G114","v":0},{"$f":"SUM(H108:H114)","v":0},{"$f":"I114","v":0},"+",0,null,-37.5,-37.299999999999997,{"$f":"((P115-INT(P115))*5/3)+INT(P115)","v":0},{"$f":"((P114-INT(P114))*3/5)+INT(P114)+E115","v":0},{"$f":"((Q114-ROUNDDOWN(Q114,0))/5*3)+ROUNDDOWN(Q114,0)","v":0},null,{"$f":"SUM(S108:S114)","v":0},0,0,0,null,{"$f":"SUM(X108:X114)","v":0},{"$f":"SUM(Y108:Y114)+IF(Interface!$P$11=O109,IF(Q108<O108,IF(Q108+Q109>(O108-O110),Q108+Q109-O108,0),Q109))","v":0}]
[null,{"$f":"B114+1","v":"2023-04-10"},null,null,null,null,"00:00:00",{"$f":"(G116-INT(G116))*24","v":0},{"$f":"IF(H116>0,H116-Interface!$G$9,0)","v":0},"+",0,null,{"$f":"IF(H116>0,H116-Interface!$G$9,$M$2-Interface!$G$9)","v":-7.5},-7.3,{"$f":"Interface!$S$9","v":4},"Report",{"$f":"O115","v":0},null,null,null,null,null,null,null,null,{"$f":"IF(S116>0,1,IF(T116>0,2,IF(U116>0,3,IF(V116>0,4,IF(W116>0,W116,IF(X116>0,7,\"\"))))))","v":""}]
[null,{"$f":"B116+1","v":"2023-04-11"},null,null,null,null,"00:00:00",0,{"$f":"IF(H117>0,H117-Interface!$G$10+I116,0+I116)","v":0},"+",0,null,{"$f":"IF(H117>0,H117-Interface!$G$10+M116,$M$2-Interface!$G$10+M116)","v":-15},-15,{"$f":"Interface!$S$11","v":1},"En Plus",{"$f":"IF(M122>0,M122,0)","v":0},null,null,null,null,null,null,null,null,{"$f":"IF(S117>0,1,IF(T117>0,2,IF(U117>0,3,IF(V117>0,4,IF(W117>0,W117,IF(X117>0,7,\"\"))))))","v":""}]
[null,"2023-04-12",null,null,null,null,"00:00:00",0,{"$f":"IF(H118>0,H118-Interface!$G$11+I117,0+I117)","v":0},"+",0,null,{"$f":"IF(H118>0,H118-Interface!$G$11+M117,$M$2-Interface!$G$11+M117)","v":-22.5},-22.3,0.01,"Retenue +",{"$f":"IF(Q117 > O121,O117,Q117)","v":0},null,null,null,null,null,null,null,null,""]
[null,"2023-04-13",null,null,null,null,"00:00:00",0,{"$f":"IF(H119>0,H119-Interface!$G$12+I118,0+I118)","v":0},"+",0,null,{"$f":"IF(H119>0,H119-Interface!$G$12+M118,$M$2-Interface!$G$12+M118)","v":-30},-30,{"$f":"IF(Q119<0,-Q119,Q119)","v":0},"En Moins",{"$f":"IF(M122<-($Q$3-O118),0,IF(M122<0,M122,0))","v":0},null,null,null,null,null,null,null,null,""]
[null,"2023-04-14",null,null,null,null,"00:00:00",0,{"$f":"IF(H120>0,H120-Interface!$G$13+I119,0+I119)","v":0},"+",0,null,{"$f":"IF(H120>0,H120-Interface!$G$13+M119,$M$2-Interface!$G$13+M119)","v":-37.5},-37.299999999999997,{"$f":"SUM(O117-O118)","v":0.99},"Retenue -",{"$f":"IF(Q119=-Q115,0,IF(Q119>=0,0,IF(Q119>-O120,IF(Q116<O117,IF(Q119>-O120,IF(Q116=O119,Q119,IF(O119>Q116,IF((Q116-O117)<Q119,IF(O119>Q116,-Q116,Q116+Q119),-Q116),Q119)),Q119),Q119),IF(Q116<O117,IF(Q119>=-O120,44,Q116+Q119),-O117))))","v":0},null,null,null,null,null,null,null,null,""]
[null,"2023-04-15",null,null,null,null,"00:00:00",0,{"$f":"IF(H121>0,H121-Interface!$G$14+I120,0+I120)","v":0},"+",0,null,{"$f":"IF(H121>0,H121-Interface!$G$14+M120,$M$2-Interface!$G$14+M120)","v":-37.5},-37.299999999999997,{"$f":"SUM(O117+O118)","v":1.01},{"$f":"IF(M122=0,Q116, IF(M122=-$Q$3,Q116,IF(Q116+Q118>O116,0,IF(Q116<O117,IF(Q118>0,Q116+Q120+Q118,Q116-O119),0))))","v":0},{"$f":"IF(M122=-$Q$3,0,IF(Q116+Q118>O116,O116,IF(Q116>=O117,IF(Q120<=-O118,Q116+Q120,Q116+Q118),0)))","v":0},null,null,null,null,null,null,null,null,""]
[null,"2023-04-16",null,null,null,null,"00:00:00",0,{"$f":"IF(H122>0,H122-Interface!$G$15+I121,0+I121)","v":0},"+",0,null,{"$f":"IF(H122>0,H122-Interface!$G$15+M121,$M$2-Interface!$G$15+M121)","v":-37.5},-37.299999999999997,null,{"$f":"IF(M122=0,Q116,IF((P121+Q121)<=0,0,P121+Q121))","v":0},{"$f":"IF(M122=-$Q$3,0,IF(M122<-O118,IF(Q116>-O120,IF(Q116<O117,IF(Q119<-O120,Q120,IF(Q116=0,Q119,IF(Q116=O119,Q116+Q119,Q119-Q120))),IF(Q119<=-O117,Q119-Q120,IF((Q116-Q120)>0,0,41))),0),0))","v":0},null,null,null,null,null,null,null,null,""]
[null,null,"Ajustement Compteur",null,0,{"$f":"F115+1","v":15},{"$f":"G116+G117+G118+G119+G120+G121+G122","v":0},{"$f":"SUM(H116:H122)","v":0},{"$f":"I122","v":0},"+",0,null,-37.5,-37.299999999999997,{"$f":"((P123-INT(P123))*5/3)+INT(P123)","v":0},{"$f":"((P122-INT(P122))*3/5)+INT(P122)+E123","v":0},{"$f":"((Q122-ROUNDDOWN(Q122,0))/5*3)+ROUNDDOWN(Q122,0)","v":0},null,{"$f":"SUM(S116:S122)","v":0},0,0,0,null,{"$f":"SUM(X116:X122)","v":0},{"$f":"SUM(Y116:Y122)+IF(Interface!$P$11=O117,IF(Q116<O116,IF(Q116+Q117>(O116-O118),Q116+Q117-O116,0),Q117))","v":0}]
[null,{"$f":"B122+1","v":"2023-04-17"},null,null,null,null,{"$f":"D124-C124+F124-E124","v":"00:00:00"},{"$f":"(G124-INT(G124))*24","v":0},{"$f":"IF(H124>0,H124-Interface!$G$9,0)","v":0},"+",0,null,{"$f":"IF(H124>0,H124-Interface!$G$9,$M$2-Interface!$G$9)","v":-7.5},-7.3,{"$f":"Interface!$S$9","v":4},"Report",{"$f":"O123","v":0},null,null,null,null,null,null,null,null,{"$f":"IF(S124>0,1,IF(T124>0,2,IF(U124>0,3,IF(V124>0,4,IF(W124>0,W124,IF(X124>0,7,\"\"))))))","v":""}]
[null,{"$f":"B124+1","v":"2023-04-18"},null,null,null,null,"00:00:00",0,{"$f":"IF(H125>0,H125-Interface!$G$10+I124,0+I124)","v":0},"+",0,null,{"$f":"IF(H125>0,H125-Interface!$G$10+M124,$M$2-Interface!$G$10+M124)","v":-15},-15,{"$f":"Interface!$S$11","v":1},"En Plus",{"$f":"IF(M130>0,M130,0)","v":0},null,null,null,null,null,null,null,null,{"$f":"IF(S125>0,1,IF(T125>0,2,IF(U125>0,3,IF(V125>0,4,IF(W125>0,W125,IF(X125>0,7,\"\"))))))","v":""}]
[null,"2023-04-19",null,null,null,null,"00:00:00",0,{"$f":"IF(H126>0,H126-Interface!$G$11+I125,0+I125)","v":0},"+",0,null,{"$f":"IF(H126>0,H126-Interface!$G$11+M125,$M$2-Interface!$G$11+M125)","v":-22.5},-22.3,0.01,"Retenue +",{"$f":"IF(Q125 > O129,O125,Q125)","v":0},null,null,null,null,null,null,null,null,""]
[null,"2023-04-20",null,null,null,null,"00:00:00",0,{"$f":"IF(H127>0,H127-Interface!$G$12+I126,0+I126)","v":0},"+",0,null,{"$f":"IF(H127>0,H127-Interface!$G$12+M126,$M$2-Interface!$G$12+M126)","v":-30},-30,{"$f":"IF(Q127<0,-Q127,Q127)","v":0},"En Moins",{"$f":"IF(M130<-($Q$3-O126),0,IF(M130<0,M130,0))","v":0},null,null,null,null,null,null,null,null,""]
[null,"2023-04-21",null,null,null,null,"00:00:00",0,{"$f":"IF(H128>0,H128-Interface!$G$13+I127,0+I127)","v":0},"+",0,null,{"$f":"IF(H128>0,H128-Interface!$G$13+M127,$M$2-Interface!$G$13+M127)","v":-37.5},-37.299999999999997,{"$f":"SUM(O125-O126)","v":0.99},"Retenue -",{"$f":"IF(Q127=-Q123,0,IF(Q127>=0,0,IF(Q127>-O128,IF(Q124<O125,IF(Q127>-O128,IF(Q124=O127,Q127,IF(O127>Q124,IF((Q124-O125)<Q127,IF(O127>Q124,-Q124,Q124+Q127),-Q124),Q127)),Q127),Q127),IF(Q124<O125,IF(Q127>=-O128,44,Q124+Q127),-O125))))","v":0},null,null,null,null,null,null,null,null,""]
[null,"2023-04-22",null,null,null,null,"00:00:00",0,{"$f":"IF(H129>0,H129-Interface!$G$14+I128,0+I128)","v":0},"+",0,null,{"$f":"IF(H129>0,H129-Interface!$G$14+M128,$M$2-Interface!$G$14+M128)","v":-37.5},-37.299999999999997,{"$f":"SUM(O125+O126)","v":1.01},{"$f":"IF(M130=0,Q124, IF(M130=-$Q$3,Q124,IF(Q124+Q126>O124,0,IF(Q124<O125,IF(Q126>0,Q124+Q128+Q126,Q124-O127),0))))","v":0},{"$f":"IF(M130=-$Q$3,0,IF(Q124+Q126>O124,O124,IF(Q124>=O125,IF(Q128<=-O126,Q124+Q128,Q124+Q126),0)))","v":0},null,null,null,null,null,null,null,null,""]
[null,"2023-04-23",null,null,null,null,"00:00:00",0,{"$f":"IF(H130>0,H130-Interface!$G$15+I129,0+I129)","v":0},"+",0,null,{"$f":"IF(H130>0,H130-Interface!$G$15+M129,$M$2-Interface!$G$15+M129)","v":-37.5},-37.299999999999997,null,{"$f":"IF(M130=0,Q124,IF((P129+Q129)<=0,0,P129+Q129))","v":0},{"$f":"IF(M130=-$Q$3,0,IF(M130<-O126,IF(Q124>-O128,IF(Q124<O125,IF(Q127<-O128,Q128,IF(Q124=0,Q127,IF(Q124=O127,Q124+Q127,Q127-Q128))),IF(Q127<=-O125,Q127-Q128,IF((Q124-Q128)>0,0,41))),0),0))","v":0},null,null,null,null,null,null,null,null,""]
[null,null,"Ajustement Compteur",null,0,{"$f":"F123+1","v":16},{"$f":"G124+G125+G126+G127+G128+G129+G130","v":0},{"$f":"SUM(H124:H130)","v":0},{"$f":"I130","v":0},"+",0,null,-37.5,-37.299999999999997,{"$f":"((P131-INT(P131))*5/3)+INT(P131)","v":0},{"$f":"((P130-INT(P130))*3/5)+INT(P130)+E131","v":0},{"$f":"((Q130-ROUNDDOWN(Q130,0))/5*3)+ROUNDDOWN(Q130,0)","v":0},null,{"$f":"SUM(S124:S130)","v":0},0,0,0,null,{"$f":"SUM(X124:X130)","v":0},{"$f":"SUM(Y124:Y130)+IF(Interface!$P$11=O125,IF(Q124<O124,IF(Q124+Q125>(O124-O126),Q124+Q125-O124,0),Q125))","v":0}]
[null,{"$f":"B130+1","v":"2023-04-24"},null,null,null,null,{"$f":"D132-C132+F132-E132","v":"00:00:00"},{"$f":"(G132-INT(G132))*24","v":0},{"$f":"IF(H132>0,H132-Interface!$G$9,0)","v":0},"+",0,null,{"$f":"IF(H132>0,H132-Interface!$G$9,$M$2-Interface!$G$9)","v":-7.5},{"$f":"((M132-ROUNDDOWN(M132,0))/5*3)+ROUNDDOWN(M132,0)","v":-7.3},{"$f":"Interface!$S$9","v":4},"Report",{"$f":"O131","v":0},null,null,null,null,null,null,null,null,{"$f":"IF(S132>0,1,IF(T132>0,2,IF(U132>0,3,IF(V132>0,4,IF(W132>0,W132,IF(X132>0,7,\"\"))))))","v":""}]
[null,{"$f":"B132+1","v":"2023-04-25"},null,null,null,null,"00:00:00",0,{"$f":"IF(H133>0,H133-Interface!$G$10+I132,0+I132)","v":0},"+",0,null,{"$f":"IF(H133>0,H133-Interface!$G$10+M132,$M$2-Interface!$G$10+M132)","v":-15},-15,{"$f":"Interface!$S$11","v":1},"En Plus",{"$f":"IF(M138>0,M138,0)","v":0},null,null,null,null,null,null,null,null,{"$f":"IF(S133>0,1,IF(T133>0,2,IF(U133>0,3,IF(V133>0,4,IF(W133>0,W133,IF(X133>0,7,\"\"))))))","v":""}]
[null,"2023-04-26",null,null,null,null,"00:00:00",0,{"$f":"IF(H134>0,H134-Interface!$G$11+I133,0+I133)","v":0},"+",0,null,{"$f":"IF(H134>0,H134-Interface!$G$11+M133,$M$2-Interface!$G$11+M133)","v":-22.5},-22.3,0.01,"Retenue +",{"$f":"IF(Q133 > O137,O133,Q133)","v":0},null,null,null,null,null,null,null,null,""]
[null,"2023-04-27",null,null,null,null,"00:00:00",0,{"$f":"IF(H135>0,H135-Interface!$G$12+I134,0+I134)","v":0},"+",0,null,{"$f":"IF(H135>0,H135-Interface!$G$12+M134,$M$2-Interface!$G$12+M134)","v":-30},-30,{"$f":"IF(Q135<0,-Q135,Q135)","v":0},"En Moins",{"$f":"IF(M138<-($Q$3-O134),0,IF(M138<0,M138,0))","v":0},null,null,null,null,null,null,null,null,""]
[null,"2023-04-28",null,null,null,null,"00:00:00",0,{"$f":"IF(H136>0,H136-Interface!$G$13+I135,0+I135)","v":0},"+",0,null,{"$f":"IF(H136>0,H136-Interface!$G$13+M135,$M$2-Interface!$G$13+M135)","v":-37.5},-37.299999999999997,{"$f":"SUM(O133-O134)","v":0.99},"Retenue -",{"$f":"IF(Q135=-Q131,0,IF(Q135>=0,0,IF(Q135>-O136,IF(Q132<O133,IF(Q135>-O136,IF(Q132=O135,Q135,IF(O135>Q132,IF((Q132-O133)<Q135,IF(O135>Q132,-Q132,Q132+Q135),-Q132),Q135)),Q135),Q135),IF(Q132<O133,IF(Q135>=-O136,44,Q132+Q135),-O133))))","v":0},null,null,null,null,null,null,null,null,""]
[null,"2023-04-29",null,null,null,null,"00:00:00",0,{"$f":"IF(H137>0,H137-Interface!$G$14+I136,0+I136)","v":0},"+",0,null,{"$f":"IF(H137>0,H137-Interface!$G$14+M136,$M$2-Interface!$G$14+M136)","v":-37.5},-37.299999999999997,{"$f":"SUM(O133+O134)","v":1.01},{"$f":"IF(M138=0,Q132, IF(M138=-$Q$3,Q132,IF(Q132+Q134>O132,0,IF(Q132<O133,IF(Q134>0,Q132+Q136+Q134,Q132-O135),0))))","v":0},{"$f":"IF(M138=-$Q$3,0,IF(Q132+Q134>O132,O132,IF(Q132>=O133,IF(Q136<=-O134,Q132+Q136,Q132+Q134),0)))","v":0},null,null,null,null,null,null,null,null,""]
[null,"2023-04-30",null,null,null,null,"00:00:00",0,{"$f":"IF(H138>0,H138-Interface!$G$15+I137,0+I137)","v":0},"+",0,null,{"$f":"IF(H138>0,H138-Interface!$G$15+M137,$M$2-Interface!$G$15+M137)","v":-37.5},-37.299999999999997,null,{"$f":"IF(M138=0,Q132,IF((P137+Q137)<=0,0,P137+Q137))","v":0},{"$f":"IF(M138=-$Q$3,0,IF(M138<-O134,IF(Q132>-O136,IF(Q132<O133,IF(Q135<-O136,Q136,IF(Q132=0,Q135,IF(Q132=O135,Q132+Q135,Q135-Q136))),IF(Q135<=-O133,Q135-Q136,IF((Q132-Q136)>0,0,41))),0),0))","v":0},null,null,null,null,null,null,null,null,""]
[null,"Avril","Ajustement Compteur",null,0,{"$f":"F131+1","v":17},{"$f":"G132+G133+G134+G135+G136+G137+G138","v":0},{"$f":"SUM(H132:H138)","v":0},{"$f":"I138","v":0},"+",0,null,-37.5,-37.299999999999997,{"$f":"((P139-INT(P139))*5/3)+INT(P139)","v":0},{"$f":"((P138-INT(P138))*3/5)+INT(P138)+E139","v":0},{"$f":"((Q138-ROUNDDOWN(Q138,0))/5*3)+ROUNDDOWN(Q138,0)","v":0},null,{"$f":"SUM(S132:S138)+S115+S123+S131","v":0},{"$f":"SUM(T132:T138)+T115+T123+T131","v":0},0,0,null,{"$f":"SUM(X132:X138)+X115+X123+X131","v":0},{"$f":"(SUM(Y132:Y138)+Y131+Y123+Y115)+IF(Interface!$Q$12=1,IF(Q132<O124,IF(Q132+Q133>(O124-O126),Q132+Q133-O132,0),Q133))","v":0}]
[null,{"$f":"B138+1","v":"2023-05-01"},null,null,null,null,{"$f":"D140-C140+F140-E140","v":"00:00:00"},{"$f":"(G140-INT(G140))*24","v":0},{"$f":"IF(H140>0,H140-Interface!$G$9,0)","v":0},{"$f":"IF(I140>=0,\"+\",\"-\")","v":"+"},{"$f":"TIME(TRUNC(ABS(I140)),ROUND((ABS(I140)-TRUNC(ABS(I140)))*60,),0)","v":0},null,{"$f":"IF(H140>0,H140-Interface!$G$9,$M$2-Interface!$G$9)","v":-7.5},-7.3,{"$f":"Interface!$S$9","v":4},"Report",{"$f":"O139","v":0},null,null,null,null,null,null,null,null,{"$f":"IF(S140>0,1,IF(T140>0,2,IF(U140>0,3,IF(V140>0,4,IF(W140>0,W140,IF(X140>0,7,\"\"))))))","v":""}]
[null,{"$f":"B140+1","v":"2023-05-02"},null,null,null,null,"00:00:00",0,{"$f":"IF(H141>0,H141-Interface!$G$10+I140,0+I140)","v":0},"+",0,null,{"$f":"IF(H141>0,H141-Interface!$G$10+M140,$M$2-Interface!$G$10+M140)","v":-15},-15,{"$f":"Interface!$S$11","v":1},"En Plus",{"$f":"IF(M146>0,M146,0)","v":0},null,null,null,null,null,null,null,null,{"$f":"IF(S141>0,1,IF(T141>0,2,IF(U141>0,3,IF(V141>0,4,IF(W141>0,W141,IF(X141>0,7,\"\"))))))","v":""}]
[null,"2023-05-03",null,null,null,null,"00:00:00",0,{"$f":"IF(H142>0,H142-Interface!$G$11+I141,0+I141)","v":0},"+",0,null,{"$f":"IF(H142>0,H142-Interface!$G$11+M141,$M$2-Interface!$G$11+M141)","v":-22.5},-22.3,0.01,"Retenue +",{"$f":"IF(Q141 > O145,O141,Q141)","v":0},null,null,null,null,null,null,null,null,""]
[null,"2023-05-04",null,null,null,null,"00:00:00",0,{"$f":"IF(H143>0,H143-Interface!$G$12+I142,0+I142)","v":0},"+",0,null,{"$f":"IF(H143>0,H143-Interface!$G$12+M142,$M$2-Interface!$G$12+M142)","v":-30},-30,{"$f":"IF(Q143<0,-Q143,Q143)","v":0},"En Moins",{"$f":"IF(M146<-($Q$3-O142),0,IF(M146<0,M146,0))","v":0},null,null,null,null,null,null,null,null,""]
[null,"2023-05-05",null,null,null,null,"00:00:00",0,{"$f":"IF(H144>0,H144-Interface!$G$13+I143,0+I143)","v":0},"+",0,null,{"$f":"IF(H144>0,H144-Interface!$G$13+M143,$M$2-Interface!$G$13+M143)","v":-37.5},-37.299999999999997,{"$f":"SUM(O141-O142)","v":0.99},"Retenue -",{"$f":"IF(Q143=-Q139,0,IF(Q143>=0,0,IF(Q143>-O144,IF(Q140<O141,IF(Q143>-O144,IF(Q140=O143,Q143,IF(O143>Q140,IF((Q140-O141)<Q143,IF(O143>Q140,-Q140,Q140+Q143),-Q140),Q143)),Q143),Q143),IF(Q140<O141,IF(Q143>=-O144,44,Q140+Q143),-O141))))","v":0},null,null,null,null,null,null,null,null,""]
[null,"2023-05-06",null,null,null,null,"00:00:00",0,{"$f":"IF(H145>0,H145-Interface!$G$14+I144,0+I144)","v":0},"+",0,null,{"$f":"IF(H145>0,H145-Interface!$G$14+M144,$M$2-Interface!$G$14+M144)","v":-37.5},-37.299999999999997,{"$f":"SUM(O141+O142)","v":1.01},{"$f":"IF(M146=0,Q140, IF(M146=-$Q$3,Q140,IF(Q140+Q142>O140,0,IF(Q140<O141,IF(Q142>0,Q140+Q144+Q142,Q140-O143),0))))","v":0},{"$f":"IF(M146=-$Q$3,0,IF(Q140+Q142>O140,O140,IF(Q140>=O141,IF(Q144<=-O142,Q140+Q144,Q140+Q142),0)))","v":0},null,null,null,null,null,null,null,null,""]
[null,"2023-05-07",null,null,null,null,"00:00:00",0,{"$f":"IF(H146>0,H146-Interface!$G$15+I145,0+I145)","v":0},"+",0,null,{"$f":"IF(H146>0,H146-Interface!$G$15+M145,$M$2-Interface!$G$15+M145)","v":-37.5},-37.299999999999997,null,{"$f":"IF(M146=0,Q140,IF((P145+Q145)<=0,0,P145+Q145))","v":0},{"$f":"IF(M146=-$Q$3,0,IF(M146<-O142,IF(Q140>-O144,IF(Q140<O141,IF(Q143<-O144,Q144,IF(Q140=0,Q143,IF(Q140=O143,Q140+Q143,Q143-Q144))),IF(Q143<=-O141,Q143-Q144,IF((Q140-Q144)>0,0,41))),0),0))","v":0},null,null,null,null,null,null,null,null,""]
[null,null,"Ajustement Compteur",null,0,{"$f":"F139+1","v":18},{"$f":"G140+G141+G142+G143+G144+G145+G146","v":0},{"$f":"SUM(H140:H146)","v":0},{"$f":"I146","v":0},"+",0,null,-37.5,-37.299999999999997,{"$f":"((P147-INT(P147))*5/3)+INT(P147)","v":0},{"$f":"((P146-INT(P146))*3/5)+INT(P146)+E147","v":0},{"$f":"((Q146-ROUNDDOWN(Q146,0))/5*3)+ROUNDDOWN(Q146,0)","v":0},null,{"$f":"SUM(S140:S146)","v":0},0,0,0,null,{"$f":"SUM(X140:X146)","v":0},{"$f":"SUM(Y140:Y146)+IF(Interface!$P$11=O141,IF(Q140<O140,IF(Q140+Q141>(O140-O142),Q140+Q141-O140,0),Q141))","v":0}]
[null,{"$f":"B146+1","v":"2023-05-08"},null,null,null,null,{"$f":"D148-C148+F148-E148","v":"00:00:00"},{"$f":"(G148-INT(G148))*24","v":0},{"$f":"IF(H148>0,H148-Interface!$G$9,0)","v":0},"+",0,null,{"$f":"IF(H148>0,H148-Interface!$G$9,$M$2-Interface!$G$9)","v":-7.5},-7.3,{"$f":"Interface!$S$9","v":4},"Report",{"$f":"O147","v":0},null,null,null,null,null,null,null,null,{"$f":"IF(S148>0,1,IF(T148>0,2,IF(U148>0,3,IF(V148>0,4,IF(W148>0,W148,IF(X148>0,7,\"\"))))))","v":""}]
[null,{"$f":"B148+1","v":"2023-05-09"},null,null,null,null,"00:00:00",0,{"$f":"IF(H149>0,H149-Interface!$G$10+I148,0+I148)","v":0},"+",0,null,{"$f":"IF(H149>0,H149-Interface!$G$10+M148,$M$2-Interface!$G$10+M148)","v":-15},-15,{"$f":"Interface!$S$11","v":1},"En Plus",{"$f":"IF(M154>0,M154,0)","v":0},null,null,null,null,null,null,null,null,{"$f":"IF(S149>0,1,IF(T149>0,2,IF(U149>0,3,IF(V149>0,4,IF(W149>0,W149,IF(X149>0,7,\"\"))))))","v":""}]
[null,"2023-05-10",null,null,null,null,"00:00:00",0,{"$f":"IF(H150>0,H150-Interface!$G$11+I149,0+I149)","v":0},"+",0,null,{"$f":"IF(H150>0,H150-Interface!$G$11+M149,$M$2-Interface!$G$11+M149)","v":-22.5},-22.3,0.01,"Retenue +",{"$f":"IF(Q149 > O153,O149,Q149)","v":0},null,null,null,null,null,null,null,null,""]
[null,"2023-05-11",null,null,null,null,"00:00:00",0,{"$f":"IF(H151>0,H151-Interface!$G$12+I150,0+I150)","v":0},"+",0,null,{"$f":"IF(H151>0,H151-Interface!$G$12+M150,$M$2-Interface!$G$12+M150)","v":-30},-30,{"$f":"IF(Q151<0,-Q151,Q151)","v":0},"En Moins",{"$f":"IF(M154<-($Q$3-O150),0,IF(M154<0,M154,0))","v":0},null,null,null,null,null,null,null,null,""]
[null,"2023-05-12",null,null,null,null,"00:00:00",0,{"$f":"IF(H152>0,H152-Interface!$G$13+I151,0+I151)","v":0},"+",0,null,{"$f":"IF(H152>0,H152-Interface!$G$13+M151,$M$2-Interface!$G$13+M151)","v":-37.5},-37.299999999999997,{"$f":"SUM(O149-O150)","v":0.99},"Retenue -",{"$f":"IF(Q151=-Q147,0,IF(Q151>=0,0,IF(Q151>-O152,IF(Q148<O149,IF(Q151>-O152,IF(Q148=O151,Q151,IF(O151>Q148,IF((Q148-O149)<Q151,IF(O151>Q148,-Q148,Q148+Q151),-Q148),Q151)),Q151),Q151),IF(Q148<O149,IF(Q151>=-O152,44,Q148+Q151),-O149))))","v":0},null,null,null,null,null,null,null,null,""]
[null,"2023-05-13",null,null,null,null,"00:00:00",0,{"$f":"IF(H153>0,H153-Interface!$G$14+I152,0+I152)","v":0},"+",0,null,{"$f":"IF(H153>0,H153-Interface!$G$14+M152,$M$2-Interface!$G$14+M152)","v":-37.5},-37.299999999999997,{"$f":"SUM(O149+O150)","v":1.01},{"$f":"IF(M154=0,Q148, IF(M154=-$Q$3,Q148,IF(Q148+Q150>O148,0,IF(Q148<O149,IF(Q150>0,Q148+Q152+Q150,Q148-O151),0))))","v":0},{"$f":"IF(M154=-$Q$3,0,IF(Q148+Q150>O148,O148,IF(Q148>=O149,IF(Q152<=-O150,Q148+Q152,Q148+Q150),0)))","v":0},null,null,null,null,null,null,null,null,""]
[null,"2023-05-14",null,null,null,null,"00:00:00",0,{"$f":"IF(H154>0,H154-Interface!$G$15+I153,0+I153)","v":0},"+",0,null,{"$f":"IF(H154>0,H154-Interface!$G$15+M153,$M$2-Interface!$G$15+M153)","v":-37.5},-37.299999999999997,null,{"$f":"IF(M154=0,Q148,IF((P153+Q153)<=0,0,P153+Q153))","v":0},{"$f":"IF(M154=-$Q$3,0,IF(M154<-O150,IF(Q148>-O152,IF(Q148<O149,IF(Q151<-O152,Q152,IF(Q148=0,Q151,IF(Q148=O151,Q148+Q151,Q151-Q152))),IF(Q151<=-O149,Q151-Q152,IF((Q148-Q152)>0,0,41))),0),0))","v":0},null,null,null,null,null,null,null,null,""]
[null,null,"Ajustement Compteur",null,0,{"$f":"F147+1","v":19},{"$f":"G148+G149+G150+G151+G152+G153+G154","v":0},{"$f":"SUM(H148:H154)","v":0},{"$f":"I154","v":0},"+",0,null,{"$f":"M154","v":-37.5},-37.299999999999997,{"$f":"((P155-INT(P155))*5/3)+INT(P155)","v":0},{"$f":"((P154-INT(P154))*3/5)+INT(P154)+E155","v":0},{"$f":"((Q154-ROUNDDOWN(Q154,0))/5*3)+ROUNDDOWN(Q154,0)","v":0},null,{"$f":"SUM(S148:S154)","v":0},0,0,0,null,{"$f":"SUM(X148:X154)","v":0},{"$f":"SUM(Y148:Y154)+IF(Interface!$P$11=O149,IF(Q148<O148,IF(Q148+Q149>(O148-O150),Q148+Q149-O148,0),Q149))","v":0}]
[null,{"$f":"B154+1","v":"2023-05-15"},null,null,null,null,{"$f":"D156-C156+F156-E156","v":"00:00:00"},{"$f":"(G156-INT(G156))*24","v":0},{"$f":"IF(H156>0,H156-Interface!$G$9,0)","v":0},"+",0,null,{"$f":"IF(H156>0,H156-Interface!$G$9,$M$2-Interface!$G$9)","v":-7.5},-7.3,{"$f":"Interface!$S$9","v":4},"Report",{"$f":"O155","v":0},null,null,null,null,null,null,null,null,{"$f":"IF(S156>0,1,IF(T156>0,2,IF(U156>0,3,IF(V156>0,4,IF(W156>0,W156,IF(X156>0,7,\"\"))))))","v":""}]
[null,{"$f":"B156+1","v":"2023-05-16"},null,null,null,null,"00:00:00",0,{"$f":"IF(H157>0,H157-Interface!$G$10+I156,0+I156)","v":0},"+",0,null,{"$f":"IF(H157>0,H157-Interface!$G$10+M156,$M$2-Interface!$G$10+M156)","v":-15},-15,{"$f":"Interface!$S$11","v":1},"En Plus",{"$f":"IF(M162>0,M162,0)","v":0},null,null,null,null,null,null,null,null,{"$f":"IF(S157>0,1,IF(T157>0,2,IF(U157>0,3,IF(V157>0,4,IF(W157>0,W157,IF(X157>0,7,\"\"))))))","v":""}]
[null,"2023-05-17",null,null,null,null,"00:00:00",0,{"$f":"IF(H158>0,H158-Interface!$G$11+I157,0+I157)","v":0},"+",0,null,{"$f":"IF(H158>0,H158-Interface!$G$11+M157,$M$2-Interface!$G$11+M157)","v":-22.5},-22.3,0.01,"Retenue +",{"$f":"IF(Q157 > O161,O157,Q157)","v":0},null,null,null,null,null,null,null,null,""]
[null,"2023-05-18",null,null,null,null,"00:00:00",0,{"$f":"IF(H159>0,H159-Interface!$G$12+I158,0+I158)","v":0},"+",0,null,{"$f":"IF(H159>0,H159-Interface!$G$12+M158,$M$2-Interface!$G$12+M158)","v":-30},-30,{"$f":"IF(Q159<0,-Q159,Q159)","v":0},"En Moins",{"$f":"IF(M162<-($Q$3-O158),0,IF(M162<0,M162,0))","v":0},null,null,null,null,null,null,null,null,""]
[null,"2023-05-19",null,null,null,null,"00:00:00",0,{"$f":"IF(H160>0,H160-Interface!$G$13+I159,0+I159)","v":0},"+",0,null,{"$f":"IF(H160>0,H160-Interface!$G$13+M159,$M$2-Interface!$G$13+M159)","v":-37.5},-37.299999999999997,{"$f":"SUM(O157-O158)","v":0.99},"Retenue -",{"$f":"IF(Q159=-Q155,0,IF(Q159>=0,0,IF(Q159>-O160,IF(Q156<O157,IF(Q159>-O160,IF(Q156=O159,Q159,IF(O159>Q156,IF((Q156-O157)<Q159,IF(O159>Q156,-Q156,Q156+Q159),-Q156),Q159)),Q159),Q159),IF(Q156<O157,IF(Q159>=-O160,44,Q156+Q159),-O157))))","v":0},null,null,null,null,null,null,null,null,""]
[null,"2023-05-20",null,null,null,null,"00:00:00",0,{"$f":"IF(H161>0,H161-Interface!$G$14+I160,0+I160)","v":0},"+",0,null,{"$f":"IF(H161>0,H161-Interface!$G$14+M160,$M$2-Interface!$G$14+M160)","v":-37.5},-37.299999999999997,{"$f":"SUM(O157+O158)","v":1.01},{"$f":"IF(M162=0,Q156, IF(M162=-$Q$3,Q156,IF(Q156+Q158>O156,0,IF(Q156<O157,IF(Q158>0,Q156+Q160+Q158,Q156-O159),0))))","v":0},{"$f":"IF(M162=-$Q$3,0,IF(Q156+Q158>O156,O156,IF(Q156>=O157,IF(Q160<=-O158,Q156+Q160,Q156+Q158),0)))","v":0},null,null,null,null,null,null,null,null,""]
[null,"2023-05-21",null,null,null,null,"00:00:00",0,{"$f":"IF(H162>0,H162-Interface!$G$15+I161,0+I161)","v":0},"+",0,null,{"$f":"IF(H162>0,H162-Interface!$G$15+M161,$M$2-Interface!$G$15+M161)","v":-37.5},-37.299999999999997,null,{"$f":"IF(M162=0,Q156,IF((P161+Q161)<=0,0,P161+Q161))","v":0},{"$f":"IF(M162=-$Q$3,0,IF(M162<-O158,IF(Q156>-O160,IF(Q156<O157,IF(Q159<-O160,Q160,IF(Q156=0,Q159,IF(Q156=O159,Q156+Q159,Q159-Q160))),IF(Q159<=-O157,Q159-Q160,IF((Q156-Q160)>0,0,41))),0),0))","v":0},null,null,null,null,null,null,null,null,""]
[null,null,"Ajustement Compteur",null,0,{"$f":"F155+1","v":20},{"$f":"G156+G157+G158+G159+G160+G161+G162","v":0},{"$f":"SUM(H156:H162)","v":0},{"$f":"I162","v":0},"+",0,null,-37.5,-37.299999999999997,{"$f":"((P163-INT(P163))*5/3)+INT(P163)","v":0},{"$f":"((P162-INT(P162))*3/5)+INT(P162)+E163","v":0},{"$f":"((Q162-ROUNDDOWN(Q162,0))/5*3)+ROUNDDOWN(Q162,0)","v":0},null,{"$f":"SUM(S156:S162)","v":0},0,0,0,null,{"$f":"SUM(X156:X162)","v":0},{"$f":"SUM(Y156:Y162)+IF(Interface!$P$11=O157,IF(Q156<O156,IF(Q156+Q157>(O156-O158),Q156+Q157-O156,0),Q157))","v":0}]
[null,{"$f":"B162+1","v":"2023-05-22"},null,null,null,null,{"$f":"D164-C164+F164-E164","v":"00:00:00"},{"$f":"(G164-INT(G164))*24","v":0},{"$f":"IF(H164>0,H164-Interface!$G$9,0)","v":0},"+",0,null,{"$f":"IF(H164>0,H164-Interface!$G$9,$M$2-Interface!$G$9)","v":-7.5},-7.3,{"$f":"Interface!$S$9","v":4},"Report",{"$f":"O163","v":0},null,null,null,null,null,null,null,null,{"$f":"IF(S164>0,1,IF(T164>0,2,IF(U164>0,3,IF(V164>0,4,IF(W164>0,W164,IF(X164>0,7,\"\"))))))","v":""}]
[null,{"$f":"B164+1","v":"2023-05-23"},null,null,null,null,"00:00:00",0,{"$f":"IF(H165>0,H165-Interface!$G$10+I164,0+I164)","v":0},"+",0,null,{"$f":"IF(H165>0,H165-Interface!$G$10+M164,$M$2-Interface!$G$10+M164)","v":-15},-15,{"$f":"Interface!$S$11","v":1},"En Plus",{"$f":"IF(M170>0,M170,0)","v":0},null,null,null,null,null,null,null,null,{"$f":"IF(S165>0,1,IF(T165>0,2,IF(U165>0,3,IF(V165>0,4,IF(W165>0,W165,IF(X165>0,7,\"\"))))))","v":""}]
[null,"2023-05-24",null,null,null,null,"00:00:00",0,{"$f":"IF(H166>0,H166-Interface!$G$11+I165,0+I165)","v":0},"+",0,null,{"$f":"IF(H166>0,H166-Interface!$G$11+M165,$M$2-Interface!$G$11+M165)","v":-22.5},-22.3,0.01,"Retenue +",{"$f":"IF(Q165 > O169,O165,Q165)","v":0},null,null,null,null,null,null,null,null,""]
[null,"2023-05-25",null,null,null,null,"00:00:00",0,{"$f":"IF(H167>0,H167-Interface!$G$12+I166,0+I166)","v":0},"+",0,null,{"$f":"IF(H167>0,H167-Interface!$G$12+M166,$M$2-Interface!$G$12+M166)","v":-30},-30,{"$f":"IF(Q167<0,-Q167,Q167)","v":0},"En Moins",{"$f":"IF(M170<-($Q$3-O166),0,IF(M170<0,M170,0))","v":0},null,null,null,null,null,null,null,null,""]
[null,"2023-05-26",null,null,null,null,"00:00:00",0,{"$f":"IF(H168>0,H168-Interface!$G$13+I167,0+I167)","v":0},"+",0,null,{"$f":"IF(H168>0,H168-Interface!$G$13+M167,$M$2-Interface!$G$13+M167)","v":-37.5},-37.299999999999997,{"$f":"SUM(O165-O166)","v":0.99},"Retenue -",{"$f":"IF(Q167=-Q163,0,IF(Q167>=0,0,IF(Q167>-O168,IF(Q164<O165,IF(Q167>-O168,IF(Q164=O167,Q167,IF(O167>Q164,IF((Q164-O165)<Q167,IF(O167>Q164,-Q164,Q164+Q167),-Q164),Q167)),Q167),Q167),IF(Q164<O165,IF(Q167>=-O168,44,Q164+Q167),-O165))))","v":0},null,null,null,null,null,null,null,null,""]
[null,"2023-05-27",null,null,null,null,"00:00:00",0,{"$f":"IF(H169>0,H169-Interface!$G$14+I168,0+I168)","v":0},"+",0,null,{"$f":"IF(H169>0,H169-Interface!$G$14+M168,$M$2-Interface!$G$14+M168)","v":-37.5},-37.299999999999997,{"$f":"SUM(O165+O166)","v":1.01},{"$f":"IF(M170=0,Q164, IF(M170=-$Q$3,Q164,IF(Q164+Q166>O164,0,IF(Q164<O165,IF(Q166>0,Q164+Q168+Q166,Q164-O167),0))))","v":0},{"$f":"IF(M170=-$Q$3,0,IF(Q164+Q166>O164,O164,IF(Q164>=O165,IF(Q168<=-O166,Q164+Q168,Q164+Q166),0)))","v":0},null,null,null,null,null,null,null,null,""]
[null,"2023-05-28",null,null,null,null,"00:00:00",0,{"$f":"IF(H170>0,H170-Interface!$G$15+I169,0+I169)","v":0},"+",0,null,{"$f":"IF(H170>0,H170-Interface!$G$15+M169,$M$2-Interface!$G$15+M169)","v":-37.5},-37.299999999999997,null,{"$f":"IF(M170=0,Q164,IF((P169+Q169)<=0,0,P169+Q169))","v":0},{"$f":"IF(M170=-$Q$3,0,IF(M170<-O166,IF(Q164>-O168,IF(Q164<O165,IF(Q167<-O168,Q168,IF(Q164=0,Q167,IF(Q164=O167,Q164+Q167,Q167-Q168))),IF(Q167<=-O165,Q167-Q168,IF((Q164-Q168)>0,0,41))),0),0))","v":0},null,null,null,null,null,null,null,null,""]
[null,null,"Ajustement Compteur",null,0,{"$f":"F163+1","v":21},{"$f":"G164+G165+G166+G167+G168+G169+G170","v":0},{"$f":"SUM(H164:H170)","v":0},{"$f":"I170","v":0},"+",0,null,-37.5,-37.299999999999997,{"$f":"((P171-INT(P171))*5/3)+INT(P171)","v":0},{"$f":"((P170-INT(P170))*3/5)+INT(P170)+E171","v":0},{"$f":"((Q170-ROUNDDOWN(Q170,0))/5*3)+ROUNDDOWN(Q170,0)","v":0},null,{"$f":"SUM(S164:S170)","v":0},0,0,0,null,{"$f":"SUM(X164:X170)","v":0},{"$f":"SUM(Y164:Y170)+IF(Interface!$P$11=O165,IF(Q164<O164,IF(Q164+Q165>(O164-O166),Q164+Q165-O164,0),Q165))","v":0}]
[null,{"$f":"B170+1","v":"2023-05-29"},null,null,null,null,{"$f":"D172-C172+F172-E172","v":"00:00:00"},{"$f":"(G172-INT(G172))*24","v":0},{"$f":"IF(H172>0,H172-Interface!$G$9,0)","v":0},"+",0,null,{"$f":"IF(H172>0,H172-Interface!$G$9,$M$2-Interface!$G$9)","v":-7.5},-7.3,{"$f":"Interface!$S$9","v":4},"Report",{"$f":"O171","v":0},null,null,null,null,null,null,null,null,{"$f":"IF(S172>0,1,IF(T172>0,2,IF(U172>0,3,IF(V172>0,4,IF(W172>0,W172,IF(X172>0,7,\"\"))))))","v":""}]
[null,{"$f":"B172+1","v":"2023-05-30"},null,null,null,null,"00:00:00",0,{"$f":"IF(H173>0,H173-Interface!$G$10+I172,0+I172)","v":0},"+",0,null,{"$f":"IF(H173>0,H173-Interface!$G$10+M172,$M$2-Interface!$G$10+M172)","v":-15},-15,{"$f":"Interface!$S$11","v":1},"En Plus",{"$f":"IF(M178>0,M178,0)","v":0},null,null,null,null,null,null,null,null,{"$f":"IF(S173>0,1,IF(T173>0,2,IF(U173>0,3,IF(V173>0,4,IF(W173>0,W173,IF(X173>0,7,\"\"))))))","v":""}]
[null,"2023-05-31",null,null,null,null,"00:00:00",0,{"$f":"IF(H174>0,H174-Interface!$G$11+I173,0+I173)","v":0},"+",0,null,{"$f":"IF(H174>0,H174-Interface!$G$11+M173,$M$2-Interface!$G$11+M173)","v":-22.5},-22.3,0.01,"Retenue +",{"$f":"IF(Q173 > O177,O173,Q173)","v":0},null,null,null,null,null,null,null,null,""]
[null,"2023-06-01",null,null,null,null,"00:00:00",0,{"$f":"IF(H175>0,H175-Interface!$G$12+I174,0+I174)","v":0},"+",0,null,{"$f":"IF(H175>0,H175-Interface!$G$12+M174,$M$2-Interface!$G$12+M174)","v":-30},-30,{"$f":"IF(Q175<0,-Q175,Q175)","v":0},"En Moins",{"$f":"IF(M178<-($Q$3-O174),0,IF(M178<0,M178,0))","v":0},null,null,null,null,null,null,null,null,""]
[null,"2023-06-02",null,null,null,null,"00:00:00",0,{"$f":"IF(H176>0,H176-Interface!$G$13+I175,0+I175)","v":0},"+",0,null,{"$f":"IF(H176>0,H176-Interface!$G$13+M175,$M$2-Interface!$G$13+M175)","v":-37.5},-37.299999999999997,{"$f":"SUM(O173-O174)","v":0.99},"Retenue -",{"$f":"IF(Q175=-Q171,0,IF(Q175>=0,0,IF(Q175>-O176,IF(Q172<O173,IF(Q175>-O176,IF(Q172=O175,Q175,IF(O175>Q172,IF((Q172-O173)<Q175,IF(O175>Q172,-Q172,Q172+Q175),-Q172),Q175)),Q175),Q175),IF(Q172<O173,IF(Q175>=-O176,44,Q172+Q175),-O173))))","v":0},null,null,null,null,null,null,null,null,""]
[null,"2023-06-03",null,null,null,null,"00:00:00",0,{"$f":"IF(H177>0,H177-Interface!$G$14+I176,0+I176)","v":0},"+",0,null,{"$f":"IF(H177>0,H177-Interface!$G$14+M176,$M$2-Interface!$G$14+M176)","v":-37.5},-37.299999999999997,{"$f":"SUM(O173+O174)","v":1.01},{"$f":"IF(M178=0,Q172, IF(M178=-$Q$3,Q172,IF(Q172+Q174>O172,0,IF(Q172<O173,IF(Q174>0,Q172+Q176+Q174,Q172-O175),0))))","v":0},{"$f":"IF(M178=-$Q$3,0,IF(Q172+Q174>O172,O172,IF(Q172>=O173,IF(Q176<=-O174,Q172+Q176,Q172+Q174),0)))","v":0},null,null,null,null,null,null,null,null,""]
[null,"2023-06-04",null,null,null,null,"00:00:00",0,{"$f":"IF(H178>0,H178-Interface!$G$15+I177,0+I177)","v":0},"+",0,null,{"$f":"IF(H178>0,H178-Interface!$G$15+M177,$M$2-Interface!$G$15+M177)","v":-37.5},-37.299999999999997,null,{"$f":"IF(M178=0,Q172,IF((P177+Q177)<=0,0,P177+Q177))","v":0},{"$f":"IF(M178=-$Q$3,0,IF(M178<-O174,IF(Q172>-O176,IF(Q172<O173,IF(Q175<-O176,Q176,IF(Q172=0,Q175,IF(Q172=O175,Q172+Q175,Q175-Q176))),IF(Q175<=-O173,Q175-Q176,IF((Q172-Q176)>0,0,41))),0),0))","v":0},null,null,null,null,null,null,null,null,""]
[null,"Mai","Ajustement Compteur",null,0,{"$f":"F171+1","v":22},{"$f":"G172+G173+G174+G175+G176+G177+G178","v":0},{"$f":"SUM(H172:H178)","v":0},{"$f":"I178","v":0},"+",0,null,-37.5,-37.299999999999997,{"$f":"((P179-INT(P179))*5/3)+INT(P179)","v":0},{"$f":"((P178-INT(P178))*3/5)+INT(P178)+E179","v":0},{"$f":"((Q178-ROUNDDOWN(Q178,0))/5*3)+ROUNDDOWN(Q178,0)","v":0},null,{"$f":"SUM(S172:S178)+S147+S155+S163+S171","v":0},{"$f":"SUM(T172:T178)+T147+T155+T163+T171","v":0},{"$f":"SUM(U172:U178)+U147+U155+U163+U171","v":0},{"$f":"SUM(V172:V178)+V147+V155+V163+V171","v":0},null,{"$f":"SUM(X172:X178)+X147+X155+X163+X171","v":0},{"$f":"(SUM(Y172:Y178)+Y171+Y163+Y155+Y147)+IF(Interface!$Q$12=1,IF(Q172<O164,IF(Q172+Q173>(O164-O166),Q172+Q173-O172,0),Q173))","v":0}]
[null,{"$f":"B178+1","v":"2023-06-05"},null,null,null,null,{"$f":"D180-C180+F180-E180","v":"00:00:00"},{"$f":"(G180-INT(G180))*24","v":0},{"$f":"IF(H180>0,H180-Interface!$G$9,0)","v":0},"+",0,null,{"$f":"IF(H180>0,H180-Interface!$G$9,$M$2-Interface!$G$9)","v":-7.5},-7.3,{"$f":"Interface!$S$9","v":4},"Report",{"$f":"O179","v":0},null,null,null,null,null,null,null,null,{"$f":"IF(S180>0,1,IF(T180>0,2,IF(U180>0,3,IF(V180>0,4,IF(W180>0,W180,IF(X180>0,7,\"\"))))))","v":""}]
[null,{"$f":"B180+1","v":"2023-06-06"},null,null,null,null,"00:00:00",0,{"$f":"IF(H181>0,H181-Interface!$G$10+I180,0+I180)","v":0},"+",0,null,{"$f":"IF(H181>0,H181-Interface!$G$10+M180,$M$2-Interface!$G$10+M180)","v":-15},-15,{"$f":"Interface!$S$11","v":1},"En Plus",{"$f":"IF(M186>0,M186,0)","v":0},null,null,null,null,null,null,null,null,{"$f":"IF(S181>0,1,IF(T181>0,2,IF(U181>0,3,IF(V181>0,4,IF(W181>0,W181,IF(X181>0,7,\"\"))))))","v":""}]
[null,"2023-06-07",null,null,null,null,"00:00:00",0,{"$f":"IF(H182>0,H182-Interface!$G$11+I181,0+I181)","v":0},"+",0,null,{"$f":"IF(H182>0,H182-Interface!$G$11+M181,$M$2-Interface!$G$11+M181)","v":-22.5},-22.3,0.01,"Retenue +",{"$f":"IF(Q181 > O185,O181,Q181)","v":0},null,null,null,null,null,null,null,null,""]
[null,"2023-06-08",null,null,null,null,"00:00:00",0,{"$f":"IF(H183>0,H183-Interface!$G$12+I182,0+I182)","v":0},"+",0,null,{"$f":"IF(H183>0,H183-Interface!$G$12+M182,$M$2-Interface!$G$12+M182)","v":-30},-30,{"$f":"IF(Q183<0,-Q183,Q183)","v":0},"En Moins",{"$f":"IF(M186<-($Q$3-O182),0,IF(M186<0,M186,0))","v":0},null,null,null,null,null,null,null,null,""]
[null,"2023-06-09",null,null,null,null,"00:00:00",0,{"$f":"IF(H184>0,H184-Interface!$G$13+I183,0+I183)","v":0},"+",0,null,{"$f":"IF(H184>0,H184-Interface!$G$13+M183,$M$2-Interface!$G$13+M183)","v":-37.5},-37.299999999999997,{"$f":"SUM(O181-O182)","v":0.99},"Retenue -",{"$f":"IF(Q183=-Q179,0,IF(Q183>=0,0,IF(Q183>-O184,IF(Q180<O181,IF(Q183>-O184,IF(Q180=O183,Q183,IF(O183>Q180,IF((Q180-O181)<Q183,IF(O183>Q180,-Q180,Q180+Q183),-Q180),Q183)),Q183),Q183),IF(Q180<O181,IF(Q183>=-O184,44,Q180+Q183),-O181))))","v":0},null,null,null,null,null,null,null,null,""]
[null,"2023-06-10",null,null,null,null,"00:00:00",0,{"$f":"IF(H185>0,H185-Interface!$G$14+I184,0+I184)","v":0},"+",0,null,{"$f":"IF(H185>0,H185-Interface!$G$14+M184,$M$2-Interface!$G$14+M184)","v":-37.5},-37.299999999999997,{"$f":"SUM(O181+O182)","v":1.01},{"$f":"IF(M186=0,Q180, IF(M186=-$Q$3,Q180,IF(Q180+Q182>O180,0,IF(Q180<O181,IF(Q182>0,Q180+Q184+Q182,Q180-O183),0))))","v":0},{"$f":"IF(M186=-$Q$3,0,IF(Q180+Q182>O180,O180,IF(Q180>=O181,IF(Q184<=-O182,Q180+Q184,Q180+Q182),0)))","v":0},null,null,null,null,null,null,null,null,""]
[null,"2023-06-11",null,null,null,null,"00:00:00",0,{"$f":"IF(H186>0,H186-Interface!$G$15+I185,0+I185)","v":0},"+",0,null,{"$f":"IF(H186>0,H186-Interface!$G$15+M185,$M$2-Interface!$G$15+M185)","v":-37.5},-37.299999999999997,null,{"$f":"IF(M186=0,Q180,IF((P185+Q185)<=0,0,P185+Q185))","v":0},{"$f":"IF(M186=-$Q$3,0,IF(M186<-O182,IF(Q180>-O184,IF(Q180<O181,IF(Q183<-O184,Q184,IF(Q180=0,Q183,IF(Q180=O183,Q180+Q183,Q183-Q184))),IF(Q183<=-O181,Q183-Q184,IF((Q180-Q184)>0,0,41))),0),0))","v":0},null,null,null,null,null,null,null,null,""]
[null,null,"Ajustement Compteur",null,0,{"$f":"F179+1","v":23},{"$f":"G180+G181+G182+G183+G184+G185+G186","v":0},{"$f":"SUM(H180:H186)","v":0},{"$f":"I186","v":0},"+",0,null,-37.5,-37.299999999999997,{"$f":"((P187-INT(P187))*5/3)+INT(P187)","v":0},{"$f":"((P186-INT(P186))*3/5)+INT(P186)+E187","v":0},{"$f":"((Q186-ROUNDDOWN(Q186,0))/5*3)+ROUNDDOWN(Q186,0)","v":0},null,{"$f":"SUM(S180:S186)","v":0},0,0,0,null,{"$f":"SUM(X180:X186)","v":0},{"$f":"SUM(Y180:Y186)+IF(Interface!$P$11=O181,IF(Q180<O180,IF(Q180+Q181>(O180-O182),Q180+Q181-O180,0),Q181))","v":0}]
[null,{"$f":"B186+1","v":"2023-06-12"},null,null,null,null,{"$f":"D188-C188+F188-E188","v":"00:00:00"},{"$f":"(G188-INT(G188))*24","v":0},{"$f":"IF(H188>0,H188-Interface!$G$9,0)","v":0},"+",0,null,{"$f":"IF(H188>0,H188-Interface!$G$9,$M$2-Interface!$G$9)","v":-7.5},-7.3,{"$f":"Interface!$S$9","v":4},"Report",{"$f":"O187","v":0},null,null,null,null,null,null,null,null,{"$f":"IF(S188>0,1,IF(T188>0,2,IF(U188>0,3,IF(V188>0,4,IF(W188>0,W188,IF(X188>0,7,\"\"))))))","v":""}]
[null,{"$f":"B188+1","v":"2023-06-13"},null,null,null,null,"00:00:00",0,{"$f":"IF(H189>0,H189-Interface!$G$10+I188,0+I188)","v":0},"+",0,null,{"$f":"IF(H189>0,H189-Interface!$G$10+M188,$M$2-Interface!$G$10+M188)","v":-15},-15,{"$f":"Interface!$S$11","v":1},"En Plus",{"$f":"IF(M194>0,M194,0)","v":0},null,null,null,null,null,null,null,null,{"$f":"IF(S189>0,1,IF(T189>0,2,IF(U189>0,3,IF(V189>0,4,IF(W189>0,W189,IF(X189>0,7,\"\"))))))","v":""}]
[null,"2023-06-14",null,null,null,null,"00:00:00",0,{"$f":"IF(H190>0,H190-Interface!$G$11+I189,0+I189)","v":0},"+",0,null,{"$f":"IF(H190>0,H190-Interface!$G$11+M189,$M$2-Interface!$G$11+M189)","v":-22.5},-22.3,0.01,"Retenue +",{"$f":"IF(Q189 > O193,O189,Q189)","v":0},null,null,null,null,null,null,null,null,""]
[null,"2023-06-15",null,null,null,null,"00:00:00",0,{"$f":"IF(H191>0,H191-Interface!$G$12+I190,0+I190)","v":0},"+",0,null,{"$f":"IF(H191>0,H191-Interface!$G$12+M190,$M$2-Interface!$G$12+M190)","v":-30},-30,{"$f":"IF(Q191<0,-Q191,Q191)","v":0},"En Moins",{"$f":"IF(M194<-($Q$3-O190),0,IF(M194<0,M194,0))","v":0},null,null,null,null,null,null,null,null,""]
[null,"2023-06-16",null,null,null,null,"00:00:00",0,{"$f":"IF(H192>0,H192-Interface!$G$13+I191,0+I191)","v":0},"+",0,null,{"$f":"IF(H192>0,H192-Interface!$G$13+M191,$M$2-Interface!$G$13+M191)","v":-37.5},-37.299999999999997,{"$f":"SUM(O189-O190)","v":0.99},"Retenue -",{"$f":"IF(Q191=-Q187,0,IF(Q191>=0,0,IF(Q191>-O192,IF(Q188<O189,IF(Q191>-O192,IF(Q188=O191,Q191,IF(O191>Q188,IF((Q188-O189)<Q191,IF(O191>Q188,-Q188,Q188+Q191),-Q188),Q191)),Q191),Q191),IF(Q188<O189,IF(Q191>=-O192,44,Q188+Q191),-O189))))","v":0},null,null,null,null,null,null,null,null,""]
[null,"2023-06-17",null,null,null,null,"00:00:00",0,{"$f":"IF(H193>0,H193-Interface!$G$14+I192,0+I192)","v":0},"+",0,null,{"$f":"IF(H193>0,H193-Interface!$G$14+M192,$M$2-Interface!$G$14+M192)","v":-37.5},-37.299999999999997,{"$f":"SUM(O189+O190)","v":1.01},{"$f":"IF(M194=0,Q188, IF(M194=-$Q$3,Q188,IF(Q188+Q190>O188,0,IF(Q188<O189,IF(Q190>0,Q188+Q192+Q190,Q188-O191),0))))","v":0},{"$f":"IF(M194=-$Q$3,0,IF(Q188+Q190>O188,O188,IF(Q188>=O189,IF(Q192<=-O190,Q188+Q192,Q188+Q190),0)))","v":0},null,null,null,null,null,null,null,null,""]
[null,"2023-06-18",null,null,null,null,"00:00:00",0,{"$f":"IF(H194>0,H194-Interface!$G$15+I193,0+I193)","v":0},"+",0,null,{"$f":"IF(H194>0,H194-Interface!$G$15+M193,$M$2-Interface!$G$15+M193)","v":-37.5},-37.299999999999997,null,{"$f":"IF(M194=0,Q188,IF((P193+Q193)<=0,0,P193+Q193))","v":0},{"$f":"IF(M194=-$Q$3,0,IF(M194<-O190,IF(Q188>-O192,IF(Q188<O189,IF(Q191<-O192,Q192,IF(Q188=0,Q191,IF(Q188=O191,Q188+Q191,Q191-Q192))),IF(Q191<=-O189,Q191-Q192,IF((Q188-Q192)>0,0,41))),0),0))","v":0},null,null,null,null,null,null,null,null,""]
[null,null,"Ajustement Compteur",null,0,{"$f":"F187+1","v":24},{"$f":"G188+G189+G190+G191+G192+G193+G194","v":0},{"$f":"SUM(H188:H194)","v":0},{"$f":"I194","v":0},"+",0,null,-37.5,-37.299999999999997,{"$f":"((P195-INT(P195))*5/3)+INT(P195)","v":0},{"$f":"((P194-INT(P194))*3/5)+INT(P194)+E195","v":0},{"$f":"((Q194-ROUNDDOWN(Q194,0))/5*3)+ROUNDDOWN(Q194,0)","v":0},null,{"$f":"SUM(S188:S194)","v":0},0,0,0,null,{"$f":"SUM(X188:X194)","v":0},{"$f":"SUM(Y188:Y194)+IF(Interface!$P$11=O189,IF(Q188<O188,IF(Q188+Q189>(O188-O190),Q188+Q189-O188,0),Q189))","v":0}]
[null,{"$f":"B194+1","v":"2023-06-19"},null,null,null,null,{"$f":"D196-C196+F196-E196","v":"00:00:00"},{"$f":"(G196-INT(G196))*24","v":0},{"$f":"IF(H196>0,H196-Interface!$G$9,0)","v":0},"+",0,null,{"$f":"IF(H196>0,H196-Interface!$G$9,$M$2-Interface!$G$9)","v":-7.5},{"$f":"((M196-ROUNDDOWN(M196,0))/5*3)+ROUNDDOWN(M196,0)","v":-7.3},{"$f":"Interface!$S$9","v":4},"Report",{"$f":"O195","v":0},null,null,null,null,null,null,null,null,{"$f":"IF(S196>0,1,IF(T196>0,2,IF(U196>0,3,IF(V196>0,4,IF(W196>0,W196,IF(X196>0,7,\"\"))))))","v":""}]
[null,{"$f":"B196+1","v":"2023-06-20"},null,null,null,null,"00:00:00",0,{"$f":"IF(H197>0,H197-Interface!$G$10+I196,0+I196)","v":0},"+",0,null,{"$f":"IF(H197>0,H197-Interface!$G$10+M196,$M$2-Interface!$G$10+M196)","v":-15},-15,{"$f":"Interface!$S$11","v":1},"En Plus",{"$f":"IF(M202>0,M202,0)","v":0},null,null,null,null,null,null,null,null,{"$f":"IF(S197>0,1,IF(T197>0,2,IF(U197>0,3,IF(V197>0,4,IF(W197>0,W197,IF(X197>0,7,\"\"))))))","v":""}]
[null,"2023-06-21",null,null,null,null,"00:00:00",0,{"$f":"IF(H198>0,H198-Interface!$G$11+I197,0+I197)","v":0},"+",0,null,{"$f":"IF(H198>0,H198-Interface!$G$11+M197,$M$2-Interface!$G$11+M197)","v":-22.5},-22.3,0.01,"Retenue +",{"$f":"IF(Q197 > O201,O197,Q197)","v":0},null,null,null,null,null,null,null,null,""]
[null,"2023-06-22",null,null,null,null,"00:00:00",0,{"$f":"IF(H199>0,H199-Interface!$G$12+I198,0+I198)","v":0},"+",0,null,{"$f":"IF(H199>0,H199-Interface!$G$12+M198,$M$2-Interface!$G$12+M198)","v":-30},-30,{"$f":"IF(Q199<0,-Q199,Q199)","v":0},"En Moins",{"$f":"IF(M202<-($Q$3-O198),0,IF(M202<0,M202,0))","v":0},null,null,null,null,null,null,null,null,""]
[null,"2023-06-23",null,null,null,null,"00:00:00",0,{"$f":"IF(H200>0,H200-Interface!$G$13+I199,0+I199)","v":0},"+",0,null,{"$f":"IF(H200>0,H200-Interface!$G$13+M199,$M$2-Interface!$G$13+M199)","v":-37.5},-37.299999999999997,{"$f":"SUM(O197-O198)","v":0.99},"Retenue -",{"$f":"IF(Q199=-Q195,0,IF(Q199>=0,0,IF(Q199>-O200,IF(Q196<O197,IF(Q199>-O200,IF(Q196=O199,Q199,IF(O199>Q196,IF((Q196-O197)<Q199,IF(O199>Q196,-Q196,Q196+Q199),-Q196),Q199)),Q199),Q199),IF(Q196<O197,IF(Q199>=-O200,44,Q196+Q199),-O197))))","v":0},null,null,null,null,null,null,null,null,""]
[null,"2023-06-24",null,null,null,null,"00:00:00",0,{"$f":"IF(H201>0,H201-Interface!$G$14+I200,0+I200)","v":0},"+",0,null,{"$f":"IF(H201>0,H201-Interface!$G$14+M200,$M$2-Interface!$G$14+M200)","v":-37.5},-37.299999999999997,{"$f":"SUM(O197+O198)","v":1.01},{"$f":"IF(M202=0,Q196, IF(M202=-$Q$3,Q196,IF(Q196+Q198>O196,0,IF(Q196<O197,IF(Q198>0,Q196+Q200+Q198,Q196-O199),0))))","v":0},{"$f":"IF(M202=-$Q$3,0,IF(Q196+Q198>O196,O196,IF(Q196>=O197,IF(Q200<=-O198,Q196+Q200,Q196+Q198),0)))","v":0},null,null,null,null,null,null,null,null,""]
[null,"2023-06-25",null,null,null,null,"00:00:00",0,{"$f":"IF(H202>0,H202-Interface!$G$15+I201,0+I201)","v":0},"+",0,null,{"$f":"IF(H202>0,H202-Interface!$G$15+M201,$M$2-Interface!$G$15+M201)","v":-37.5},-37.299999999999997,null,{"$f":"IF(M202=0,Q196,IF((P201+Q201)<=0,0,P201+Q201))","v":0},{"$f":"IF(M202=-$Q$3,0,IF(M202<-O198,IF(Q196>-O200,IF(Q196<O197,IF(Q199<-O200,Q200,IF(Q196=0,Q199,IF(Q196=O199,Q196+Q199,Q199-Q200))),IF(Q199<=-O197,Q199-Q200,IF((Q196-Q200)>0,0,41))),0),0))","v":0},null,null,null,null,null,null,null,null,""]
[null,null,"Ajustement Compteur",null,0,{"$f":"F195+1","v":25},{"$f":"G196+G197+G198+G199+G200+G201+G202","v":0},{"$f":"SUM(H196:H202)","v":0},{"$f":"I202","v":0},"+",0,null,-37.5,-37.299999999999997,{"$f":"((P203-INT(P203))*5/3)+INT(P203)","v":0},{"$f":"((P202-INT(P202))*3/5)+INT(P202)+E203","v":0},{"$f":"((Q202-ROUNDDOWN(Q202,0))/5*3)+ROUNDDOWN(Q202,0)","v":0},null,{"$f":"SUM(S196:S202)","v":0},0,0,0,null,{"$f":"SUM(X196:X202)","v":0},{"$f":"SUM(Y196:Y202)+IF(Interface!$P$11=O197,IF(Q196<O196,IF(Q196+Q197>(O196-O198),Q196+Q197-O196,0),Q197))","v":0}]
[null,{"$f":"B202+1","v":"2023-06-26"},null,null,null,null,{"$f":"D204-C204+F204-E204","v":"00:00:00"},{"$f":"(G204-INT(G204))*24","v":0},{"$f":"IF(H204>0,H204-Interface!$G$9,0)","v":0},{"$f":"IF(I204>=0,\"+\",\"-\")","v":"+"},{"$f":"TIME(TRUNC(ABS(I204)),ROUND((ABS(I204)-TRUNC(ABS(I204)))*60,),0)","v":0},null,{"$f":"IF(H204>0,H204-Interface!$G$9,$M$2-Interface!$G$9)","v":-7.5},-7.3,{"$f":"Interface!$S$9","v":4},"Report",{"$f":"O203","v":0},null,null,null,null,null,null,null,null,{"$f":"IF(S204>0,1,IF(T204>0,2,IF(U204>0,3,IF(V204>0,4,IF(W204>0,W204,IF(X204>0,7,\"\"))))))","v":""}]
[null,{"$f":"B204+1","v":"2023-06-27"},null,null,null,null,"00:00:00",0,{"$f":"IF(H205>0,H205-Interface!$G$10+I204,0+I204)","v":0},"+",0,null,{"$f":"IF(H205>0,H205-Interface!$G$10+M204,$M$2-Interface!$G$10+M204)","v":-15},-15,{"$f":"Interface!$S$11","v":1},"En Plus",{"$f":"IF(M210>0,M210,0)","v":0},null,null,null,null,null,null,null,null,{"$f":"IF(S205>0,1,IF(T205>0,2,IF(U205>0,3,IF(V205>0,4,IF(W205>0,W205,IF(X205>0,7,\"\"))))))","v":""}]
[null,"2023-06-28",null,null,null,null,"00:00:00",0,{"$f":"IF(H206>0,H206-Interface!$G$11+I205,0+I205)","v":0},"+",0,null,{"$f":"IF(H206>0,H206-Interface!$G$11+M205,$M$2-Interface!$G$11+M205)","v":-22.5},-22.3,0.01,"Retenue +",{"$f":"IF(Q205 > O209,O205,Q205)","v":0},null,null,null,null,null,null,null,null,""]
[null,"2023-06-29",null,null,null,null,"00:00:00",0,{"$f":"IF(H207>0,H207-Interface!$G$12+I206,0+I206)","v":0},"+",0,null,{"$f":"IF(H207>0,H207-Interface!$G$12+M206,$M$2-Interface!$G$12+M206)","v":-30},-30,{"$f":"IF(Q207<0,-Q207,Q207)","v":0},"En Moins",{"$f":"IF(M210<-($Q$3-O206),0,IF(M210<0,M210,0))","v":0},null,null,null,null,null,null,null,null,""]
[null,"2023-06-30",null,null,null,null,"00:00:00",0,{"$f":"IF(H208>0,H208-Interface!$G$13+I207,0+I207)","v":0},"+",0,null,{"$f":"IF(H208>0,H208-Interface!$G$13+M207,$M$2-Interface!$G$13+M207)","v":-37.5},-37.299999999999997,{"$f":"SUM(O205-O206)","v":0.99},"Retenue -",{"$f":"IF(Q207=-Q203,0,IF(Q207>=0,0,IF(Q207>-O208,IF(Q204<O205,IF(Q207>-O208,IF(Q204=O207,Q207,IF(O207>Q204,IF((Q204-O205)<Q207,IF(O207>Q204,-Q204,Q204+Q207),-Q204),Q207)),Q207),Q207),IF(Q204<O205,IF(Q207>=-O208,44,Q204+Q207),-O205))))","v":0},null,null,null,null,null,null,null,null,""]
[null,"2023-07-01",null,null,null,null,"00:00:00",0,{"$f":"IF(H209>0,H209-Interface!$G$14+I208,0+I208)","v":0},"+",0,null,{"$f":"IF(H209>0,H209-Interface!$G$14+M208,$M$2-Interface!$G$14+M208)","v":-37.5},-37.299999999999997,{"$f":"SUM(O205+O206)","v":1.01},{"$f":"IF(M210=0,Q204, IF(M210=-$Q$3,Q204,IF(Q204+Q206>O204,0,IF(Q204<O205,IF(Q206>0,Q204+Q208+Q206,Q204-O207),0))))","v":0},{"$f":"IF(M210=-$Q$3,0,IF(Q204+Q206>O204,O204,IF(Q204>=O205,IF(Q208<=-O206,Q204+Q208,Q204+Q206),0)))","v":0},null,null,null,null,null,null,null,null,""]
[null,"2023-07-02",null,null,null,null,"00:00:00",0,{"$f":"IF(H210>0,H210-Interface!$G$15+I209,0+I209)","v":0},"+",0,null,{"$f":"IF(H210>0,H210-Interface!$G$15+M209,$M$2-Interface!$G$15+M209)","v":-37.5},-37.299999999999997,null,{"$f":"IF(M210=0,Q204,IF((P209+Q209)<=0,0,P209+Q209))","v":0},{"$f":"IF(M210=-$Q$3,0,IF(M210<-O206,IF(Q204>-O208,IF(Q204<O205,IF(Q207<-O208,Q208,IF(Q204=0,Q207,IF(Q204=O207,Q204+Q207,Q207-Q208))),IF(Q207<=-O205,Q207-Q208,IF((Q204-Q208)>0,0,41))),0),0))","v":0},null,null,null,null,null,null,null,null,""]
[null,"Juin","Ajustement Compteur",null,0,{"$f":"F203+1","v":26},{"$f":"G204+G205+G206+G207+G208+G209+G210","v":0},{"$f":"SUM(H204:H210)","v":0},{"$f":"I210","v":0},"+",0,null,-37.5,-37.299999999999997,{"$f":"((P211-INT(P211))*5/3)+INT(P211)","v":0},{"$f":"((P210-INT(P210))*3/5)+INT(P210)+E211","v":0},{"$f":"((Q210-ROUNDDOWN(Q210,0))/5*3)+ROUNDDOWN(Q210,0)","v":0},null,{"$f":"SUM(S204:S210)+S187+S195+S203","v":0},{"$f":"SUM(T204:T210)+T187+T195+T203","v":0},0,0,null,{"$f":"SUM(X204:X210)+X187+X195+X203","v":0},{"$f":"(SUM(Y204:Y210)+Y203+Y195+Y187)+IF(Interface!$Q$12=1,IF(Q204<O196,IF(Q204+Q205>(O196-O198),Q204+Q205-O204,0),Q205))","v":0}]
[null,{"$f":"B210+1","v":"2023-07-03"},null,null,null,null,{"$f":"D212-C212+F212-E212","v":"00:00:00"},{"$f":"(G212-INT(G212))*24","v":0},{"$f":"IF(H212>0,H212-Interface!$G$9,0)","v":0},"+",0,null,{"$f":"IF(H212>0,H212-Interface!$G$9,$M$2-Interface!$G$9)","v":-7.5},-7.3,{"$f":"Interface!$S$9","v":4},"Report",{"$f":"O211","v":0},null,null,null,null,null,null,null,null,{"$f":"IF(S212>0,1,IF(T212>0,2,IF(U212>0,3,IF(V212>0,4,IF(W212>0,W212,IF(X212>0,7,\"\"))))))","v":""}]
[null,{"$f":"B212+1","v":"2023-07-04"},null,null,null,null,"00:00:00",0,{"$f":"IF(H213>0,H213-Interface!$G$10+I212,0+I212)","v":0},"+",0,null,{"$f":"IF(H213>0,H213-Interface!$G$10+M212,$M$2-Interface!$G$10+M212)","v":-15},-15,{"$f":"Interface!$S$11","v":1},"En Plus",{"$f":"IF(M218>0,M218,0)","v":0},null,null,null,null,null,null,null,null,{"$f":"IF(S213>0,1,IF(T213>0,2,IF(U213>0,3,IF(V213>0,4,IF(W213>0,W213,IF(X213>0,7,\"\"))))))","v":""}]
[null,"2023-07-05",null,null,null,null,"00:00:00",0,{"$f":"IF(H214>0,H214-Interface!$G$11+I213,0+I213)","v":0},"+",0,null,{"$f":"IF(H214>0,H214-Interface!$G$11+M213,$M$2-Interface!$G$11+M213)","v":-22.5},-22.3,0.01,"Retenue +",{"$f":"IF(Q213 > O217,O213,Q213)","v":0},null,null,null,null,null,null,null,null,""]
[null,"2023-07-06",null,null,null,null,"00:00:00",0,{"$f":"IF(H215>0,H215-Interface!$G$12+I214,0+I214)","v":0},"+",0,null,{"$f":"IF(H215>0,H215-Interface!$G$12+M214,$M$2-Interface!$G$12+M214)","v":-30},-30,{"$f":"IF(Q215<0,-Q215,Q215)","v":0},"En Moins",{"$f":"IF(M218<-($Q$3-O214),0,IF(M218<0,M218,0))","v":0},null,null,null,null,null,null,null,null,""]
[null,"2023-07-07",null,null,null,null,"00:00:00",0,{"$f":"IF(H216>0,H216-Interface!$G$13+I215,0+I215)","v":0},"+",0,null,{"$f":"IF(H216>0,H216-Interface!$G$13+M215,$M$2-Interface!$G$13+M215)","v":-37.5},-37.299999999999997,{"$f":"SUM(O213-O214)","v":0.99},"Retenue -",{"$f":"IF(Q215=-Q211,0,IF(Q215>=0,0,IF(Q215>-O216,IF(Q212<O213,IF(Q215>-O216,IF(Q212=O215,Q215,IF(O215>Q212,IF((Q212-O213)<Q215,IF(O215>Q212,-Q212,Q212+Q215),-Q212),Q215)),Q215),Q215),IF(Q212<O213,IF(Q215>=-O216,44,Q212+Q215),-O213))))","v":0},null,null,null,null,null,null,null,null,""]
[null,"2023-07-08",null,null,null,null,"00:00:00",0,{"$f":"IF(H217>0,H217-Interface!$G$14+I216,0+I216)","v":0},"+",0,null,{"$f":"IF(H217>0,H217-Interface!$G$14+M216,$M$2-Interface!$G$14+M216)","v":-37.5},-37.299999999999997,{"$f":"SUM(O213+O214)","v":1.01},{"$f":"IF(M218=0,Q212, IF(M218=-$Q$3,Q212,IF(Q212+Q214>O212,0,IF(Q212<O213,IF(Q214>0,Q212+Q216+Q214,Q212-O215),0))))","v":0},{"$f":"IF(M218=-$Q$3,0,IF(Q212+Q214>O212,O212,IF(Q212>=O213,IF(Q216<=-O214,Q212+Q216,Q212+Q214),0)))","v":0},null,null,null,null,null,null,null,null,""]
[null,"2023-07-09",null,null,null,null,"00:00:00",0,{"$f":"IF(H218>0,H218-Interface!$G$15+I217,0+I217)","v":0},"+",0,null,{"$f":"IF(H218>0,H218-Interface!$G$15+M217,$M$2-Interface!$G$15+M217)","v":-37.5},-37.299999999999997,null,{"$f":"IF(M218=0,Q212,IF((P217+Q217)<=0,0,P217+Q217))","v":0},{"$f":"IF(M218=-$Q$3,0,IF(M218<-O214,IF(Q212>-O216,IF(Q212<O213,IF(Q215<-O216,Q216,IF(Q212=0,Q215,IF(Q212=O215,Q212+Q215,Q215-Q216))),IF(Q215<=-O213,Q215-Q216,IF((Q212-Q216)>0,0,41))),0),0))","v":0},null,null,null,null,null,null,null,null,""]
[null,null,"Ajustement Compteur",null,0,{"$f":"F211+1","v":27},{"$f":"G212+G213+G214+G215+G216+G217+G218","v":0},{"$f":"SUM(H212:H218)","v":0},{"$f":"I218","v":0},"+",0,null,{"$f":"M218","v":-37.5},-37.299999999999997,{"$f":"((P219-INT(P219))*5/3)+INT(P219)","v":0},{"$f":"((P218-INT(P218))*3/5)+INT(P218)+E219","v":0},{"$f":"((Q218-ROUNDDOWN(Q218,0))/5*3)+ROUNDDOWN(Q218,0)","v":0},null,{"$f":"SUM(S212:S218)","v":0},0,0,0,null,{"$f":"SUM(X212:X218)","v":0},{"$f":"SUM(Y212:Y218)+IF(Interface!$P$11=O213,IF(Q212<O212,IF(Q212+Q213>(O212-O214),Q212+Q213-O212,0),Q213))","v":0}]
[null,{"$f":"B218+1","v":"2023-07-10"},null,null,null,null,{"$f":"D220-C220+F220-E220","v":"00:00:00"},{"$f":"(G220-INT(G220))*24","v":0},{"$f":"IF(H220>0,H220-Interface!$G$9,0)","v":0},"+",0,null,{"$f":"IF(H220>0,H220-Interface!$G$9,$M$2-Interface!$G$9)","v":-7.5},-7.3,{"$f":"Interface!$S$9","v":4},"Report",{"$f":"O219","v":0},null,null,null,null,null,null,null,null,{"$f":"IF(S220>0,1,IF(T220>0,2,IF(U220>0,3,IF(V220>0,4,IF(W220>0,W220,IF(X220>0,7,\"\"))))))","v":""}]
[null,{"$f":"B220+1","v":"2023-07-11"},null,null,null,null,"00:00:00",0,{"$f":"IF(H221>0,H221-Interface!$G$10+I220,0+I220)","v":0},"+",0,null,{"$f":"IF(H221>0,H221-Interface!$G$10+M220,$M$2-Interface!$G$10+M220)","v":-15},-15,{"$f":"Interface!$S$11","v":1},"En Plus",{"$f":"IF(M226>0,M226,0)","v":0},null,null,null,null,null,null,null,null,{"$f":"IF(S221>0,1,IF(T221>0,2,IF(U221>0,3,IF(V221>0,4,IF(W221>0,W221,IF(X221>0,7,\"\"))))))","v":""}]
[null,"2023-07-12",null,null,null,null,"00:00:00",0,{"$f":"IF(H222>0,H222-Interface!$G$11+I221,0+I221)","v":0},"+",0,null,{"$f":"IF(H222>0,H222-Interface!$G$11+M221,$M$2-Interface!$G$11+M221)","v":-22.5},-22.3,0.01,"Retenue +",{"$f":"IF(Q221 > O225,O221,Q221)","v":0},null,null,null,null,null,null,null,null,""]
[null,"2023-07-13",null,null,null,null,"00:00:00",0,{"$f":"IF(H223>0,H223-Interface!$G$12+I222,0+I222)","v":0},"+",0,null,{"$f":"IF(H223>0,H223-Interface!$G$12+M222,$M$2-Interface!$G$12+M222)","v":-30},-30,{"$f":"IF(Q223<0,-Q223,Q223)","v":0},"En Moins",{"$f":"IF(M226<-($Q$3-O222),0,IF(M226<0,M226,0))","v":0},null,null,null,null,null,null,null,null,""]
[null,"2023-07-14",null,null,null,null,"00:00:00",0,{"$f":"IF(H224>0,H224-Interface!$G$13+I223,0+I223)","v":0},"+",0,null,{"$f":"IF(H224>0,H224-Interface!$G$13+M223,$M$2-Interface!$G$13+M223)","v":-37.5},-37.299999999999997,{"$f":"SUM(O221-O222)","v":0.99},"Retenue -",{"$f":"IF(Q223=-Q219,0,IF(Q223>=0,0,IF(Q223>-O224,IF(Q220<O221,IF(Q223>-O224,IF(Q220=O223,Q223,IF(O223>Q220,IF((Q220-O221)<Q223,IF(O223>Q220,-Q220,Q220+Q223),-Q220),Q223)),Q223),Q223),IF(Q220<O221,IF(Q223>=-O224,44,Q220+Q223),-O221))))","v":0},null,null,null,null,null,null,null,null,""]
[null,"2023-07-15",null,null,null,null,"00:00:00",0,{"$f":"IF(H225>0,H225-Interface!$G$14+I224,0+I224)","v":0},"+",0,null,{"$f":"IF(H225>0,H225-Interface!$G$14+M224,$M$2-Interface!$G$14+M224)","v":-37.5},-37.299999999999997,{"$f":"SUM(O221+O222)","v":1.01},{"$f":"IF(M226=0,Q220, IF(M226=-$Q$3,Q220,IF(Q220+Q222>O220,0,IF(Q220<O221,IF(Q222>0,Q220+Q224+Q222,Q220-O223),0))))","v":0},{"$f":"IF(M226=-$Q$3,0,IF(Q220+Q222>O220,O220,IF(Q220>=O221,IF(Q224<=-O222,Q220+Q224,Q220+Q222),0)))","v":0},null,null,null,null,null,null,null,null,""]
[null,"2023-07-16",null,null,null,null,"00:00:00",0,{"$f":"IF(H226>0,H226-Interface!$G$15+I225,0+I225)","v":0},"+",0,null,{"$f":"IF(H226>0,H226-Interface!$G$15+M225,$M$2-Interface!$G$15+M225)","v":-37.5},-37.299999999999997,null,{"$f":"IF(M226=0,Q220,IF((P225+Q225)<=0,0,P225+Q225))","v":0},{"$f":"IF(M226=-$Q$3,0,IF(M226<-O222,IF(Q220>-O224,IF(Q220<O221,IF(Q223<-O224,Q224,IF(Q220=0,Q223,IF(Q220=O223,Q220+Q223,Q223-Q224))),IF(Q223<=-O221,Q223-Q224,IF((Q220-Q224)>0,0,41))),0),0))","v":0},null,null,null,null,null,null,null,null,""]
[null,null,"Ajustement Compteur",null,0,{"$f":"F219+1","v":28},{"$f":"G220+G221+G222+G223+G224+G225+G226","v":0},{"$f":"SUM(H220:H226)","v":0},{"$f":"I226","v":0},"+",0,null,-37.5,-37.299999999999997,{"$f":"((P227-INT(P227))*5/3)+INT(P227)","v":0},{"$f":"((P226-INT(P226))*3/5)+INT(P226)+E227","v":0},{"$f":"((Q226-ROUNDDOWN(Q226,0))/5*3)+ROUNDDOWN(Q226,0)","v":0},null,{"$f":"SUM(S220:S226)","v":0},0,0,0,null,{"$f":"SUM(X220:X226)","v":0},{"$f":"SUM(Y220:Y226)+IF(Interface!$P$11=O221,IF(Q220<O220,IF(Q220+Q221>(O220-O222),Q220+Q221-O220,0),Q221))","v":0}]
[null,{"$f":"B226+1","v":"2023-07-17"},null,null,null,null,{"$f":"D228-C228+F228-E228","v":"00:00:00"},{"$f":"(G228-INT(G228))*24","v":0},{"$f":"IF(H228>0,H228-Interface!$G$9,0)","v":0},"+",0,null,{"$f":"IF(H228>0,H228-Interface!$G$9,$M$2-Interface!$G$9)","v":-7.5},-7.3,{"$f":"Interface!$S$9","v":4},"Report",{"$f":"O227","v":0},null,null,null,null,null,null,null,null,{"$f":"IF(S228>0,1,IF(T228>0,2,IF(U228>0,3,IF(V228>0,4,IF(W228>0,W228,IF(X228>0,7,\"\"))))))","v":""}]
[null,{"$f":"B228+1","v":"2023-07-18"},null,null,null,null,"00:00:00",0,{"$f":"IF(H229>0,H229-Interface!$G$10+I228,0+I228)","v":0},"+",0,null,{"$f":"IF(H229>0,H229-Interface!$G$10+M228,$M$2-Interface!$G$10+M228)","v":-15},-15,{"$f":"Interface!$S$11","v":1},"En Plus",{"$f":"IF(M234>0,M234,0)","v":0},null,null,null,null,null,null,null,null,{"$f":"IF(S229>0,1,IF(T229>0,2,IF(U229>0,3,IF(V229>0,4,IF(W229>0,W229,IF(X229>0,7,\"\"))))))","v":""}]
[null,"2023-07-19",null,null,null,null,"00:00:00",0,{"$f":"IF(H230>0,H230-Interface!$G$11+I229,0+I229)","v":0},"+",0,null,{"$f":"IF(H230>0,H230-Interface!$G$11+M229,$M$2-Interface!$G$11+M229)","v":-22.5},-22.3,0.01,"Retenue +",{"$f":"IF(Q229 > O233,O229,Q229)","v":0},null,null,null,null,null,null,null,null,""]
[null,"2023-07-20",null,null,null,null,"00:00:00",0,{"$f":"IF(H231>0,H231-Interface!$G$12+I230,0+I230)","v":0},"+",0,null,{"$f":"IF(H231>0,H231-Interface!$G$12+M230,$M$2-Interface!$G$12+M230)","v":-30},-30,{"$f":"IF(Q231<0,-Q231,Q231)","v":0},"En Moins",{"$f":"IF(M234<-($Q$3-O230),0,IF(M234<0,M234,0))","v":0},null,null,null,null,null,null,null,null,""]
[null,"2023-07-21",null,null,null,null,"00:00:00",0,{"$f":"IF(H232>0,H232-Interface!$G$13+I231,0+I231)","v":0},"+",0,null,{"$f":"IF(H232>0,H232-Interface!$G$13+M231,$M$2-Interface!$G$13+M231)","v":-37.5},-37.299999999999997,{"$f":"SUM(O229-O230)","v":0.99},"Retenue -",{"$f":"IF(Q231=-Q227,0,IF(Q231>=0,0,IF(Q231>-O232,IF(Q228<O229,IF(Q231>-O232,IF(Q228=O231,Q231,IF(O231>Q228,IF((Q228-O229)<Q231,IF(O231>Q228,-Q228,Q228+Q231),-Q228),Q231)),Q231),Q231),IF(Q228<O229,IF(Q231>=-O232,44,Q228+Q231),-O229))))","v":0},null,null,null,null,null,null,null,null,""]
[null,"2023-07-22",null,null,null,null,"00:00:00",0,{"$f":"IF(H233>0,H233-Interface!$G$14+I232,0+I232)","v":0},"+",0,null,{"$f":"IF(H233>0,H233-Interface!$G$14+M232,$M$2-Interface!$G$14+M232)","v":-37.5},-37.299999999999997,{"$f":"SUM(O229+O230)","v":1.01},{"$f":"IF(M234=0,Q228, IF(M234=-$Q$3,Q228,IF(Q228+Q230>O228,0,IF(Q228<O229,IF(Q230>0,Q228+Q232+Q230,Q228-O231),0))))","v":0},{"$f":"IF(M234=-$Q$3,0,IF(Q228+Q230>O228,O228,IF(Q228>=O229,IF(Q232<=-O230,Q228+Q232,Q228+Q230),0)))","v":0},null,null,null,null,null,null,null,null,""]
[null,"2023-07-23",null,null,null,null,"00:00:00",0,{"$f":"IF(H234>0,H234-Interface!$G$15+I233,0+I233)","v":0},"+",0,null,{"$f":"IF(H234>0,H234-Interface!$G$15+M233,$M$2-Interface!$G$15+M233)","v":-37.5},-37.299999999999997,null,{"$f":"IF(M234=0,Q228,IF((P233+Q233)<=0,0,P233+Q233))","v":0},{"$f":"IF(M234=-$Q$3,0,IF(M234<-O230,IF(Q228>-O232,IF(Q228<O229,IF(Q231<-O232,Q232,IF(Q228=0,Q231,IF(Q228=O231,Q228+Q231,Q231-Q232))),IF(Q231<=-O229,Q231-Q232,IF((Q228-Q232)>0,0,41))),0),0))","v":0},null,null,null,null,null,null,null,null,""]
[null,null,"Ajustement Compteur",null,0,{"$f":"F227+1","v":29},{"$f":"G228+G229+G230+G231+G232+G233+G234","v":0},{"$f":"SUM(H228:H234)","v":0},{"$f":"I234","v":0},"+",0,null,-37.5,-37.299999999999997,{"$f":"((P235-INT(P235))*5/3)+INT(P235)","v":0},{"$f":"((P234-INT(P234))*3/5)+INT(P234)+E235","v":0},{"$f":"((Q234-ROUNDDOWN(Q234,0))/5*3)+ROUNDDOWN(Q234,0)","v":0},null,{"$f":"SUM(S228:S234)","v":0},0,0,0,null,{"$f":"SUM(X228:X234)","v":0},{"$f":"SUM(Y228:Y234)+IF(Interface!$P$11=O229,IF(Q228<O228,IF(Q228+Q229>(O228-O230),Q228+Q229-O228,0),Q229))","v":0}]
[null,{"$f":"B234+1","v":"2023-07-24"},null,null,null,null,{"$f":"D236-C236+F236-E236","v":"00:00:00"},{"$f":"(G236-INT(G236))*24","v":0},{"$f":"IF(H236>0,H236-Interface!$G$9,0)","v":0},"+",0,null,{"$f":"IF(H236>0,H236-Interface!$G$9,$M$2-Interface!$G$9)","v":-7.5},-7.3,{"$f":"Interface!$S$9","v":4},"Report",{"$f":"O235","v":0},null,null,null,null,null,null,null,null,{"$f":"IF(S236>0,1,IF(T236>0,2,IF(U236>0,3,IF(V236>0,4,IF(W236>0,W236,IF(X236>0,7,\"\"))))))","v":""}]
[null,{"$f":"B236+1","v":"2023-07-25"},null,null,null,null,"00:00:00",0,{"$f":"IF(H237>0,H237-Interface!$G$10+I236,0+I236)","v":0},"+",0,null,{"$f":"IF(H237>0,H237-Interface!$G$10+M236,$M$2-Interface!$G$10+M236)","v":-15},-15,{"$f":"Interface!$S$11","v":1},"En Plus",{"$f":"IF(M242>0,M242,0)","v":0},null,null,null,null,null,null,null,null,{"$f":"IF(S237>0,1,IF(T237>0,2,IF(U237>0,3,IF(V237>0,4,IF(W237>0,W237,IF(X237>0,7,\"\"))))))","v":""}]
[null,"2023-07-26",null,null,null,null,"00:00:00",0,{"$f":"IF(H238>0,H238-Interface!$G$11+I237,0+I237)","v":0},"+",0,null,{"$f":"IF(H238>0,H238-Interface!$G$11+M237,$M$2-Interface!$G$11+M237)","v":-22.5},-22.3,0.01,"Retenue +",{"$f":"IF(Q237 > O241,O237,Q237)","v":0},null,null,null,null,null,null,null,null,""]
[null,"2023-07-27",null,null,null,null,"00:00:00",0,{"$f":"IF(H239>0,H239-Interface!$G$12+I238,0+I238)","v":0},"+",0,null,{"$f":"IF(H239>0,H239-Interface!$G$12+M238,$M$2-Interface!$G$12+M238)","v":-30},-30,{"$f":"IF(Q239<0,-Q239,Q239)","v":0},"En Moins",{"$f":"IF(M242<-($Q$3-O238),0,IF(M242<0,M242,0))","v":0},null,null,null,null,null,null,null,null,""]
[null,"2023-07-28",null,null,null,null,"00:00:00",0,{"$f":"IF(H240>0,H240-Interface!$G$13+I239,0+I239)","v":0},"+",0,null,{"$f":"IF(H240>0,H240-Interface!$G$13+M239,$M$2-Interface!$G$13+M239)","v":-37.5},-37.299999999999997,{"$f":"SUM(O237-O238)","v":0.99},"Retenue -",{"$f":"IF(Q239=-Q235,0,IF(Q239>=0,0,IF(Q239>-O240,IF(Q236<O237,IF(Q239>-O240,IF(Q236=O239,Q239,IF(O239>Q236,IF((Q236-O237)<Q239,IF(O239>Q236,-Q236,Q236+Q239),-Q236),Q239)),Q239),Q239),IF(Q236<O237,IF(Q239>=-O240,44,Q236+Q239),-O237))))","v":0},null,null,null,null,null,null,null,null,""]
[null,"2023-07-29",null,null,null,null,"00:00:00",0,{"$f":"IF(H241>0,H241-Interface!$G$14+I240,0+I240)","v":0},"+",0,null,{"$f":"IF(H241>0,H241-Interface!$G$14+M240,$M$2-Interface!$G$14+M240)","v":-37.5},-37.299999999999997,{"$f":"SUM(O237+O238)","v":1.01},{"$f":"IF(M242=0,Q236, IF(M242=-$Q$3,Q236,IF(Q236+Q238>O236,0,IF(Q236<O237,IF(Q238>0,Q236+Q240+Q238,Q236-O239),0))))","v":0},{"$f":"IF(M242=-$Q$3,0,IF(Q236+Q238>O236,O236,IF(Q236>=O237,IF(Q240<=-O238,Q236+Q240,Q236+Q238),0)))","v":0},null,null,null,null,null,null,null,null,""]
[null,"2023-07-30",null,null,null,null,"00:00:00",0,{"$f":"IF(H242>0,H242-Interface!$G$15+I241,0+I241)","v":0},"+",0,null,{"$f":"IF(H242>0,H242-Interface!$G$15+M241,$M$2-Interface!$G$15+M241)","v":-37.5},-37.299999999999997,null,{"$f":"IF(M242=0,Q236,IF((P241+Q241)<=0,0,P241+Q241))","v":0},{"$f":"IF(M242=-$Q$3,0,IF(M242<-O238,IF(Q236>-O240,IF(Q236<O237,IF(Q239<-O240,Q240,IF(Q236=0,Q239,IF(Q236=O239,Q236+Q239,Q239-Q240))),IF(Q239<=-O237,Q239-Q240,IF((Q236-Q240)>0,0,41))),0),0))","v":0},null,null,null,null,null,null,null,null,""]
[null,null,"Ajustement Compteur",null,0,{"$f":"F235+1","v":30},{"$f":"G236+G237+G238+G239+G240+G241+G242","v":0},{"$f":"SUM(H236:H242)","v":0},{"$f":"I242","v":0},"+",0,null,-37.5,-37.299999999999997,{"$f":"((P243-INT(P243))*5/3)+INT(P243)","v":0},{"$f":"((P242-INT(P242))*3/5)+INT(P242)+E243","v":0},{"$f":"((Q242-ROUNDDOWN(Q242,0))/5*3)+ROUNDDOWN(Q242,0)","v":0},null,{"$f":"SUM(S236:S242)","v":0},0,0,0,null,{"$f":"SUM(X236:X242)","v":0},{"$f":"SUM(Y236:Y242)+IF(Interface!$P$11=O237,IF(Q236<O236,IF(Q236+Q237>(O236-O238),Q236+Q237-O236,0),Q237))","v":0}]
[null,{"$f":"B242+1","v":"2023-07-31"},null,null,null,null,{"$f":"D244-C244+F244-E244","v":"00:00:00"},{"$f":"(G244-INT(G244))*24","v":0},{"$f":"IF(H244>0,H244-Interface!$G$9,0)","v":0},"+",0,null,{"$f":"IF(H244>0,H244-Interface!$G$9,$M$2-Interface!$G$9)","v":-7.5},-7.3,{"$f":"Interface!$S$9","v":4},"Report",{"$f":"O243","v":0},null,null,null,null,null,null,null,null,{"$f":"IF(S244>0,1,IF(T244>0,2,IF(U244>0,3,IF(V244>0,4,IF(W244>0,W244,IF(X244>0,7,\"\"))))))","v":""}]
[null,{"$f":"B244+1","v":"2023-08-01"},null,null,null,null,"00:00:00",0,{"$f":"IF(H245>0,H245-Interface!$G$10+I244,0+I244)","v":0},"+",0,null,{"$f":"IF(H245>0,H245-Interface!$G$10+M244,$M$2-Interface!$G$10+M244)","v":-15},-15,{"$f":"Interface!$S$11","v":1},"En Plus",{"$f":"IF(M250>0,M250,0)","v":0},null,null,null,null,null,null,null,null,{"$f":"IF(S245>0,1,IF(T245>0,2,IF(U245>0,3,IF(V245>0,4,IF(W245>0,W245,IF(X245>0,7,\"\"))))))","v":""}]
[null,"2023-08-02",null,null,null,null,"00:00:00",0,{"$f":"IF(H246>0,H246-Interface!$G$11+I245,0+I245)","v":0},"+",0,null,{"$f":"IF(H246>0,H246-Interface!$G$11+M245,$M$2-Interface!$G$11+M245)","v":-22.5},-22.3,0.01,"Retenue +",{"$f":"IF(Q245 > O249,O245,Q245)","v":0},null,null,null,null,null,null,null,null,""]
[null,"2023-08-03",null,null,null,null,"00:00:00",0,{"$f":"IF(H247>0,H247-Interface!$G$12+I246,0+I246)","v":0},"+",0,null,{"$f":"IF(H247>0,H247-Interface!$G$12+M246,$M$2-Interface!$G$12+M246)","v":-30},-30,{"$f":"IF(Q247<0,-Q247,Q247)","v":0},"En Moins",{"$f":"IF(M250<-($Q$3-O246),0,IF(M250<0,M250,0))","v":0},null,null,null,null,null,null,null,null,""]
[null,"2023-08-04",null,null,null,null,"00:00:00",0,{"$f":"IF(H248>0,H248-Interface!$G$13+I247,0+I247)","v":0},"+",0,null,{"$f":"IF(H248>0,H248-Interface!$G$13+M247,$M$2-Interface!$G$13+M247)","v":-37.5},-37.299999999999997,{"$f":"SUM(O245-O246)","v":0.99},"Retenue -",{"$f":"IF(Q247=-Q243,0,IF(Q247>=0,0,IF(Q247>-O248,IF(Q244<O245,IF(Q247>-O248,IF(Q244=O247,Q247,IF(O247>Q244,IF((Q244-O245)<Q247,IF(O247>Q244,-Q244,Q244+Q247),-Q244),Q247)),Q247),Q247),IF(Q244<O245,IF(Q247>=-O248,44,Q244+Q247),-O245))))","v":0},null,null,null,null,null,null,null,null,""]
[null,"2023-08-05",null,null,null,null,"00:00:00",0,{"$f":"IF(H249>0,H249-Interface!$G$14+I248,0+I248)","v":0},"+",0,null,{"$f":"IF(H249>0,H249-Interface!$G$14+M248,$M$2-Interface!$G$14+M248)","v":-37.5},-37.299999999999997,{"$f":"SUM(O245+O246)","v":1.01},{"$f":"IF(M250=0,Q244, IF(M250=-$Q$3,Q244,IF(Q244+Q246>O244,0,IF(Q244<O245,IF(Q246>0,Q244+Q248+Q246,Q244-O247),0))))","v":0},{"$f":"IF(M250=-$Q$3,0,IF(Q244+Q246>O244,O244,IF(Q244>=O245,IF(Q248<=-O246,Q244+Q248,Q244+Q246),0)))","v":0},null,null,null,null,null,null,null,null,""]
[null,"2023-08-06",null,null,null,null,"00:00:00",0,{"$f":"IF(H250>0,H250-Interface!$G$15+I249,0+I249)","v":0},"+",0,null,{"$f":"IF(H250>0,H250-Interface!$G$15+M249,$M$2-Interface!$G$15+M249)","v":-37.5},-37.299999999999997,null,{"$f":"IF(M250=0,Q244,IF((P249+Q249)<=0,0,P249+Q249))","v":0},{"$f":"IF(M250=-$Q$3,0,IF(M250<-O246,IF(Q244>-O248,IF(Q244<O245,IF(Q247<-O248,Q248,IF(Q244=0,Q247,IF(Q244=O247,Q244+Q247,Q247-Q248))),IF(Q247<=-O245,Q247-Q248,IF((Q244-Q248)>0,0,41))),0),0))","v":0},null,null,null,null,null,null,null,null,""]
[null,"Juillet","Ajustement Compteur",null,0,{"$f":"F243+1","v":31},{"$f":"G244+G245+G246+G247+G248+G249+G250","v":0},{"$f":"SUM(H244:H250)","v":0},{"$f":"I250","v":0},"+",0,null,-37.5,-37.299999999999997,{"$f":"((P251-INT(P251))*5/3)+INT(P251)","v":0},{"$f":"((P250-INT(P250))*3/5)+INT(P250)+E251","v":0},{"$f":"((Q250-ROUNDDOWN(Q250,0))/5*3)+ROUNDDOWN(Q250,0)","v":0},null,{"$f":"SUM(S244:S250)+S219+S227+S235+S243","v":0},{"$f":"SUM(T244:T250)+T219+T227+T235+T243","v":0},{"$f":"SUM(U244:U250)+U219+U227+U235+U243","v":0},{"$f":"SUM(V244:V250)+V219+V227+V235+V243","v":0},null,{"$f":"SUM(X244:X250)+X219+X227+X235+X243","v":0},{"$f":"(SUM(Y244:Y250)+Y243+Y235+Y227+Y219)+IF(Interface!$Q$12=1,IF(Q244<O236,IF(Q244+Q245>(O236-O238),Q244+Q245-O244,0),Q245))","v":0}]
[null,{"$f":"B250+1","v":"2023-08-07"},null,null,null,null,{"$f":"D252-C252+F252-E252","v":"00:00:00"},{"$f":"(G252-INT(G252))*24","v":0},{"$f":"IF(H252>0,H252-Interface!$G$9,0)","v":0},"+",0,null,{"$f":"IF(H252>0,H252-Interface!$G$9,$M$2-Interface!$G$9)","v":-7.5},-7.3,{"$f":"Interface!$S$9","v":4},"Report",{"$f":"O251","v":0},null,null,null,null,null,null,null,null,{"$f":"IF(S252>0,1,IF(T252>0,2,IF(U252>0,3,IF(V252>0,4,IF(W252>0,W252,IF(X252>0,7,\"\"))))))","v":""}]
[null,{"$f":"B252+1","v":"2023-08-08"},null,null,null,null,"00:00:00",0,{"$f":"IF(H253>0,H253-Interface!$G$10+I252,0+I252)","v":0},"+",0,null,{"$f":"IF(H253>0,H253-Interface!$G$10+M252,$M$2-Interface!$G$10+M252)","v":-15},-15,{"$f":"Interface!$S$11","v":1},"En Plus",{"$f":"IF(M258>0,M258,0)","v":0},null,null,null,null,null,null,null,null,{"$f":"IF(S253>0,1,IF(T253>0,2,IF(U253>0,3,IF(V253>0,4,IF(W253>0,W253,IF(X253>0,7,\"\"))))))","v":""}]
[null,"2023-08-09",null,null,null,null,"00:00:00",0,{"$f":"IF(H254>0,H254-Interface!$G$11+I253,0+I253)","v":0},"+",0,null,{"$f":"IF(H254>0,H254-Interface!$G$11+M253,$M$2-Interface!$G$11+M253)","v":-22.5},-22.3,0.01,"Retenue +",{"$f":"IF(Q253 > O257,O253,Q253)","v":0},null,null,null,null,null,null,null,null,""]
[null,"2023-08-10",null,null,null,null,"00:00:00",0,{"$f":"IF(H255>0,H255-Interface!$G$12+I254,0+I254)","v":0},"+",0,null,{"$f":"IF(H255>0,H255-Interface!$G$12+M254,$M$2-Interface!$G$12+M254)","v":-30},-30,{"$f":"IF(Q255<0,-Q255,Q255)","v":0},"En Moins",{"$f":"IF(M258<-($Q$3-O254),0,IF(M258<0,M258,0))","v":0},null,null,null,null,null,null,null,null,""]
[null,"2023-08-11",null,null,null,null,"00:00:00",0,{"$f":"IF(H256>0,H256-Interface!$G$13+I255,0+I255)","v":0},"+",0,null,{"$f":"IF(H256>0,H256-Interface!$G$13+M255,$M$2-Interface!$G$13+M255)","v":-37.5},-37.299999999999997,{"$f":"SUM(O253-O254)","v":0.99},"Retenue -",{"$f":"IF(Q255=-Q251,0,IF(Q255>=0,0,IF(Q255>-O256,IF(Q252<O253,IF(Q255>-O256,IF(Q252=O255,Q255,IF(O255>Q252,IF((Q252-O253)<Q255,IF(O255>Q252,-Q252,Q252+Q255),-Q252),Q255)),Q255),Q255),IF(Q252<O253,IF(Q255>=-O256,44,Q252+Q255),-O253))))","v":0},null,null,null,null,null,null,null,null,""]
[null,"2023-08-12",null,null,null,null,"00:00:00",0,{"$f":"IF(H257>0,H257-Interface!$G$14+I256,0+I256)","v":0},"+",0,null,{"$f":"IF(H257>0,H257-Interface!$G$14+M256,$M$2-Interface!$G$14+M256)","v":-37.5},-37.299999999999997,{"$f":"SUM(O253+O254)","v":1.01},{"$f":"IF(M258=0,Q252, IF(M258=-$Q$3,Q252,IF(Q252+Q254>O252,0,IF(Q252<O253,IF(Q254>0,Q252+Q256+Q254,Q252-O255),0))))","v":0},{"$f":"IF(M258=-$Q$3,0,IF(Q252+Q254>O252,O252,IF(Q252>=O253,IF(Q256<=-O254,Q252+Q256,Q252+Q254),0)))","v":0},null,null,null,null,null,null,null,null,""]
[null,"2023-08-13",null,null,null,null,"00:00:00",0,{"$f":"IF(H258>0,H258-Interface!$G$15+I257,0+I257)","v":0},"+",0,null,{"$f":"IF(H258>0,H258-Interface!$G$15+M257,$M$2-Interface!$G$15+M257)","v":-37.5},-37.299999999999997,null,{"$f":"IF(M258=0,Q252,IF((P257+Q257)<=0,0,P257+Q257))","v":0},{"$f":"IF(M258=-$Q$3,0,IF(M258<-O254,IF(Q252>-O256,IF(Q252<O253,IF(Q255<-O256,Q256,IF(Q252=0,Q255,IF(Q252=O255,Q252+Q255,Q255-Q256))),IF(Q255<=-O253,Q255-Q256,IF((Q252-Q256)>0,0,41))),0),0))","v":0},null,null,null,null,null,null,null,null,""]
[null,null,"Ajustement Compteur",null,0,{"$f":"F251+1","v":32},{"$f":"G252+G253+G254+G255+G256+G257+G258","v":0},{"$f":"SUM(H252:H258)","v":0},{"$f":"I258","v":0},"+",0,null,-37.5,-37.299999999999997,{"$f":"((P259-INT(P259))*5/3)+INT(P259)","v":0},{"$f":"((P258-INT(P258))*3/5)+INT(P258)+E259","v":0},{"$f":"((Q258-ROUNDDOWN(Q258,0))/5*3)+ROUNDDOWN(Q258,0)","v":0},null,{"$f":"SUM(S252:S258)","v":0},0,0,0,null,{"$f":"SUM(X252:X258)","v":0},{"$f":"SUM(Y252:Y258)+IF(Interface!$P$11=O253,IF(Q252<O252,IF(Q252+Q253>(O252-O254),Q252+Q253-O252,0),Q253))","v":0}]
[null,{"$f":"B258+1","v":"2023-08-14"},null,null,null,null,{"$f":"D260-C260+F260-E260","v":"00:00:00"},{"$f":"(G260-INT(G260))*24","v":0},{"$f":"IF(H260>0,H260-Interface!$G$9,0)","v":0},"+",0,null,{"$f":"IF(H260>0,H260-Interface!$G$9,$M$2-Interface!$G$9)","v":-7.5},{"$f":"((M260-ROUNDDOWN(M260,0))/5*3)+ROUNDDOWN(M260,0)","v":-7.3},{"$f":"Interface!$S$9","v":4},"Report",{"$f":"O259","v":0},null,null,null,null,null,null,null,null,{"$f":"IF(S260>0,1,IF(T260>0,2,IF(U260>0,3,IF(V260>0,4,IF(W260>0,W260,IF(X260>0,7,\"\"))))))","v":""}]
[null,{"$f":"B260+1","v":"2023-08-15"},null,null,null,null,"00:00:00",0,{"$f":"IF(H261>0,H261-Interface!$G$10+I260,0+I260)","v":0},"+",0,null,{"$f":"IF(H261>0,H261-Interface!$G$10+M260,$M$2-Interface!$G$10+M260)","v":-15},-15,{"$f":"Interface!$S$11","v":1},"En Plus",{"$f":"IF(M266>0,M266,0)","v":0},null,null,null,null,null,null,null,null,{"$f":"IF(S261>0,1,IF(T261>0,2,IF(U261>0,3,IF(V261>0,4,IF(W261>0,W261,IF(X261>0,7,\"\"))))))","v":""}]
[null,"2023-08-16",null,null,null,null,"00:00:00",0,{"$f":"IF(H262>0,H262-Interface!$G$11+I261,0+I261)","v":0},"+",0,null,{"$f":"IF(H262>0,H262-Interface!$G$11+M261,$M$2-Interface!$G$11+M261)","v":-22.5},-22.3,0.01,"Retenue +",{"$f":"IF(Q261 > O265,O261,Q261)","v":0},null,null,null,null,null,null,null,null,""]
[null,"2023-08-17",null,null,null,null,"00:00:00",0,{"$f":"IF(H263>0,H263-Interface!$G$12+I262,0+I262)","v":0},"+",0,null,{"$f":"IF(H263>0,H263-Interface!$G$12+M262,$M$2-Interface!$G$12+M262)","v":-30},-30,{"$f":"IF(Q263<0,-Q263,Q263)","v":0},"En Moins",{"$f":"IF(M266<-($Q$3-O262),0,IF(M266<0,M266,0))","v":0},null,null,null,null,null,null,null,null,""]
[null,"2023-08-18",null,null,null,null,"00:00:00",0,{"$f":"IF(H264>0,H264-Interface!$G$13+I263,0+I263)","v":0},"+",0,null,{"$f":"IF(H264>0,H264-Interface!$G$13+M263,$M$2-Interface!$G$13+M263)","v":-37.5},-37.299999999999997,{"$f":"SUM(O261-O262)","v":0.99},"Retenue -",{"$f":"IF(Q263=-Q259,0,IF(Q263>=0,0,IF(Q263>-O264,IF(Q260<O261,IF(Q263>-O264,IF(Q260=O263,Q263,IF(O263>Q260,IF((Q260-O261)<Q263,IF(O263>Q260,-Q260,Q260+Q263),-Q260),Q263)),Q263),Q263),IF(Q260<O261,IF(Q263>=-O264,44,Q260+Q263),-O261))))","v":0},null,null,null,null,null,null,null,null,""]
[null,"2023-08-19",null,null,null,null,"00:00:00",0,{"$f":"IF(H265>0,H265-Interface!$G$14+I264,0+I264)","v":0},"+",0,null,{"$f":"IF(H265>0,H265-Interface!$G$14+M264,$M$2-Interface!$G$14+M264)","v":-37.5},-37.299999999999997,{"$f":"SUM(O261+O262)","v":1.01},{"$f":"IF(M266=0,Q260, IF(M266=-$Q$3,Q260,IF(Q260+Q262>O260,0,IF(Q260<O261,IF(Q262>0,Q260+Q264+Q262,Q260-O263),0))))","v":0},{"$f":"IF(M266=-$Q$3,0,IF(Q260+Q262>O260,O260,IF(Q260>=O261,IF(Q264<=-O262,Q260+Q264,Q260+Q262),0)))","v":0},null,null,null,null,null,null,null,null,""]
[null,"2023-08-20",null,null,null,null,"00:00:00",0,{"$f":"IF(H266>0,H266-Interface!$G$15+I265,0+I265)","v":0},"+",0,null,{"$f":"IF(H266>0,H266-Interface!$G$15+M265,$M$2-Interface!$G$15+M265)","v":-37.5},-37.299999999999997,null,{"$f":"IF(M266=0,Q260,IF((P265+Q265)<=0,0,P265+Q265))","v":0},{"$f":"IF(M266=-$Q$3,0,IF(M266<-O262,IF(Q260>-O264,IF(Q260<O261,IF(Q263<-O264,Q264,IF(Q260=0,Q263,IF(Q260=O263,Q260+Q263,Q263-Q264))),IF(Q263<=-O261,Q263-Q264,IF((Q260-Q264)>0,0,41))),0),0))","v":0},null,null,null,null,null,null,null,null,""]
[null,null,"Ajustement Compteur",null,0,{"$f":"F259+1","v":33},{"$f":"G260+G261+G262+G263+G264+G265+G266","v":0},{"$f":"SUM(H260:H266)","v":0},{"$f":"I266","v":0},"+",0,null,-37.5,-37.299999999999997,{"$f":"((P267-INT(P267))*5/3)+INT(P267)","v":0},{"$f":"((P266-INT(P266))*3/5)+INT(P266)+E267","v":0},{"$f":"((Q266-ROUNDDOWN(Q266,0))/5*3)+ROUNDDOWN(Q266,0)","v":0},null,{"$f":"SUM(S260:S266)","v":0},0,0,0,null,{"$f":"SUM(X260:X266)","v":0},{"$f":"SUM(Y260:Y266)+IF(Interface!$P$11=O261,IF(Q260<O260,IF(Q260+Q261>(O260-O262),Q260+Q261-O260,0),Q261))","v":0}]
[null,{"$f":"B266+1","v":"2023-08-21"},null,null,null,null,{"$f":"D268-C268+F268-E268","v":"00:00:00"},{"$f":"(G268-INT(G268))*24","v":0},{"$f":"IF(H268>0,H268-Interface!$G$9,0)","v":0},{"$f":"IF(I268>=0,\"+\",\"-\")","v":"+"},{"$f":"TIME(TRUNC(ABS(I268)),ROUND((ABS(I268)-TRUNC(ABS(I268)))*60,),0)","v":0},null,{"$f":"IF(H268>0,H268-Interface!$G$9,$M$2-Interface!$G$9)","v":-7.5},-7.3,{"$f":"Interface!$S$9","v":4},"Report",{"$f":"O267","v":0},null,null,null,null,null,null,null,null,{"$f":"IF(S268>0,1,IF(T268>0,2,IF(U268>0,3,IF(V268>0,4,IF(W268>0,W268,IF(X268>0,7,\"\"))))))","v":""}]
[null,{"$f":"B268+1","v":"2023-08-22"},null,null,null,null,"00:00:00",0,{"$f":"IF(H269>0,H269-Interface!$G$10+I268,0+I268)","v":0},"+",0,null,{"$f":"IF(H269>0,H269-Interface!$G$10+M268,$M$2-Interface!$G$10+M268)","v":-15},-15,{"$f":"Interface!$S$11","v":1},"En Plus",{"$f":"IF(M274>0,M274,0)","v":0},null,null,null,null,null,null,null,null,{"$f":"IF(S269>0,1,IF(T269>0,2,IF(U269>0,3,IF(V269>0,4,IF(W269>0,W269,IF(X269>0,7,\"\"))))))","v":""}]
[null,"2023-08-23",null,null,null,null,"00:00:00",0,{"$f":"IF(H270>0,H270-Interface!$G$11+I269,0+I269)","v":0},"+",0,null,{"$f":"IF(H270>0,H270-Interface!$G$11+M269,$M$2-Interface!$G$11+M269)","v":-22.5},-22.3,0.01,"Retenue +",{"$f":"IF(Q269 > O273,O269,Q269)","v":0},null,null,null,null,null,null,null,null,""]
[null,"2023-08-24",null,null,null,null,"00:00:00",0,{"$f":"IF(H271>0,H271-Interface!$G$12+I270,0+I270)","v":0},"+",0,null,{"$f":"IF(H271>0,H271-Interface!$G$12+M270,$M$2-Interface!$G$12+M270)","v":-30},-30,{"$f":"IF(Q271<0,-Q271,Q271)","v":0},"En Moins",{"$f":"IF(M274<-($Q$3-O270),0,IF(M274<0,M274,0))","v":0},null,null,null,null,null,null,null,null,""]
[null,"2023-08-25",null,null,null,null,"00:00:00",0,{"$f":"IF(H272>0,H272-Interface!$G$13+I271,0+I271)","v":0},"+",0,null,{"$f":"IF(H272>0,H272-Interface!$G$13+M271,$M$2-Interface!$G$13+M271)","v":-37.5},-37.299999999999997,{"$f":"SUM(O269-O270)","v":0.99},"Retenue -",{"$f":"IF(Q271=-Q267,0,IF(Q271>=0,0,IF(Q271>-O272,IF(Q268<O269,IF(Q271>-O272,IF(Q268=O271,Q271,IF(O271>Q268,IF((Q268-O269)<Q271,IF(O271>Q268,-Q268,Q268+Q271),-Q268),Q271)),Q271),Q271),IF(Q268<O269,IF(Q271>=-O272,44,Q268+Q271),-O269))))","v":0},null,null,null,null,null,null,null,null,""]
[null,"2023-08-26",null,null,null,null,"00:00:00",0,{"$f":"IF(H273>0,H273-Interface!$G$14+I272,0+I272)","v":0},"+",0,null,{"$f":"IF(H273>0,H273-Interface!$G$14+M272,$M$2-Interface!$G$14+M272)","v":-37.5},-37.299999999999997,{"$f":"SUM(O269+O270)","v":1.01},{"$f":"IF(M274=0,Q268, IF(M274=-$Q$3,Q268,IF(Q268+Q270>O268,0,IF(Q268<O269,IF(Q270>0,Q268+Q272+Q270,Q268-O271),0))))","v":0},{"$f":"IF(M274=-$Q$3,0,IF(Q268+Q270>O268,O268,IF(Q268>=O269,IF(Q272<=-O270,Q268+Q272,Q268+Q270),0)))","v":0},null,null,null,null,null,null,null,null,""]
[null,"2023-08-27",null,null,null,null,"00:00:00",0,{"$f":"IF(H274>0,H274-Interface!$G$15+I273,0+I273)","v":0},"+",0,null,{"$f":"IF(H274>0,H274-Interface!$G$15+M273,$M$2-Interface!$G$15+M273)","v":-37.5},-37.299999999999997,null,{"$f":"IF(M274=0,Q268,IF((P273+Q273)<=0,0,P273+Q273))","v":0},{"$f":"IF(M274=-$Q$3,0,IF(M274<-O270,IF(Q268>-O272,IF(Q268<O269,IF(Q271<-O272,Q272,IF(Q268=0,Q271,IF(Q268=O271,Q268+Q271,Q271-Q272))),IF(Q271<=-O269,Q271-Q272,IF((Q268-Q272)>0,0,41))),0),0))","v":0},null,null,null,null,null,null,null,null,""]
[null,null,"Ajustement Compteur",null,0,{"$f":"F267+1","v":34},{"$f":"G268+G269+G270+G271+G272+G273+G274","v":0},{"$f":"SUM(H268:H274)","v":0},{"$f":"I274","v":0},"+",0,null,-37.5,-37.299999999999997,{"$f":"((P275-INT(P275))*5/3)+INT(P275)","v":0},{"$f":"((P274-INT(P274))*3/5)+INT(P274)+E275","v":0},{"$f":"((Q274-ROUNDDOWN(Q274,0))/5*3)+ROUNDDOWN(Q274,0)","v":0},null,{"$f":"SUM(S268:S274)","v":0},0,0,0,null,{"$f":"SUM(X268:X274)","v":0},{"$f":"SUM(Y268:Y274)+IF(Interface!$P$11=O269,IF(Q268<O268,IF(Q268+Q269>(O268-O270),Q268+Q269-O268,0),Q269))","v":0}]
[null,{"$f":"B274+1","v":"2023-08-28"},null,null,null,null,{"$f":"D276-C276+F276-E276","v":"00:00:00"},{"$f":"(G276-INT(G276))*24","v":0},{"$f":"IF(H276>0,H276-Interface!$G$9,0)","v":0},"+",0,null,{"$f":"IF(H276>0,H276-Interface!$G$9,$M$2-Interface!$G$9)","v":-7.5},-7.3,{"$f":"Interface!$S$9","v":4},"Report",{"$f":"O275","v":0},null,null,null,null,null,null,null,null,{"$f":"IF(S276>0,1,IF(T276>0,2,IF(U276>0,3,IF(V276>0,4,IF(W276>0,W276,IF(X276>0,7,\"\"))))))","v":""}]
[null,{"$f":"B276+1","v":"2023-08-29"},null,null,null,null,"00:00:00",0,{"$f":"IF(H277>0,H277-Interface!$G$10+I276,0+I276)","v":0},"+",0,null,{"$f":"IF(H277>0,H277-Interface!$G$10+M276,$M$2-Interface!$G$10+M276)","v":-15},-15,{"$f":"Interface!$S$11","v":1},"En Plus",{"$f":"IF(M282>0,M282,0)","v":0},null,null,null,null,null,null,null,null,{"$f":"IF(S277>0,1,IF(T277>0,2,IF(U277>0,3,IF(V277>0,4,IF(W277>0,W277,IF(X277>0,7,\"\"))))))","v":""}]
[null,"2023-08-30",null,null,null,null,"00:00:00",0,{"$f":"IF(H278>0,H278-Interface!$G$11+I277,0+I277)","v":0},"+",0,null,{"$f":"IF(H278>0,H278-Interface!$G$11+M277,$M$2-Interface!$G$11+M277)","v":-22.5},-22.3,0.01,"Retenue +",{"$f":"IF(Q277 > O281,O277,Q277)","v":0},null,null,null,null,null,null,null,null,""]
[null,"2023-08-31",null,null,null,null,"00:00:00",0,{"$f":"IF(H279>0,H279-Interface!$G$12+I278,0+I278)","v":0},"+",0,null,{"$f":"IF(H279>0,H279-Interface!$G$12+M278,$M$2-Interface!$G$12+M278)","v":-30},-30,{"$f":"IF(Q279<0,-Q279,Q279)","v":0},"En Moins",{"$f":"IF(M282<-($Q$3-O278),0,IF(M282<0,M282,0))","v":0},null,null,null,null,null,null,null,null,""]
[null,"2023-09-01",null,null,null,null,"00:00:00",0,{"$f":"IF(H280>0,H280-Interface!$G$13+I279,0+I279)","v":0},"+",0,null,{"$f":"IF(H280>0,H280-Interface!$G$13+M279,$M$2-Interface!$G$13+M279)","v":-37.5},-37.299999999999997,{"$f":"SUM(O277-O278)","v":0.99},"Retenue -",{"$f":"IF(Q279=-Q275,0,IF(Q279>=0,0,IF(Q279>-O280,IF(Q276<O277,IF(Q279>-O280,IF(Q276=O279,Q279,IF(O279>Q276,IF((Q276-O277)<Q279,IF(O279>Q276,-Q276,Q276+Q279),-Q276),Q279)),Q279),Q279),IF(Q276<O277,IF(Q279>=-O280,44,Q276+Q279),-O277))))","v":0},null,null,null,null,null,null,null,null,""]
[null,"2023-09-02",null,null,null,null,"00:00:00",0,{"$f":"IF(H281>0,H281-Interface!$G$14+I280,0+I280)","v":0},"+",0,null,{"$f":"IF(H281>0,H281-Interface!$G$14+M280,$M$2-Interface!$G$14+M280)","v":-37.5},-37.299999999999997,{"$f":"SUM(O277+O278)","v":1.01},{"$f":"IF(M282=0,Q276, IF(M282=-$Q$3,Q276,IF(Q276+Q278>O276,0,IF(Q276<O277,IF(Q278>0,Q276+Q280+Q278,Q276-O279),0))))","v":0},{"$f":"IF(M282=-$Q$3,0,IF(Q276+Q278>O276,O276,IF(Q276>=O277,IF(Q280<=-O278,Q276+Q280,Q276+Q278),0)))","v":0},null,null,null,null,null,null,null,null,""]
[null,"2023-09-03",null,null,null,null,"00:00:00",0,{"$f":"IF(H282>0,H282-Interface!$G$15+I281,0+I281)","v":0},"+",0,null,{"$f":"IF(H282>0,H282-Interface!$G$15+M281,$M$2-Interface!$G$15+M281)","v":-37.5},-37.299999999999997,null,{"$f":"IF(M282=0,Q276,IF((P281+Q281)<=0,0,P281+Q281))","v":0},{"$f":"IF(M282=-$Q$3,0,IF(M282<-O278,IF(Q276>-O280,IF(Q276<O277,IF(Q279<-O280,Q280,IF(Q276=0,Q279,IF(Q276=O279,Q276+Q279,Q279-Q280))),IF(Q279<=-O277,Q279-Q280,IF((Q276-Q280)>0,0,41))),0),0))","v":0},null,null,null,null,null,null,null,null,""]
[null,"Aout","Ajustement Compteur",null,0,{"$f":"F275+1","v":35},{"$f":"G276+G277+G278+G279+G280+G281+G282","v":0},{"$f":"SUM(H276:H282)","v":0},{"$f":"I282","v":0},"+",0,null,{"$f":"M282","v":-37.5},-37.299999999999997,{"$f":"((P283-INT(P283))*5/3)+INT(P283)","v":0},{"$f":"((P282-INT(P282))*3/5)+INT(P282)+E283","v":0},{"$f":"((Q282-ROUNDDOWN(Q282,0))/5*3)+ROUNDDOWN(Q282,0)","v":0},null,{"$f":"SUM(S276:S282)+S259+S267+S275","v":0},{"$f":"SUM(T276:T282)+T259+T267+T275","v":0},0,0,null,{"$f":"SUM(X276:X282)+X259+X267+X275","v":0},{"$f":"(SUM(Y276:Y282)+Y275+Y267+Y259)+IF(Interface!$Q$12=1,IF(Q276<O268,IF(Q276+Q277>(O268-O270),Q276+Q277-O276,0),Q277))","v":0}]
[null,{"$f":"B282+1","v":"2023-09-04"},null,null,null,null,{"$f":"D284-C284+F284-E284","v":"00:00:00"},{"$f":"(G284-INT(G284))*24","v":0},{"$f":"IF(H284>0,H284-Interface!$G$9,0)","v":0},"+",0,null,{"$f":"IF(H284>0,H284-Interface!$G$9,$M$2-Interface!$G$9)","v":-7.5},-7.3,{"$f":"Interface!$S$9","v":4},"Report",{"$f":"O283","v":0},null,null,null,null,null,null,null,null,{"$f":"IF(S284>0,1,IF(T284>0,2,IF(U284>0,3,IF(V284>0,4,IF(W284>0,W284,IF(X284>0,7,\"\"))))))","v":""}]
[null,{"$f":"B284+1","v":"2023-09-05"},null,null,null,null,"00:00:00",0,{"$f":"IF(H285>0,H285-Interface!$G$10+I284,0+I284)","v":0},"+",0,null,{"$f":"IF(H285>0,H285-Interface!$G$10+M284,$M$2-Interface!$G$10+M284)","v":-15},-15,{"$f":"Interface!$S$11","v":1},"En Plus",{"$f":"IF(M290>0,M290,0)","v":0},null,null,null,null,null,null,null,null,{"$f":"IF(S285>0,1,IF(T285>0,2,IF(U285>0,3,IF(V285>0,4,IF(W285>0,W285,IF(X285>0,7,\"\"))))))","v":""}]
[null,"2023-09-06",null,null,null,null,"00:00:00",0,{"$f":"IF(H286>0,H286-Interface!$G$11+I285,0+I285)","v":0},"+",0,null,{"$f":"IF(H286>0,H286-Interface!$G$11+M285,$M$2-Interface!$G$11+M285)","v":-22.5},-22.3,0.01,"Retenue +",{"$f":"IF(Q285 > O289,O285,Q285)","v":0},null,null,null,null,null,null,null,null,""]
[null,"2023-09-07",null,null,null,null,"00:00:00",0,{"$f":"IF(H287>0,H287-Interface!$G$12+I286,0+I286)","v":0},"+",0,null,{"$f":"IF(H287>0,H287-Interface!$G$12+M286,$M$2-Interface!$G$12+M286)","v":-30},-30,{"$f":"IF(Q287<0,-Q287,Q287)","v":0},"En Moins",{"$f":"IF(M290<-($Q$3-O286),0,IF(M290<0,M290,0))","v":0},null,null,null,null,null,null,null,null,""]
[null,"2023-09-08",null,null,null,null,"00:00:00",0,{"$f":"IF(H288>0,H288-Interface!$G$13+I287,0+I287)","v":0},"+",0,null,{"$f":"IF(H288>0,H288-Interface!$G$13+M287,$M$2-Interface!$G$13+M287)","v":-37.5},-37.299999999999997,{"$f":"SUM(O285-O286)","v":0.99},"Retenue -",{"$f":"IF(Q287=-Q283,0,IF(Q287>=0,0,IF(Q287>-O288,IF(Q284<O285,IF(Q287>-O288,IF(Q284=O287,Q287,IF(O287>Q284,IF((Q284-O285)<Q287,IF(O287>Q284,-Q284,Q284+Q287),-Q284),Q287)),Q287),Q287),IF(Q284<O285,IF(Q287>=-O288,44,Q284+Q287),-O285))))","v":0},null,null,null,null,null,null,null,null,""]
[null,"2023-09-09",null,null,null,null,"00:00:00",0,{"$f":"IF(H289>0,H289-Interface!$G$14+I288,0+I288)","v":0},"+",0,null,{"$f":"IF(H289>0,H289-Interface!$G$14+M288,$M$2-Interface!$G$14+M288)","v":-37.5},-37.299999999999997,{"$f":"SUM(O285+O286)","v":1.01},{"$f":"IF(M290=0,Q284, IF(M290=-$Q$3,Q284,IF(Q284+Q286>O284,0,IF(Q284<O285,IF(Q286>0,Q284+Q288+Q286,Q284-O287),0))))","v":0},{"$f":"IF(M290=-$Q$3,0,IF(Q284+Q286>O284,O284,IF(Q284>=O285,IF(Q288<=-O286,Q284+Q288,Q284+Q286),0)))","v":0},null,null,null,null,null,null,null,null,""]
[null,"2023-09-10",null,null,null,null,"00:00:00",0,{"$f":"IF(H290>0,H290-Interface!$G$15+I289,0+I289)","v":0},"+",0,null,{"$f":"IF(H290>0,H290-Interface!$G$15+M289,$M$2-Interface!$G$15+M289)","v":-37.5},-37.299999999999997,null,{"$f":"IF(M290=0,Q284,IF((P289+Q289)<=0,0,P289+Q289))","v":0},{"$f":"IF(M290=-$Q$3,0,IF(M290<-O286,IF(Q284>-O288,IF(Q284<O285,IF(Q287<-O288,Q288,IF(Q284=0,Q287,IF(Q284=O287,Q284+Q287,Q287-Q288))),IF(Q287<=-O285,Q287-Q288,IF((Q284-Q288)>0,0,41))),0),0))","v":0},null,null,null,null,null,null,null,null,""]
[null,null,"Ajustement Compteur",null,0,{"$f":"F283+1","v":36},{"$f":"G284+G285+G286+G287+G288+G289+G290","v":0},{"$f":"SUM(H284:H290)","v":0},{"$f":"I290","v":0},"+",0,null,-37.5,-37.299999999999997,{"$f":"((P291-INT(P291))*5/3)+INT(P291)","v":0},{"$f":"((P290-INT(P290))*3/5)+INT(P290)+E291","v":0},{"$f":"((Q290-ROUNDDOWN(Q290,0))/5*3)+ROUNDDOWN(Q290,0)","v":0},null,{"$f":"SUM(S284:S290)","v":0},0,0,0,null,{"$f":"SUM(X284:X290)","v":0},{"$f":"SUM(Y284:Y290)+IF(Interface!$P$11=O285,IF(Q284<O284,IF(Q284+Q285>(O284-O286),Q284+Q285-O284,0),Q285))","v":0}]
[null,{"$f":"B290+1","v":"2023-09-11"},null,null,null,null,{"$f":"D292-C292+F292-E292","v":"00:00:00"},{"$f":"(G292-INT(G292))*24","v":0},{"$f":"IF(H292>0,H292-Interface!$G$9,0)","v":0},"+",0,null,{"$f":"IF(H292>0,H292-Interface!$G$9,$M$2-Interface!$G$9)","v":-7.5},-7.3,{"$f":"Interface!$S$9","v":4},"Report",{"$f":"O291","v":0},null,null,null,null,null,null,null,null,{"$f":"IF(S292>0,1,IF(T292>0,2,IF(U292>0,3,IF(V292>0,4,IF(W292>0,W292,IF(X292>0,7,\"\"))))))","v":""}]
[null,{"$f":"B292+1","v":"2023-09-12"},null,null,null,null,"00:00:00",0,{"$f":"IF(H293>0,H293-Interface!$G$10+I292,0+I292)","v":0},"+",0,null,{"$f":"IF(H293>0,H293-Interface!$G$10+M292,$M$2-Interface!$G$10+M292)","v":-15},-15,{"$f":"Interface!$S$11","v":1},"En Plus",{"$f":"IF(M298>0,M298,0)","v":0},null,null,null,null,null,null,null,null,{"$f":"IF(S293>0,1,IF(T293>0,2,IF(U293>0,3,IF(V293>0,4,IF(W293>0,W293,IF(X293>0,7,\"\"))))))","v":""}]
[null,"2023-09-13",null,null,null,null,"00:00:00",0,{"$f":"IF(H294>0,H294-Interface!$G$11+I293,0+I293)","v":0},"+",0,null,{"$f":"IF(H294>0,H294-Interface!$G$11+M293,$M$2-Interface!$G$11+M293)","v":-22.5},-22.3,0.01,"Retenue +",{"$f":"IF(Q293 > O297,O293,Q293)","v":0},null,null,null,null,null,null,null,null,""]
[null,"2023-09-14",null,null,null,null,"00:00:00",0,{"$f":"IF(H295>0,H295-Interface!$G$12+I294,0+I294)","v":0},"+",0,null,{"$f":"IF(H295>0,H295-Interface!$G$12+M294,$M$2-Interface!$G$12+M294)","v":-30},-30,{"$f":"IF(Q295<0,-Q295,Q295)","v":0},"En Moins",{"$f":"IF(M298<-($Q$3-O294),0,IF(M298<0,M298,0))","v":0},null,null,null,null,null,null,null,null,""]
[null,"2023-09-15",null,null,null,null,"00:00:00",0,{"$f":"IF(H296>0,H296-Interface!$G$13+I295,0+I295)","v":0},"+",0,null,{"$f":"IF(H296>0,H296-Interface!$G$13+M295,$M$2-Interface!$G$13+M295)","v":-37.5},-37.299999999999997,{"$f":"SUM(O293-O294)","v":0.99},"Retenue -",{"$f":"IF(Q295=-Q291,0,IF(Q295>=0,0,IF(Q295>-O296,IF(Q292<O293,IF(Q295>-O296,IF(Q292=O295,Q295,IF(O295>Q292,IF((Q292-O293)<Q295,IF(O295>Q292,-Q292,Q292+Q295),-Q292),Q295)),Q295),Q295),IF(Q292<O293,IF(Q295>=-O296,44,Q292+Q295),-O293))))","v":0},null,null,null,null,null,null,null,null,""]
[null,"2023-09-16",null,null,null,null,"00:00:00",0,{"$f":"IF(H297>0,H297-Interface!$G$14+I296,0+I296)","v":0},"+",0,null,{"$f":"IF(H297>0,H297-Interface!$G$14+M296,$M$2-Interface!$G$14+M296)","v":-37.5},-37.299999999999997,{"$f":"SUM(O293+O294)","v":1.01},{"$f":"IF(M298=0,Q292, IF(M298=-$Q$3,Q292,IF(Q292+Q294>O292,0,IF(Q292<O293,IF(Q294>0,Q292+Q296+Q294,Q292-O295),0))))","v":0},{"$f":"IF(M298=-$Q$3,0,IF(Q292+Q294>O292,O292,IF(Q292>=O293,IF(Q296<=-O294,Q292+Q296,Q292+Q294),0)))","v":0},null,null,null,null,null,null,null,null,""]
[null,"2023-09-17",null,null,null,null,"00:00:00",0,{"$f":"IF(H298>0,H298-Interface!$G$15+I297,0+I297)","v":0},"+",0,null,{"$f":"IF(H298>0,H298-Interface!$G$15+M297,$M$2-Interface!$G$15+M297)","v":-37.5},-37.299999999999997,null,{"$f":"IF(M298=0,Q292,IF((P297+Q297)<=0,0,P297+Q297))","v":0},{"$f":"IF(M298=-$Q$3,0,IF(M298<-O294,IF(Q292>-O296,IF(Q292<O293,IF(Q295<-O296,Q296,IF(Q292=0,Q295,IF(Q292=O295,Q292+Q295,Q295-Q296))),IF(Q295<=-O293,Q295-Q296,IF((Q292-Q296)>0,0,41))),0),0))","v":0},null,null,null,null,null,null,null,null,""]
[null,null,"Ajustement Compteur",null,0,{"$f":"F291+1","v":37},{"$f":"G292+G293+G294+G295+G296+G297+G298","v":0},{"$f":"SUM(H292:H298)","v":0},{"$f":"I298","v":0},"+",0,null,-37.5,-37.299999999999997,{"$f":"((P299-INT(P299))*5/3)+INT(P299)","v":0},{"$f":"((P298-INT(P298))*3/5)+INT(P298)+E299","v":0},{"$f":"((Q298-ROUNDDOWN(Q298,0))/5*3)+ROUNDDOWN(Q298,0)","v":0},null,{"$f":"SUM(S292:S298)","v":0},0,0,0,null,{"$f":"SUM(X292:X298)","v":0},{"$f":"SUM(Y292:Y298)+IF(Interface!$P$11=O293,IF(Q292<O292,IF(Q292+Q293>(O292-O294),Q292+Q293-O292,0),Q293))","v":0}]
[null,{"$f":"B298+1","v":"2023-09-18"},null,null,null,null,{"$f":"D300-C300+F300-E300","v":"00:00:00"},{"$f":"(G300-INT(G300))*24","v":0},{"$f":"IF(H300>0,H300-Interface!$G$9,0)","v":0},"+",0,null,{"$f":"IF(H300>0,H300-Interface!$G$9,$M$2-Interface!$G$9)","v":-7.5},-7.3,{"$f":"Interface!$S$9","v":4},"Report",{"$f":"O299","v":0},null,null,null,null,null,null,null,null,{"$f":"IF(S300>0,1,IF(T300>0,2,IF(U300>0,3,IF(V300>0,4,IF(W300>0,W300,IF(X300>0,7,\"\"))))))","v":""}]
[null,{"$f":"B300+1","v":"2023-09-19"},null,null,null,null,"00:00:00",0,{"$f":"IF(H301>0,H301-Interface!$G$10+I300,0+I300)","v":0},"+",0,null,{"$f":"IF(H301>0,H301-Interface!$G$10+M300,$M$2-Interface!$G$10+M300)","v":-15},-15,{"$f":"Interface!$S$11","v":1},"En Plus",{"$f":"IF(M306>0,M306,0)","v":0},null,null,null,null,null,null,null,null,{"$f":"IF(S301>0,1,IF(T301>0,2,IF(U301>0,3,IF(V301>0,4,IF(W301>0,W301,IF(X301>0,7,\"\"))))))","v":""}]
[null,"2023-09-20",null,null,null,null,"00:00:00",0,{"$f":"IF(H302>0,H302-Interface!$G$11+I301,0+I301)","v":0},"+",0,null,{"$f":"IF(H302>0,H302-Interface!$G$11+M301,$M$2-Interface!$G$11+M301)","v":-22.5},-22.3,0.01,"Retenue +",{"$f":"IF(Q301 > O305,O301,Q301)","v":0},null,null,null,null,null,null,null,null,""]
[null,"2023-09-21",null,null,null,null,"00:00:00",0,{"$f":"IF(H303>0,H303-Interface!$G$12+I302,0+I302)","v":0},"+",0,null,{"$f":"IF(H303>0,H303-Interface!$G$12+M302,$M$2-Interface!$G$12+M302)","v":-30},-30,{"$f":"IF(Q303<0,-Q303,Q303)","v":0},"En Moins",{"$f":"IF(M306<-($Q$3-O302),0,IF(M306<0,M306,0))","v":0},null,null,null,null,null,null,null,null,""]
[null,"2023-09-22",null,null,null,null,"00:00:00",0,{"$f":"IF(H304>0,H304-Interface!$G$13+I303,0+I303)","v":0},"+",0,null,{"$f":"IF(H304>0,H304-Interface!$G$13+M303,$M$2-Interface!$G$13+M303)","v":-37.5},-37.299999999999997,{"$f":"SUM(O301-O302)","v":0.99},"Retenue -",{"$f":"IF(Q303=-Q299,0,IF(Q303>=0,0,IF(Q303>-O304,IF(Q300<O301,IF(Q303>-O304,IF(Q300=O303,Q303,IF(O303>Q300,IF((Q300-O301)<Q303,IF(O303>Q300,-Q300,Q300+Q303),-Q300),Q303)),Q303),Q303),IF(Q300<O301,IF(Q303>=-O304,44,Q300+Q303),-O301))))","v":0},null,null,null,null,null,null,null,null,""]
[null,"2023-09-23",null,null,null,null,"00:00:00",0,{"$f":"IF(H305>0,H305-Interface!$G$14+I304,0+I304)","v":0},"+",0,null,{"$f":"IF(H305>0,H305-Interface!$G$14+M304,$M$2-Interface!$G$14+M304)","v":-37.5},-37.299999999999997,{"$f":"SUM(O301+O302)","v":1.01},{"$f":"IF(M306=0,Q300, IF(M306=-$Q$3,Q300,IF(Q300+Q302>O300,0,IF(Q300<O301,IF(Q302>0,Q300+Q304+Q302,Q300-O303),0))))","v":0},{"$f":"IF(M306=-$Q$3,0,IF(Q300+Q302>O300,O300,IF(Q300>=O301,IF(Q304<=-O302,Q300+Q304,Q300+Q302),0)))","v":0},null,null,null,null,null,null,null,null,""]
[null,"2023-09-24",null,null,null,null,"00:00:00",0,{"$f":"IF(H306>0,H306-Interface!$G$15+I305,0+I305)","v":0},"+",0,null,{"$f":"IF(H306>0,H306-Interface!$G$15+M305,$M$2-Interface!$G$15+M305)","v":-37.5},-37.299999999999997,null,{"$f":"IF(M306=0,Q300,IF((P305+Q305)<=0,0,P305+Q305))","v":0},{"$f":"IF(M306=-$Q$3,0,IF(M306<-O302,IF(Q300>-O304,IF(Q300<O301,IF(Q303<-O304,Q304,IF(Q300=0,Q303,IF(Q300=O303,Q300+Q303,Q303-Q304))),IF(Q303<=-O301,Q303-Q304,IF((Q300-Q304)>0,0,41))),0),0))","v":0},null,null,null,null,null,null,null,null,""]
[null,null,"Ajustement Compteur",null,0,{"$f":"F299+1","v":38},{"$f":"G300+G301+G302+G303+G304+G305+G306","v":0},{"$f":"SUM(H300:H306)","v":0},{"$f":"I306","v":0},"+",0,null,-37.5,-37.299999999999997,{"$f":"((P307-INT(P307))*5/3)+INT(P307)","v":0},{"$f":"((P306-INT(P306))*3/5)+INT(P306)+E307","v":0},{"$f":"((Q306-ROUNDDOWN(Q306,0))/5*3)+ROUNDDOWN(Q306,0)","v":0},null,{"$f":"SUM(S300:S306)","v":0},0,0,0,null,{"$f":"SUM(X300:X306)","v":0},{"$f":"SUM(Y300:Y306)+IF(Interface!$P$11=O301,IF(Q300<O300,IF(Q300+Q301>(O300-O302),Q300+Q301-O300,0),Q301))","v":0}]
[null,{"$f":"B306+1","v":"2023-09-25"},null,null,null,null,{"$f":"D308-C308+F308-E308","v":"00:00:00"},{"$f":"(G308-INT(G308))*24","v":0},{"$f":"IF(H308>0,H308-Interface!$G$9,0)","v":0},"+",0,null,{"$f":"IF(H308>0,H308-Interface!$G$9,$M$2-Interface!$G$9)","v":-7.5},-7.3,{"$f":"Interface!$S$9","v":4},"Report",{"$f":"O307","v":0},null,null,null,null,null,null,null,null,{"$f":"IF(S308>0,1,IF(T308>0,2,IF(U308>0,3,IF(V308>0,4,IF(W308>0,W308,IF(X308>0,7,\"\"))))))","v":""}]
[null,{"$f":"B308+1","v":"2023-09-26"},null,null,null,null,"00:00:00",0,{"$f":"IF(H309>0,H309-Interface!$G$10+I308,0+I308)","v":0},"+",0,null,{"$f":"IF(H309>0,H309-Interface!$G$10+M308,$M$2-Interface!$G$10+M308)","v":-15},-15,{"$f":"Interface!$S$11","v":1},"En Plus",{"$f":"IF(M314>0,M314,0)","v":0},null,null,null,null,null,null,null,null,{"$f":"IF(S309>0,1,IF(T309>0,2,IF(U309>0,3,IF(V309>0,4,IF(W309>0,W309,IF(X309>0,7,\"\"))))))","v":""}]
[null,"2023-09-27",null,null,null,null,"00:00:00",0,{"$f":"IF(H310>0,H310-Interface!$G$11+I309,0+I309)","v":0},"+",0,null,{"$f":"IF(H310>0,H310-Interface!$G$11+M309,$M$2-Interface!$G$11+M309)","v":-22.5},-22.3,0.01,"Retenue +",{"$f":"IF(Q309 > O313,O309,Q309)","v":0},null,null,null,null,null,null,null,null,""]
[null,"2023-09-28",null,null,null,null,"00:00:00",0,{"$f":"IF(H311>0,H311-Interface!$G$12+I310,0+I310)","v":0},"+",0,null,{"$f":"IF(H311>0,H311-Interface!$G$12+M310,$M$2-Interface!$G$12+M310)","v":-30},-30,{"$f":"IF(Q311<0,-Q311,Q311)","v":0},"En Moins",{"$f":"IF(M314<-($Q$3-O310),0,IF(M314<0,M314,0))","v":0},null,null,null,null,null,null,null,null,""]
[null,"2023-09-29",null,null,null,null,"00:00:00",0,{"$f":"IF(H312>0,H312-Interface!$G$13+I311,0+I311)","v":0},"+",0,null,{"$f":"IF(H312>0,H312-Interface!$G$13+M311,$M$2-Interface!$G$13+M311)","v":-37.5},-37.299999999999997,{"$f":"SUM(O309-O310)","v":0.99},"Retenue -",{"$f":"IF(Q311=-Q307,0,IF(Q311>=0,0,IF(Q311>-O312,IF(Q308<O309,IF(Q311>-O312,IF(Q308=O311,Q311,IF(O311>Q308,IF((Q308-O309)<Q311,IF(O311>Q308,-Q308,Q308+Q311),-Q308),Q311)),Q311),Q311),IF(Q308<O309,IF(Q311>=-O312,44,Q308+Q311),-O309))))","v":0},null,null,null,null,null,null,null,null,""]
[null,"2023-09-30",null,null,null,null,"00:00:00",0,{"$f":"IF(H313>0,H313-Interface!$G$14+I312,0+I312)","v":0},"+",0,null,{"$f":"IF(H313>0,H313-Interface!$G$14+M312,$M$2-Interface!$G$14+M312)","v":-37.5},-37.299999999999997,{"$f":"SUM(O309+O310)","v":1.01},{"$f":"IF(M314=0,Q308, IF(M314=-$Q$3,Q308,IF(Q308+Q310>O308,0,IF(Q308<O309,IF(Q310>0,Q308+Q312+Q310,Q308-O311),0))))","v":0},{"$f":"IF(M314=-$Q$3,0,IF(Q308+Q310>O308,O308,IF(Q308>=O309,IF(Q312<=-O310,Q308+Q312,Q308+Q310),0)))","v":0},null,null,null,null,null,null,null,null,""]
[null,"2023-10-01",null,null,null,null,"00:00:00",0,{"$f":"IF(H314>0,H314-Interface!$G$15+I313,0+I313)","v":0},"+",0,null,{"$f":"IF(H314>0,H314-Interface!$G$15+M313,$M$2-Interface!$G$15+M313)","v":-37.5},-37.299999999999997,null,{"$f":"IF(M314=0,Q308,IF((P313+Q313)<=0,0,P313+Q313))","v":0},{"$f":"IF(M314=-$Q$3,0,IF(M314<-O310,IF(Q308>-O312,IF(Q308<O309,IF(Q311<-O312,Q312,IF(Q308=0,Q311,IF(Q308=O311,Q308+Q311,Q311-Q312))),IF(Q311<=-O309,Q311-Q312,IF((Q308-Q312)>0,0,41))),0),0))","v":0},null,null,null,null,null,null,null,null,""]
[null,"Septembre","Ajustement Compteur",null,0,{"$f":"F307+1","v":39},{"$f":"G308+G309+G310+G311+G312+G313+G314","v":0},{"$f":"SUM(H308:H314)","v":0},{"$f":"I314","v":0},"+",0,null,-37.5,-37.299999999999997,{"$f":"((P315-INT(P315))*5/3)+INT(P315)","v":0},{"$f":"((P314-INT(P314))*3/5)+INT(P314)+E315","v":0},{"$f":"((Q314-ROUNDDOWN(Q314,0))/5*3)+ROUNDDOWN(Q314,0)","v":0},null,{"$f":"SUM(S308:S314)+S291+S299+S307","v":0},{"$f":"SUM(T308:T314)+T291+T299+T307","v":0},0,0,null,{"$f":"SUM(X308:X314)+X291+X299+X307","v":0},{"$f":"(SUM(Y308:Y314)+Y307+Y299+Y291)+IF(Interface!$Q$12=1,IF(Q308<O300,IF(Q308+Q309>(O300-O302),Q308+Q309-O308,0),Q309))","v":0}]
[null,{"$f":"B314+1","v":"2023-10-02"},null,null,null,null,{"$f":"D316-C316+F316-E316","v":"00:00:00"},{"$f":"(G316-INT(G316))*24","v":0},{"$f":"IF(H316>0,H316-Interface!$G$9,0)","v":0},"+",0,null,{"$f":"IF(H316>0,H316-Interface!$G$9,$M$2-Interface!$G$9)","v":-7.5},-7.3,{"$f":"Interface!$S$9","v":4},"Report",{"$f":"O315","v":0},null,null,null,null,null,null,null,null,{"$f":"IF(S316>0,1,IF(T316>0,2,IF(U316>0,3,IF(V316>0,4,IF(W316>0,W316,IF(X316>0,7,\"\"))))))","v":""}]
[null,{"$f":"B316+1","v":"2023-10-03"},null,null,null,null,"00:00:00",0,{"$f":"IF(H317>0,H317-Interface!$G$10+I316,0+I316)","v":0},"+",0,null,{"$f":"IF(H317>0,H317-Interface!$G$10+M316,$M$2-Interface!$G$10+M316)","v":-15},-15,{"$f":"Interface!$S$11","v":1},"En Plus",{"$f":"IF(M322>0,M322,0)","v":0},null,null,null,null,null,null,null,null,{"$f":"IF(S317>0,1,IF(T317>0,2,IF(U317>0,3,IF(V317>0,4,IF(W317>0,W317,IF(X317>0,7,\"\"))))))","v":""}]
[null,"2023-10-04",null,null,null,null,"00:00:00",0,{"$f":"IF(H318>0,H318-Interface!$G$11+I317,0+I317)","v":0},"+",0,null,{"$f":"IF(H318>0,H318-Interface!$G$11+M317,$M$2-Interface!$G$11+M317)","v":-22.5},-22.3,0.01,"Retenue +",{"$f":"IF(Q317 > O321,O317,Q317)","v":0},null,null,null,null,null,null,null,null,""]
[null,"2023-10-05",null,null,null,null,"00:00:00",0,{"$f":"IF(H319>0,H319-Interface!$G$12+I318,0+I318)","v":0},"+",0,null,{"$f":"IF(H319>0,H319-Interface!$G$12+M318,$M$2-Interface!$G$12+M318)","v":-30},-30,{"$f":"IF(Q319<0,-Q319,Q319)","v":0},"En Moins",{"$f":"IF(M322<-($Q$3-O318),0,IF(M322<0,M322,0))","v":0},null,null,null,null,null,null,null,null,""]
[null,"2023-10-06",null,null,null,null,"00:00:00",0,{"$f":"IF(H320>0,H320-Interface!$G$13+I319,0+I319)","v":0},"+",0,null,{"$f":"IF(H320>0,H320-Interface!$G$13+M319,$M$2-Interface!$G$13+M319)","v":-37.5},-37.299999999999997,{"$f":"SUM(O317-O318)","v":0.99},"Retenue -",{"$f":"IF(Q319=-Q315,0,IF(Q319>=0,0,IF(Q319>-O320,IF(Q316<O317,IF(Q319>-O320,IF(Q316=O319,Q319,IF(O319>Q316,IF((Q316-O317)<Q319,IF(O319>Q316,-Q316,Q316+Q319),-Q316),Q319)),Q319),Q319),IF(Q316<O317,IF(Q319>=-O320,44,Q316+Q319),-O317))))","v":0},null,null,null,null,null,null,null,null,""]
[null,"2023-10-07",null,null,null,null,"00:00:00",0,{"$f":"IF(H321>0,H321-Interface!$G$14+I320,0+I320)","v":0},"+",0,null,{"$f":"IF(H321>0,H321-Interface!$G$14+M320,$M$2-Interface!$G$14+M320)","v":-37.5},-37.299999999999997,{"$f":"SUM(O317+O318)","v":1.01},{"$f":"IF(M322=0,Q316, IF(M322=-$Q$3,Q316,IF(Q316+Q318>O316,0,IF(Q316<O317,IF(Q318>0,Q316+Q320+Q318,Q316-O319),0))))","v":0},{"$f":"IF(M322=-$Q$3,0,IF(Q316+Q318>O316,O316,IF(Q316>=O317,IF(Q320<=-O318,Q316+Q320,Q316+Q318),0)))","v":0},null,null,null,null,null,null,null,null,""]
[null,"2023-10-08",null,null,null,null,"00:00:00",0,{"$f":"IF(H322>0,H322-Interface!$G$15+I321,0+I321)","v":0},"+",0,null,{"$f":"IF(H322>0,H322-Interface!$G$15+M321,$M$2-Interface!$G$15+M321)","v":-37.5},-37.299999999999997,null,{"$f":"IF(M322=0,Q316,IF((P321+Q321)<=0,0,P321+Q321))","v":0},{"$f":"IF(M322=-$Q$3,0,IF(M322<-O318,IF(Q316>-O320,IF(Q316<O317,IF(Q319<-O320,Q320,IF(Q316=0,Q319,IF(Q316=O319,Q316+Q319,Q319-Q320))),IF(Q319<=-O317,Q319-Q320,IF((Q316-Q320)>0,0,41))),0),0))","v":0},null,null,null,null,null,null,null,null,""]
[null,null,"Ajustement Compteur",null,0,{"$f":"F315+1","v":40},{"$f":"G316+G317+G318+G319+G320+G321+G322","v":0},{"$f":"SUM(H316:H322)","v":0},{"$f":"I322","v":0},"+",0,null,-37.5,-37.299999999999997,{"$f":"((P323-INT(P323))*5/3)+INT(P323)","v":0},{"$f":"((P322-INT(P322))*3/5)+INT(P322)+E323","v":0},{"$f":"((Q322-ROUNDDOWN(Q322,0))/5*3)+ROUNDDOWN(Q322,0)","v":0},null,{"$f":"SUM(S316:S322)","v":0},0,0,0,null,{"$f":"SUM(X316:X322)","v":0},{"$f":"SUM(Y316:Y322)+IF(Interface!$P$11=O317,IF(Q316<O316,IF(Q316+Q317>(O316-O318),Q316+Q317-O316,0),Q317))","v":0}]
[null,{"$f":"B322+1","v":"2023-10-09"},null,null,null,null,{"$f":"D324-C324+F324-E324","v":"00:00:00"},{"$f":"(G324-INT(G324))*24","v":0},{"$f":"IF(H324>0,H324-Interface!$G$9,0)","v":0},"+",0,null,{"$f":"IF(H324>0,H324-Interface!$G$9,$M$2-Interface!$G$9)","v":-7.5},{"$f":"((M324-ROUNDDOWN(M324,0))/5*3)+ROUNDDOWN(M324,0)","v":-7.3},{"$f":"Interface!$S$9","v":4},"Report",{"$f":"O323","v":0},null,null,null,null,null,null,null,null,{"$f":"IF(S324>0,1,IF(T324>0,2,IF(U324>0,3,IF(V324>0,4,IF(W324>0,W324,IF(X324>0,7,\"\"))))))","v":""}]
[null,{"$f":"B324+1","v":"2023-10-10"},null,null,null,null,"00:00:00",0,{"$f":"IF(H325>0,H325-Interface!$G$10+I324,0+I324)","v":0},"+",0,null,{"$f":"IF(H325>0,H325-Interface!$G$10+M324,$M$2-Interface!$G$10+M324)","v":-15},-15,{"$f":"Interface!$S$11","v":1},"En Plus",{"$f":"IF(M330>0,M330,0)","v":0},null,null,null,null,null,null,null,null,{"$f":"IF(S325>0,1,IF(T325>0,2,IF(U325>0,3,IF(V325>0,4,IF(W325>0,W325,IF(X325>0,7,\"\"))))))","v":""}]
[null,"2023-10-11",null,null,null,null,"00:00:00",0,{"$f":"IF(H326>0,H326-Interface!$G$11+I325,0+I325)","v":0},"+",0,null,{"$f":"IF(H326>0,H326-Interface!$G$11+M325,$M$2-Interface!$G$11+M325)","v":-22.5},-22.3,0.01,"Retenue +",{"$f":"IF(Q325 > O329,O325,Q325)","v":0},null,null,null,null,null,null,null,null,""]
[null,"2023-10-12",null,null,null,null,"00:00:00",0,{"$f":"IF(H327>0,H327-Interface!$G$12+I326,0+I326)","v":0},"+",0,null,{"$f":"IF(H327>0,H327-Interface!$G$12+M326,$M$2-Interface!$G$12+M326)","v":-30},-30,{"$f":"IF(Q327<0,-Q327,Q327)","v":0},"En Moins",{"$f":"IF(M330<-($Q$3-O326),0,IF(M330<0,M330,0))","v":0},null,null,null,null,null,null,null,null,""]
[null,"2023-10-13",null,null,null,null,"00:00:00",0,{"$f":"IF(H328>0,H328-Interface!$G$13+I327,0+I327)","v":0},"+",0,null,{"$f":"IF(H328>0,H328-Interface!$G$13+M327,$M$2-Interface!$G$13+M327)","v":-37.5},-37.299999999999997,{"$f":"SUM(O325-O326)","v":0.99},"Retenue -",{"$f":"IF(Q327=-Q323,0,IF(Q327>=0,0,IF(Q327>-O328,IF(Q324<O325,IF(Q327>-O328,IF(Q324=O327,Q327,IF(O327>Q324,IF((Q324-O325)<Q327,IF(O327>Q324,-Q324,Q324+Q327),-Q324),Q327)),Q327),Q327),IF(Q324<O325,IF(Q327>=-O328,44,Q324+Q327),-O325))))","v":0},null,null,null,null,null,null,null,null,""]
[null,"2023-10-14",null,null,null,null,"00:00:00",0,{"$f":"IF(H329>0,H329-Interface!$G$14+I328,0+I328)","v":0},"+",0,null,{"$f":"IF(H329>0,H329-Interface!$G$14+M328,$M$2-Interface!$G$14+M328)","v":-37.5},-37.299999999999997,{"$f":"SUM(O325+O326)","v":1.01},{"$f":"IF(M330=0,Q324, IF(M330=-$Q$3,Q324,IF(Q324+Q326>O324,0,IF(Q324<O325,IF(Q326>0,Q324+Q328+Q326,Q324-O327),0))))","v":0},{"$f":"IF(M330=-$Q$3,0,IF(Q324+Q326>O324,O324,IF(Q324>=O325,IF(Q328<=-O326,Q324+Q328,Q324+Q326),0)))","v":0},null,null,null,null,null,null,null,null,""]
[null,"2023-10-15",null,null,null,null,"00:00:00",0,{"$f":"IF(H330>0,H330-Interface!$G$15+I329,0+I329)","v":0},"+",0,null,{"$f":"IF(H330>0,H330-Interface!$G$15+M329,$M$2-Interface!$G$15+M329)","v":-37.5},-37.299999999999997,null,{"$f":"IF(M330=0,Q324,IF((P329+Q329)<=0,0,P329+Q329))","v":0},{"$f":"IF(M330=-$Q$3,0,IF(M330<-O326,IF(Q324>-O328,IF(Q324<O325,IF(Q327<-O328,Q328,IF(Q324=0,Q327,IF(Q324=O327,Q324+Q327,Q327-Q328))),IF(Q327<=-O325,Q327-Q328,IF((Q324-Q328)>0,0,41))),0),0))","v":0},null,null,null,null,null,null,null,null,""]
[null,null,"Ajustement Compteur",null,0,{"$f":"F323+1","v":41},{"$f":"G324+G325+G326+G327+G328+G329+G330","v":0},{"$f":"SUM(H324:H330)","v":0},{"$f":"I330","v":0},"+",0,null,-37.5,-37.299999999999997,{"$f":"((P331-INT(P331))*5/3)+INT(P331)","v":0},{"$f":"((P330-INT(P330))*3/5)+INT(P330)+E331","v":0},{"$f":"((Q330-ROUNDDOWN(Q330,0))/5*3)+ROUNDDOWN(Q330,0)","v":0},null,{"$f":"SUM(S324:S330)","v":0},0,0,0,null,{"$f":"SUM(X324:X330)","v":0},{"$f":"SUM(Y324:Y330)+IF(Interface!$P$11=O325,IF(Q324<O324,IF(Q324+Q325>(O324-O326),Q324+Q325-O324,0),Q325))","v":0}]
[null,{"$f":"B330+1","v":"2023-10-16"},null,null,null,null,{"$f":"D332-C332+F332-E332","v":"00:00:00"},{"$f":"(G332-INT(G332))*24","v":0},{"$f":"IF(H332>0,H332-Interface!$G$9,0)","v":0},{"$f":"IF(I332>=0,\"+\",\"-\")","v":"+"},{"$f":"TIME(TRUNC(ABS(I332)),ROUND((ABS(I332)-TRUNC(ABS(I332)))*60,),0)","v":0},null,{"$f":"IF(H332>0,H332-Interface!$G$9,$M$2-Interface!$G$9)","v":-7.5},-7.3,{"$f":"Interface!$S$9","v":4},"Report",{"$f":"O331","v":0},null,null,null,null,null,null,null,null,{"$f":"IF(S332>0,1,IF(T332>0,2,IF(U332>0,3,IF(V332>0,4,IF(W332>0,W332,IF(X332>0,7,\"\"))))))","v":""}]
[null,{"$f":"B332+1","v":"2023-10-17"},null,null,null,null,"00:00:00",0,{"$f":"IF(H333>0,H333-Interface!$G$10+I332,0+I332)","v":0},"+",0,null,{"$f":"IF(H333>0,H333-Interface!$G$10+M332,$M$2-Interface!$G$10+M332)","v":-15},-15,{"$f":"Interface!$S$11","v":1},"En Plus",{"$f":"IF(M338>0,M338,0)","v":0},null,null,null,null,null,null,null,null,{"$f":"IF(S333>0,1,IF(T333>0,2,IF(U333>0,3,IF(V333>0,4,IF(W333>0,W333,IF(X333>0,7,\"\"))))))","v":""}]
[null,"2023-10-18",null,null,null,null,"00:00:00",0,{"$f":"IF(H334>0,H334-Interface!$G$11+I333,0+I333)","v":0},"+",0,null,{"$f":"IF(H334>0,H334-Interface!$G$11+M333,$M$2-Interface!$G$11+M333)","v":-22.5},-22.3,0.01,"Retenue +",{"$f":"IF(Q333 > O337,O333,Q333)","v":0},null,null,null,null,null,null,null,null,""]
[null,"2023-10-19",null,null,null,null,"00:00:00",0,{"$f":"IF(H335>0,H335-Interface!$G$12+I334,0+I334)","v":0},"+",0,null,{"$f":"IF(H335>0,H335-Interface!$G$12+M334,$M$2-Interface!$G$12+M334)","v":-30},-30,{"$f":"IF(Q335<0,-Q335,Q335)","v":0},"En Moins",{"$f":"IF(M338<-($Q$3-O334),0,IF(M338<0,M338,0))","v":0},null,null,null,null,null,null,null,null,""]
[null,"2023-10-20",null,null,null,null,"00:00:00",0,{"$f":"IF(H336>0,H336-Interface!$G$13+I335,0+I335)","v":0},"+",0,null,{"$f":"IF(H336>0,H336-Interface!$G$13+M335,$M$2-Interface!$G$13+M335)","v":-37.5},-37.299999999999997,{"$f":"SUM(O333-O334)","v":0.99},"Retenue -",{"$f":"IF(Q335=-Q331,0,IF(Q335>=0,0,IF(Q335>-O336,IF(Q332<O333,IF(Q335>-O336,IF(Q332=O335,Q335,IF(O335>Q332,IF((Q332-O333)<Q335,IF(O335>Q332,-Q332,Q332+Q335),-Q332),Q335)),Q335),Q335),IF(Q332<O333,IF(Q335>=-O336,44,Q332+Q335),-O333))))","v":0},null,null,null,null,null,null,null,null,""]
[null,"2023-10-21",null,null,null,null,"00:00:00",0,{"$f":"IF(H337>0,H337-Interface!$G$14+I336,0+I336)","v":0},"+",0,null,{"$f":"IF(H337>0,H337-Interface!$G$14+M336,$M$2-Interface!$G$14+M336)","v":-37.5},-37.299999999999997,{"$f":"SUM(O333+O334)","v":1.01},{"$f":"IF(M338=0,Q332, IF(M338=-$Q$3,Q332,IF(Q332+Q334>O332,0,IF(Q332<O333,IF(Q334>0,Q332+Q336+Q334,Q332-O335),0))))","v":0},{"$f":"IF(M338=-$Q$3,0,IF(Q332+Q334>O332,O332,IF(Q332>=O333,IF(Q336<=-O334,Q332+Q336,Q332+Q334),0)))","v":0},null,null,null,null,null,null,null,null,""]
[null,"2023-10-22",null,null,null,null,"00:00:00",0,{"$f":"IF(H338>0,H338-Interface!$G$15+I337,0+I337)","v":0},"+",0,null,{"$f":"IF(H338>0,H338-Interface!$G$15+M337,$M$2-Interface!$G$15+M337)","v":-37.5},-37.299999999999997,null,{"$f":"IF(M338=0,Q332,IF((P337+Q337)<=0,0,P337+Q337))","v":0},{"$f":"IF(M338=-$Q$3,0,IF(M338<-O334,IF(Q332>-O336,IF(Q332<O333,IF(Q335<-O336,Q336,IF(Q332=0,Q335,IF(Q332=O335,Q332+Q335,Q335-Q336))),IF(Q335<=-O333,Q335-Q336,IF((Q332-Q336)>0,0,41))),0),0))","v":0},null,null,null,null,null,null,null,null,""]
[null,null,"Ajustement Compteur",null,0,{"$f":"F331+1","v":42},{"$f":"G332+G333+G334+G335+G336+G337+G338","v":0},{"$f":"SUM(H332:H338)","v":0},{"$f":"I338","v":0},"+",0,null,-37.5,-37.299999999999997,{"$f":"((P339-INT(P339))*5/3)+INT(P339)","v":0},{"$f":"((P338-INT(P338))*3/5)+INT(P338)+E339","v":0},{"$f":"((Q338-ROUNDDOWN(Q338,0))/5*3)+ROUNDDOWN(Q338,0)","v":0},null,{"$f":"SUM(S332:S338)","v":0},0,0,0,null,{"$f":"SUM(X332:X338)","v":0},{"$f":"SUM(Y332:Y338)+IF(Interface!$P$11=O333,IF(Q332<O332,IF(Q332+Q333>(O332-O334),Q332+Q333-O332,0),Q333))","v":0}]
[null,{"$f":"B338+1","v":"2023-10-23"},null,null,null,null,{"$f":"D340-C340+F340-E340","v":"00:00:00"},{"$f":"(G340-INT(G340))*24","v":0},{"$f":"IF(H340>0,H340-Interface!$G$9,0)","v":0},"+",0,null,{"$f":"IF(H340>0,H340-Interface!$G$9,$M$2-Interface!$G$9)","v":-7.5},-7.3,{"$f":"Interface!$S$9","v":4},"Report",{"$f":"O339","v":0},null,null,null,null,null,null,null,null,{"$f":"IF(S340>0,1,IF(T340>0,2,IF(U340>0,3,IF(V340>0,4,IF(W340>0,W340,IF(X340>0,7,\"\"))))))","v":""}]
[null,{"$f":"B340+1","v":"2023-10-24"},null,null,null,null,"00:00:00",0,{"$f":"IF(H341>0,H341-Interface!$G$10+I340,0+I340)","v":0},"+",0,null,{"$f":"IF(H341>0,H341-Interface!$G$10+M340,$M$2-Interface!$G$10+M340)","v":-15},-15,{"$f":"Interface!$S$11","v":1},"En Plus",{"$f":"IF(M346>0,M346,0)","v":0},null,null,null,null,null,null,null,null,{"$f":"IF(S341>0,1,IF(T341>0,2,IF(U341>0,3,IF(V341>0,4,IF(W341>0,W341,IF(X341>0,7,\"\"))))))","v":""}]
[null,"2023-10-25",null,null,null,null,"00:00:00",0,{"$f":"IF(H342>0,H342-Interface!$G$11+I341,0+I341)","v":0},"+",0,null,{"$f":"IF(H342>0,H342-Interface!$G$11+M341,$M$2-Interface!$G$11+M341)","v":-22.5},-22.3,0.01,"Retenue +",{"$f":"IF(Q341 > O345,O341,Q341)","v":0},null,null,null,null,null,null,null,null,""]
[null,"2023-10-26",null,null,null,null,"00:00:00",0,{"$f":"IF(H343>0,H343-Interface!$G$12+I342,0+I342)","v":0},"+",0,null,{"$f":"IF(H343>0,H343-Interface!$G$12+M342,$M$2-Interface!$G$12+M342)","v":-30},-30,{"$f":"IF(Q343<0,-Q343,Q343)","v":0},"En Moins",{"$f":"IF(M346<-($Q$3-O342),0,IF(M346<0,M346,0))","v":0},null,null,null,null,null,null,null,null,""]
[null,"2023-10-27",null,null,null,null,"00:00:00",0,{"$f":"IF(H344>0,H344-Interface!$G$13+I343,0+I343)","v":0},"+",0,null,{"$f":"IF(H344>0,H344-Interface!$G$13+M343,$M$2-Interface!$G$13+M343)","v":-37.5},-37.299999999999997,{"$f":"SUM(O341-O342)","v":0.99},"Retenue -",{"$f":"IF(Q343=-Q339,0,IF(Q343>=0,0,IF(Q343>-O344,IF(Q340<O341,IF(Q343>-O344,IF(Q340=O343,Q343,IF(O343>Q340,IF((Q340-O341)<Q343,IF(O343>Q340,-Q340,Q340+Q343),-Q340),Q343)),Q343),Q343),IF(Q340<O341,IF(Q343>=-O344,44,Q340+Q343),-O341))))","v":0},null,null,null,null,null,null,null,null,""]
[null,"2023-10-28",null,null,null,null,"00:00:00",0,{"$f":"IF(H345>0,H345-Interface!$G$14+I344,0+I344)","v":0},"+",0,null,{"$f":"IF(H345>0,H345-Interface!$G$14+M344,$M$2-Interface!$G$14+M344)","v":-37.5},-37.299999999999997,{"$f":"SUM(O341+O342)","v":1.01},{"$f":"IF(M346=0,Q340, IF(M346=-$Q$3,Q340,IF(Q340+Q342>O340,0,IF(Q340<O341,IF(Q342>0,Q340+Q344+Q342,Q340-O343),0))))","v":0},{"$f":"IF(M346=-$Q$3,0,IF(Q340+Q342>O340,O340,IF(Q340>=O341,IF(Q344<=-O342,Q340+Q344,Q340+Q342),0)))","v":0},null,null,null,null,null,null,null,null,""]
[null,"2023-10-29",null,null,null,null,"00:00:00",0,{"$f":"IF(H346>0,H346-Interface!$G$15+I345,0+I345)","v":0},"+",0,null,{"$f":"IF(H346>0,H346-Interface!$G$15+M345,$M$2-Interface!$G$15+M345)","v":-37.5},-37.299999999999997,null,{"$f":"IF(M346=0,Q340,IF((P345+Q345)<=0,0,P345+Q345))","v":0},{"$f":"IF(M346=-$Q$3,0,IF(M346<-O342,IF(Q340>-O344,IF(Q340<O341,IF(Q343<-O344,Q344,IF(Q340=0,Q343,IF(Q340=O343,Q340+Q343,Q343-Q344))),IF(Q343<=-O341,Q343-Q344,IF((Q340-Q344)>0,0,41))),0),0))","v":0},null,null,null,null,null,null,null,null,""]
[null,null,"Ajustement Compteur",null,0,{"$f":"F339+1","v":43},{"$f":"G340+G341+G342+G343+G344+G345+G346","v":0},{"$f":"SUM(H340:H346)","v":0},{"$f":"I346","v":0},"+",0,null,{"$f":"M346","v":-37.5},-37.299999999999997,{"$f":"((P347-INT(P347))*5/3)+INT(P347)","v":0},{"$f":"((P346-INT(P346))*3/5)+INT(P346)+E347","v":0},{"$f":"((Q346-ROUNDDOWN(Q346,0))/5*3)+ROUNDDOWN(Q346,0)","v":0},null,{"$f":"SUM(S340:S346)","v":0},0,0,0,null,{"$f":"SUM(X340:X346)","v":0},{"$f":"SUM(Y340:Y346)+IF(Interface!$P$11=O341,IF(Q340<O340,IF(Q340+Q341>(O340-O342),Q340+Q341-O340,0),Q341))","v":0}]
[null,{"$f":"B346+1","v":"2023-10-30"},null,null,null,null,{"$f":"D348-C348+F348-E348","v":"00:00:00"},{"$f":"(G348-INT(G348))*24","v":0},{"$f":"IF(H348>0,H348-Interface!$G$9,0)","v":0},"+",0,null,{"$f":"IF(H348>0,H348-Interface!$G$9,$M$2-Interface!$G$9)","v":-7.5},-7.3,{"$f":"Interface!$S$9","v":4},"Report",{"$f":"O347","v":0},null,null,null,null,null,null,null,null,{"$f":"IF(S348>0,1,IF(T348>0,2,IF(U348>0,3,IF(V348>0,4,IF(W348>0,W348,IF(X348>0,7,\"\"))))))","v":""}]
[null,{"$f":"B348+1","v":"2023-10-31"},null,null,null,null,"00:00:00",0,{"$f":"IF(H349>0,H349-Interface!$G$10+I348,0+I348)","v":0},"+",0,null,{"$f":"IF(H349>0,H349-Interface!$G$10+M348,$M$2-Interface!$G$10+M348)","v":-15},-15,{"$f":"Interface!$S$11","v":1},"En Plus",{"$f":"IF(M354>0,M354,0)","v":0},null,null,null,null,null,null,null,null,{"$f":"IF(S349>0,1,IF(T349>0,2,IF(U349>0,3,IF(V349>0,4,IF(W349>0,W349,IF(X349>0,7,\"\"))))))","v":""}]
[null,"2023-11-01",null,null,null,null,"00:00:00",0,{"$f":"IF(H350>0,H350-Interface!$G$11+I349,0+I349)","v":0},"+",0,null,{"$f":"IF(H350>0,H350-Interface!$G$11+M349,$M$2-Interface!$G$11+M349)","v":-22.5},-22.3,0.01,"Retenue +",{"$f":"IF(Q349 > O353,O349,Q349)","v":0},null,null,null,null,null,null,null,null,""]
[null,"2023-11-02",null,null,null,null,"00:00:00",0,{"$f":"IF(H351>0,H351-Interface!$G$12+I350,0+I350)","v":0},"+",0,null,{"$f":"IF(H351>0,H351-Interface!$G$12+M350,$M$2-Interface!$G$12+M350)","v":-30},-30,{"$f":"IF(Q351<0,-Q351,Q351)","v":0},"En Moins",{"$f":"IF(M354<-($Q$3-O350),0,IF(M354<0,M354,0))","v":0},null,null,null,null,null,null,null,null,""]
[null,"2023-11-03",null,null,null,null,"00:00:00",0,{"$f":"IF(H352>0,H352-Interface!$G$13+I351,0+I351)","v":0},"+",0,null,{"$f":"IF(H352>0,H352-Interface!$G$13+M351,$M$2-Interface!$G$13+M351)","v":-37.5},-37.299999999999997,{"$f":"SUM(O349-O350)","v":0.99},"Retenue -",{"$f":"IF(Q351=-Q347,0,IF(Q351>=0,0,IF(Q351>-O352,IF(Q348<O349,IF(Q351>-O352,IF(Q348=O351,Q351,IF(O351>Q348,IF((Q348-O349)<Q351,IF(O351>Q348,-Q348,Q348+Q351),-Q348),Q351)),Q351),Q351),IF(Q348<O349,IF(Q351>=-O352,44,Q348+Q351),-O349))))","v":0},null,null,null,null,null,null,null,null,""]
[null,"2023-11-04",null,null,null,null,"00:00:00",0,{"$f":"IF(H353>0,H353-Interface!$G$14+I352,0+I352)","v":0},"+",0,null,{"$f":"IF(H353>0,H353-Interface!$G$14+M352,$M$2-Interface!$G$14+M352)","v":-37.5},-37.299999999999997,{"$f":"SUM(O349+O350)","v":1.01},{"$f":"IF(M354=0,Q348, IF(M354=-$Q$3,Q348,IF(Q348+Q350>O348,0,IF(Q348<O349,IF(Q350>0,Q348+Q352+Q350,Q348-O351),0))))","v":0},{"$f":"IF(M354=-$Q$3,0,IF(Q348+Q350>O348,O348,IF(Q348>=O349,IF(Q352<=-O350,Q348+Q352,Q348+Q350),0)))","v":0},null,null,null,null,null,null,null,null,""]
[null,"2023-11-05",null,null,null,null,"00:00:00",0,{"$f":"IF(H354>0,H354-Interface!$G$15+I353,0+I353)","v":0},"+",0,null,{"$f":"IF(H354>0,H354-Interface!$G$15+M353,$M$2-Interface!$G$15+M353)","v":-37.5},-37.299999999999997,null,{"$f":"IF(M354=0,Q348,IF((P353+Q353)<=0,0,P353+Q353))","v":0},{"$f":"IF(M354=-$Q$3,0,IF(M354<-O350,IF(Q348>-O352,IF(Q348<O349,IF(Q351<-O352,Q352,IF(Q348=0,Q351,IF(Q348=O351,Q348+Q351,Q351-Q352))),IF(Q351<=-O349,Q351-Q352,IF((Q348-Q352)>0,0,41))),0),0))","v":0},null,null,null,null,null,null,null,null,""]
[null,"Octobre","Ajustement Compteur",null,0,{"$f":"F347+1","v":44},{"$f":"G348+G349+G350+G351+G352+G353+G354","v":0},{"$f":"SUM(H348:H354)","v":0},{"$f":"I354","v":0},"+",0,null,-37.5,-37.299999999999997,{"$f":"((P355-INT(P355))*5/3)+INT(P355)","v":0},{"$f":"((P354-INT(P354))*3/5)+INT(P354)+E355","v":0},{"$f":"((Q354-ROUNDDOWN(Q354,0))/5*3)+ROUNDDOWN(Q354,0)","v":0},null,{"$f":"SUM(S348:S354)+S323+S331+S339+S347","v":0},{"$f":"SUM(T348:T354)+T323+T331+T339+T347","v":0},{"$f":"SUM(U348:U354)+U323+U331+U339+U347","v":0},{"$f":"SUM(V348:V354)+V323+V331+V339+V347","v":0},null,{"$f":"SUM(X348:X354)+X323+X331+X339+X347","v":0},{"$f":"(SUM(Y348:Y354)+Y347+Y339+Y331+Y323)+IF(Interface!$Q$12=1,IF(Q348<O340,IF(Q348+Q349>(O340-O342),Q348+Q349-O348,0),Q349))","v":0}]
[null,{"$f":"B354+1","v":"2023-11-06"},null,null,null,null,{"$f":"D356-C356+F356-E356","v":"00:00:00"},{"$f":"(G356-INT(G356))*24","v":0},{"$f":"IF(H356>0,H356-Interface!$G$9,0)","v":0},"+",0,null,{"$f":"IF(H356>0,H356-Interface!$G$9,$M$2-Interface!$G$9)","v":-7.5},-7.3,{"$f":"Interface!$S$9","v":4},"Report",{"$f":"O355","v":0},null,null,null,null,null,null,null,null,{"$f":"IF(S356>0,1,IF(T356>0,2,IF(U356>0,3,IF(V356>0,4,IF(W356>0,W356,IF(X356>0,7,\"\"))))))","v":""}]
[null,{"$f":"B356+1","v":"2023-11-07"},null,null,null,null,"00:00:00",0,{"$f":"IF(H357>0,H357-Interface!$G$10+I356,0+I356)","v":0},"+",0,null,{"$f":"IF(H357>0,H357-Interface!$G$10+M356,$M$2-Interface!$G$10+M356)","v":-15},-15,{"$f":"Interface!$S$11","v":1},"En Plus",{"$f":"IF(M362>0,M362,0)","v":0},null,null,null,null,null,null,null,null,{"$f":"IF(S357>0,1,IF(T357>0,2,IF(U357>0,3,IF(V357>0,4,IF(W357>0,W357,IF(X357>0,7,\"\"))))))","v":""}]
[null,"2023-11-08",null,null,null,null,"00:00:00",0,{"$f":"IF(H358>0,H358-Interface!$G$11+I357,0+I357)","v":0},"+",0,null,{"$f":"IF(H358>0,H358-Interface!$G$11+M357,$M$2-Interface!$G$11+M357)","v":-22.5},-22.3,0.01,"Retenue +",{"$f":"IF(Q357 > O361,O357,Q357)","v":0},null,null,null,null,null,null,null,null,""]
[null,"2023-11-09",null,null,null,null,"00:00:00",0,{"$f":"IF(H359>0,H359-Interface!$G$12+I358,0+I358)","v":0},"+",0,null,{"$f":"IF(H359>0,H359-Interface!$G$12+M358,$M$2-Interface!$G$12+M358)","v":-30},-30,{"$f":"IF(Q359<0,-Q359,Q359)","v":0},"En Moins",{"$f":"IF(M362<-($Q$3-O358),0,IF(M362<0,M362,0))","v":0},null,null,null,null,null,null,null,null,""]
[null,"2023-11-10",null,null,null,null,"00:00:00",0,{"$f":"IF(H360>0,H360-Interface!$G$13+I359,0+I359)","v":0},"+",0,null,{"$f":"IF(H360>0,H360-Interface!$G$13+M359,$M$2-Interface!$G$13+M359)","v":-37.5},-37.299999999999997,{"$f":"SUM(O357-O358)","v":0.99},"Retenue -",{"$f":"IF(Q359=-Q355,0,IF(Q359>=0,0,IF(Q359>-O360,IF(Q356<O357,IF(Q359>-O360,IF(Q356=O359,Q359,IF(O359>Q356,IF((Q356-O357)<Q359,IF(O359>Q356,-Q356,Q356+Q359),-Q356),Q359)),Q359),Q359),IF(Q356<O357,IF(Q359>=-O360,44,Q356+Q359),-O357))))","v":0},null,null,null,null,null,null,null,null,""]
[null,"2023-11-11",null,null,null,null,"00:00:00",0,{"$f":"IF(H361>0,H361-Interface!$G$14+I360,0+I360)","v":0},"+",0,null,{"$f":"IF(H361>0,H361-Interface!$G$14+M360,$M$2-Interface!$G$14+M360)","v":-37.5},-37.299999999999997,{"$f":"SUM(O357+O358)","v":1.01},{"$f":"IF(M362=0,Q356, IF(M362=-$Q$3,Q356,IF(Q356+Q358>O356,0,IF(Q356<O357,IF(Q358>0,Q356+Q360+Q358,Q356-O359),0))))","v":0},{"$f":"IF(M362=-$Q$3,0,IF(Q356+Q358>O356,O356,IF(Q356>=O357,IF(Q360<=-O358,Q356+Q360,Q356+Q358),0)))","v":0},null,null,null,null,null,null,null,null,""]
[null,"2023-11-12",null,null,null,null,"00:00:00",0,{"$f":"IF(H362>0,H362-Interface!$G$15+I361,0+I361)","v":0},"+",0,null,{"$f":"IF(H362>0,H362-Interface!$G$15+M361,$M$2-Interface!$G$15+M361)","v":-37.5},-37.299999999999997,null,{"$f":"IF(M362=0,Q356,IF((P361+Q361)<=0,0,P361+Q361))","v":0},{"$f":"IF(M362=-$Q$3,0,IF(M362<-O358,IF(Q356>-O360,IF(Q356<O357,IF(Q359<-O360,Q360,IF(Q356=0,Q359,IF(Q356=O359,Q356+Q359,Q359-Q360))),IF(Q359<=-O357,Q359-Q360,IF((Q356-Q360)>0,0,41))),0),0))","v":0},null,null,null,null,null,null,null,null,""]
[null,null,"Ajustement Compteur",null,0,{"$f":"F355+1","v":45},{"$f":"G356+G357+G358+G359+G360+G361+G362","v":0},{"$f":"SUM(H356:H362)","v":0},{"$f":"I362","v":0},"+",0,null,-37.5,-37.299999999999997,{"$f":"((P363-INT(P363))*5/3)+INT(P363)","v":0},{"$f":"((P362-INT(P362))*3/5)+INT(P362)+E363","v":0},{"$f":"((Q362-ROUNDDOWN(Q362,0))/5*3)+ROUNDDOWN(Q362,0)","v":0},null,{"$f":"SUM(S356:S362)","v":0},0,0,0,null,{"$f":"SUM(X356:X362)","v":0},{"$f":"SUM(Y356:Y362)+IF(Interface!$P$11=O357,IF(Q356<O356,IF(Q356+Q357>(O356-O358),Q356+Q357-O356,0),Q357))","v":0}]
[null,{"$f":"B362+1","v":"2023-11-13"},null,null,null,null,{"$f":"D364-C364+F364-E364","v":"00:00:00"},{"$f":"(G364-INT(G364))*24","v":0},{"$f":"IF(H364>0,H364-Interface!$G$9,0)","v":0},"+",0,null,{"$f":"IF(H364>0,H364-Interface!$G$9,$M$2-Interface!$G$9)","v":-7.5},-7.3,{"$f":"Interface!$S$9","v":4},"Report",{"$f":"O363","v":0},null,null,null,null,null,null,null,null,{"$f":"IF(S364>0,1,IF(T364>0,2,IF(U364>0,3,IF(V364>0,4,IF(W364>0,W364,IF(X364>0,7,\"\"))))))","v":""}]
[null,{"$f":"B364+1","v":"2023-11-14"},null,null,null,null,"00:00:00",0,{"$f":"IF(H365>0,H365-Interface!$G$10+I364,0+I364)","v":0},"+",0,null,{"$f":"IF(H365>0,H365-Interface!$G$10+M364,$M$2-Interface!$G$10+M364)","v":-15},-15,{"$f":"Interface!$S$11","v":1},"En Plus",{"$f":"IF(M370>0,M370,0)","v":0},null,null,null,null,null,null,null,null,{"$f":"IF(S365>0,1,IF(T365>0,2,IF(U365>0,3,IF(V365>0,4,IF(W365>0,W365,IF(X365>0,7,\"\"))))))","v":""}]
[null,"2023-11-15",null,null,null,null,"00:00:00",0,{"$f":"IF(H366>0,H366-Interface!$G$11+I365,0+I365)","v":0},"+",0,null,{"$f":"IF(H366>0,H366-Interface!$G$11+M365,$M$2-Interface!$G$11+M365)","v":-22.5},-22.3,0.01,"Retenue +",{"$f":"IF(Q365 > O369,O365,Q365)","v":0},null,null,null,null,null,null,null,null,""]
[null,"2023-11-16",null,null,null,null,"00:00:00",0,{"$f":"IF(H367>0,H367-Interface!$G$12+I366,0+I366)","v":0},"+",0,null,{"$f":"IF(H367>0,H367-Interface!$G$12+M366,$M$2-Interface!$G$12+M366)","v":-30},-30,{"$f":"IF(Q367<0,-Q367,Q367)","v":0},"En Moins",{"$f":"IF(M370<-($Q$3-O366),0,IF(M370<0,M370,0))","v":0},null,null,null,null,null,null,null,null,""]
[null,"2023-11-17",null,null,null,null,"00:00:00",0,{"$f":"IF(H368>0,H368-Interface!$G$13+I367,0+I367)","v":0},"+",0,null,{"$f":"IF(H368>0,H368-Interface!$G$13+M367,$M$2-Interface!$G$13+M367)","v":-37.5},-37.299999999999997,{"$f":"SUM(O365-O366)","v":0.99},"Retenue -",{"$f":"IF(Q367=-Q363,0,IF(Q367>=0,0,IF(Q367>-O368,IF(Q364<O365,IF(Q367>-O368,IF(Q364=O367,Q367,IF(O367>Q364,IF((Q364-O365)<Q367,IF(O367>Q364,-Q364,Q364+Q367),-Q364),Q367)),Q367),Q367),IF(Q364<O365,IF(Q367>=-O368,44,Q364+Q367),-O365))))","v":0},null,null,null,null,null,null,null,null,""]
[null,"2023-11-18",null,null,null,null,"00:00:00",0,{"$f":"IF(H369>0,H369-Interface!$G$14+I368,0+I368)","v":0},"+",0,null,{"$f":"IF(H369>0,H369-Interface!$G$14+M368,$M$2-Interface!$G$14+M368)","v":-37.5},-37.299999999999997,{"$f":"SUM(O365+O366)","v":1.01},{"$f":"IF(M370=0,Q364, IF(M370=-$Q$3,Q364,IF(Q364+Q366>O364,0,IF(Q364<O365,IF(Q366>0,Q364+Q368+Q366,Q364-O367),0))))","v":0},{"$f":"IF(M370=-$Q$3,0,IF(Q364+Q366>O364,O364,IF(Q364>=O365,IF(Q368<=-O366,Q364+Q368,Q364+Q366),0)))","v":0},null,null,null,null,null,null,null,null,""]
[null,"2023-11-19",null,null,null,null,"00:00:00",0,{"$f":"IF(H370>0,H370-Interface!$G$15+I369,0+I369)","v":0},"+",0,null,{"$f":"IF(H370>0,H370-Interface!$G$15+M369,$M$2-Interface!$G$15+M369)","v":-37.5},-37.299999999999997,null,{"$f":"IF(M370=0,Q364,IF((P369+Q369)<=0,0,P369+Q369))","v":0},{"$f":"IF(M370=-$Q$3,0,IF(M370<-O366,IF(Q364>-O368,IF(Q364<O365,IF(Q367<-O368,Q368,IF(Q364=0,Q367,IF(Q364=O367,Q364+Q367,Q367-Q368))),IF(Q367<=-O365,Q367-Q368,IF((Q364-Q368)>0,0,41))),0),0))","v":0},null,null,null,null,null,null,null,null,""]
[null,null,"Ajustement Compteur",null,0,{"$f":"F363+1","v":46},{"$f":"G364+G365+G366+G367+G368+G369+G370","v":0},{"$f":"SUM(H364:H370)","v":0},{"$f":"I370","v":0},"+",0,null,-37.5,-37.299999999999997,{"$f":"((P371-INT(P371))*5/3)+INT(P371)","v":0},{"$f":"((P370-INT(P370))*3/5)+INT(P370)+E371","v":0},{"$f":"((Q370-ROUNDDOWN(Q370,0))/5*3)+ROUNDDOWN(Q370,0)","v":0},null,{"$f":"SUM(S364:S370)","v":0},0,0,0,null,{"$f":"SUM(X364:X370)","v":0},{"$f":"SUM(Y364:Y370)+IF(Interface!$P$11=O365,IF(Q364<O364,IF(Q364+Q365>(O364-O366),Q364+Q365-O364,0),Q365))","v":0}]
[null,{"$f":"B370+1","v":"2023-11-20"},null,null,null,null,{"$f":"D372-C372+F372-E372","v":"00:00:00"},{"$f":"(G372-INT(G372))*24","v":0},{"$f":"IF(H372>0,H372-Interface!$G$9,0)","v":0},"+",0,null,{"$f":"IF(H372>0,H372-Interface!$G$9,$M$2-Interface!$G$9)","v":-7.5},-7.3,{"$f":"Interface!$S$9","v":4},"Report",{"$f":"O371","v":0},null,null,null,null,null,null,null,null,{"$f":"IF(S372>0,1,IF(T372>0,2,IF(U372>0,3,IF(V372>0,4,IF(W372>0,W372,IF(X372>0,7,\"\"))))))","v":""}]
[null,{"$f":"B372+1","v":"2023-11-21"},null,null,null,null,"00:00:00",0,{"$f":"IF(H373>0,H373-Interface!$G$10+I372,0+I372)","v":0},"+",0,null,{"$f":"IF(H373>0,H373-Interface!$G$10+M372,$M$2-Interface!$G$10+M372)","v":-15},-15,{"$f":"Interface!$S$11","v":1},"En Plus",{"$f":"IF(M378>0,M378,0)","v":0},null,null,null,null,null,null,null,null,{"$f":"IF(S373>0,1,IF(T373>0,2,IF(U373>0,3,IF(V373>0,4,IF(W373>0,W373,IF(X373>0,7,\"\"))))))","v":""}]
[null,"2023-11-22",null,null,null,null,"00:00:00",0,{"$f":"IF(H374>0,H374-Interface!$G$11+I373,0+I373)","v":0},"+",0,null,{"$f":"IF(H374>0,H374-Interface!$G$11+M373,$M$2-Interface!$G$11+M373)","v":-22.5},-22.3,0.01,"Retenue +",{"$f":"IF(Q373 > O377,O373,Q373)","v":0},null,null,null,null,null,null,null,null,""]
[null,"2023-11-23",null,null,null,null,"00:00:00",0,{"$f":"IF(H375>0,H375-Interface!$G$12+I374,0+I374)","v":0},"+",0,null,{"$f":"IF(H375>0,H375-Interface!$G$12+M374,$M$2-Interface!$G$12+M374)","v":-30},-30,{"$f":"IF(Q375<0,-Q375,Q375)","v":0},"En Moins",{"$f":"IF(M378<-($Q$3-O374),0,IF(M378<0,M378,0))","v":0},null,null,null,null,null,null,null,null,""]
[null,"2023-11-24",null,null,null,null,"00:00:00",0,{"$f":"IF(H376>0,H376-Interface!$G$13+I375,0+I375)","v":0},"+",0,null,{"$f":"IF(H376>0,H376-Interface!$G$13+M375,$M$2-Interface!$G$13+M375)","v":-37.5},-37.299999999999997,{"$f":"SUM(O373-O374)","v":0.99},"Retenue -",{"$f":"IF(Q375=-Q371,0,IF(Q375>=0,0,IF(Q375>-O376,IF(Q372<O373,IF(Q375>-O376,IF(Q372=O375,Q375,IF(O375>Q372,IF((Q372-O373)<Q375,IF(O375>Q372,-Q372,Q372+Q375),-Q372),Q375)),Q375),Q375),IF(Q372<O373,IF(Q375>=-O376,44,Q372+Q375),-O373))))","v":0},null,null,null,null,null,null,null,null,""]
[null,"2023-11-25",null,null,null,null,"00:00:00",0,{"$f":"IF(H377>0,H377-Interface!$G$14+I376,0+I376)","v":0},"+",0,null,{"$f":"IF(H377>0,H377-Interface!$G$14+M376,$M$2-Interface!$G$14+M376)","v":-37.5},-37.299999999999997,{"$f":"SUM(O373+O374)","v":1.01},{"$f":"IF(M378=0,Q372, IF(M378=-$Q$3,Q372,IF(Q372+Q374>O372,0,IF(Q372<O373,IF(Q374>0,Q372+Q376+Q374,Q372-O375),0))))","v":0},{"$f":"IF(M378=-$Q$3,0,IF(Q372+Q374>O372,O372,IF(Q372>=O373,IF(Q376<=-O374,Q372+Q376,Q372+Q374),0)))","v":0},null,null,null,null,null,null,null,null,""]
[null,"2023-11-26",null,null,null,null,"00:00:00",0,{"$f":"IF(H378>0,H378-Interface!$G$15+I377,0+I377)","v":0},"+",0,null,{"$f":"IF(H378>0,H378-Interface!$G$15+M377,$M$2-Interface!$G$15+M377)","v":-37.5},-37.299999999999997,null,{"$f":"IF(M378=0,Q372,IF((P377+Q377)<=0,0,P377+Q377))","v":0},{"$f":"IF(M378=-$Q$3,0,IF(M378<-O374,IF(Q372>-O376,IF(Q372<O373,IF(Q375<-O376,Q376,IF(Q372=0,Q375,IF(Q372=O375,Q372+Q375,Q375-Q376))),IF(Q375<=-O373,Q375-Q376,IF((Q372-Q376)>0,0,41))),0),0))","v":0},null,null,null,null,null,null,null,null,""]
[null,null,"Ajustement Compteur",null,0,{"$f":"F371+1","v":47},{"$f":"G372+G373+G374+G375+G376+G377+G378","v":0},{"$f":"SUM(H372:H378)","v":0},{"$f":"I378","v":0},"+",0,null,-37.5,-37.299999999999997,{"$f":"((P379-INT(P379))*5/3)+INT(P379)","v":0},{"$f":"((P378-INT(P378))*3/5)+INT(P378)+E379","v":0},{"$f":"((Q378-ROUNDDOWN(Q378,0))/5*3)+ROUNDDOWN(Q378,0)","v":0},null,{"$f":"SUM(S372:S378)","v":0},0,0,0,null,{"$f":"SUM(X372:X378)","v":0},{"$f":"SUM(Y372:Y378)+IF(Interface!$P$11=O373,IF(Q372<O372,IF(Q372+Q373>(O372-O374),Q372+Q373-O372,0),Q373))","v":0}]
[null,{"$f":"B378+1","v":"2023-11-27"},null,null,null,null,{"$f":"D380-C380+F380-E380","v":"00:00:00"},{"$f":"(G380-INT(G380))*24","v":0},{"$f":"IF(H380>0,H380-Interface!$G$9,0)","v":0},"+",0,null,{"$f":"IF(H380>0,H380-Interface!$G$9,$M$2-Interface!$G$9)","v":-7.5},-7.3,{"$f":"Interface!$S$9","v":4},"Report",{"$f":"O379","v":0},null,null,null,null,null,null,null,null,{"$f":"IF(S380>0,1,IF(T380>0,2,IF(U380>0,3,IF(V380>0,4,IF(W380>0,W380,IF(X380>0,7,\"\"))))))","v":""}]
[null,{"$f":"B380+1","v":"2023-11-28"},null,null,null,null,"00:00:00",0,{"$f":"IF(H381>0,H381-Interface!$G$10+I380,0+I380)","v":0},"+",0,null,{"$f":"IF(H381>0,H381-Interface!$G$10+M380,$M$2-Interface!$G$10+M380)","v":-15},-15,{"$f":"Interface!$S$11","v":1},"En Plus",{"$f":"IF(M386>0,M386,0)","v":0},null,null,null,null,null,null,null,null,{"$f":"IF(S381>0,1,IF(T381>0,2,IF(U381>0,3,IF(V381>0,4,IF(W381>0,W381,IF(X381>0,7,\"\"))))))","v":""}]
[null,"2023-11-29",null,null,null,null,"00:00:00",0,{"$f":"IF(H382>0,H382-Interface!$G$11+I381,0+I381)","v":0},"+",0,null,{"$f":"IF(H382>0,H382-Interface!$G$11+M381,$M$2-Interface!$G$11+M381)","v":-22.5},-22.3,0.01,"Retenue +",{"$f":"IF(Q381 > O385,O381,Q381)","v":0},null,null,null,null,null,null,null,null,""]
[null,"2023-11-30",null,null,null,null,"00:00:00",0,{"$f":"IF(H383>0,H383-Interface!$G$12+I382,0+I382)","v":0},"+",0,null,{"$f":"IF(H383>0,H383-Interface!$G$12+M382,$M$2-Interface!$G$12+M382)","v":-30},-30,{"$f":"IF(Q383<0,-Q383,Q383)","v":0},"En Moins",{"$f":"IF(M386<-($Q$3-O382),0,IF(M386<0,M386,0))","v":0},null,null,null,null,null,null,null,null,""]
[null,"2023-12-01",null,null,null,null,"00:00:00",0,{"$f":"IF(H384>0,H384-Interface!$G$13+I383,0+I383)","v":0},"+",0,null,{"$f":"IF(H384>0,H384-Interface!$G$13+M383,$M$2-Interface!$G$13+M383)","v":-37.5},-37.299999999999997,{"$f":"SUM(O381-O382)","v":0.99},"Retenue -",{"$f":"IF(Q383=-Q379,0,IF(Q383>=0,0,IF(Q383>-O384,IF(Q380<O381,IF(Q383>-O384,IF(Q380=O383,Q383,IF(O383>Q380,IF((Q380-O381)<Q383,IF(O383>Q380,-Q380,Q380+Q383),-Q380),Q383)),Q383),Q383),IF(Q380<O381,IF(Q383>=-O384,44,Q380+Q383),-O381))))","v":0},null,null,null,null,null,null,null,null,""]
[null,"2023-12-02",null,null,null,null,"00:00:00",0,{"$f":"IF(H385>0,H385-Interface!$G$14+I384,0+I384)","v":0},"+",0,null,{"$f":"IF(H385>0,H385-Interface!$G$14+M384,$M$2-Interface!$G$14+M384)","v":-37.5},-37.299999999999997,{"$f":"SUM(O381+O382)","v":1.01},{"$f":"IF(M386=0,Q380, IF(M386=-$Q$3,Q380,IF(Q380+Q382>O380,0,IF(Q380<O381,IF(Q382>0,Q380+Q384+Q382,Q380-O383),0))))","v":0},{"$f":"IF(M386=-$Q$3,0,IF(Q380+Q382>O380,O380,IF(Q380>=O381,IF(Q384<=-O382,Q380+Q384,Q380+Q382),0)))","v":0},null,null,null,null,null,null,null,null,""]
[null,"2023-12-03",null,null,null,null,"00:00:00",0,{"$f":"IF(H386>0,H386-Interface!$G$15+I385,0+I385)","v":0},"+",0,null,{"$f":"IF(H386>0,H386-Interface!$G$15+M385,$M$2-Interface!$G$15+M385)","v":-37.5},-37.299999999999997,null,{"$f":"IF(M386=0,Q380,IF((P385+Q385)<=0,0,P385+Q385))","v":0},{"$f":"IF(M386=-$Q$3,0,IF(M386<-O382,IF(Q380>-O384,IF(Q380<O381,IF(Q383<-O384,Q384,IF(Q380=0,Q383,IF(Q380=O383,Q380+Q383,Q383-Q384))),IF(Q383<=-O381,Q383-Q384,IF((Q380-Q384)>0,0,41))),0),0))","v":0},null,null,null,null,null,null,null,null,""]
[null,"Novembre","Ajustement Compteur",null,0,{"$f":"F379+1","v":48},{"$f":"G380+G381+G382+G383+G384+G385+G386","v":0},{"$f":"SUM(H380:H386)","v":0},{"$f":"I386","v":0},"+",0,null,-37.5,-37.299999999999997,{"$f":"((P387-INT(P387))*5/3)+INT(P387)","v":0},{"$f":"((P386-INT(P386))*3/5)+INT(P386)+E387","v":0},{"$f":"((Q386-ROUNDDOWN(Q386,0))/5*3)+ROUNDDOWN(Q386,0)","v":0},null,{"$f":"SUM(S380:S386)+S363+S371+S379","v":0},{"$f":"SUM(T380:T386)+T363+T371+T379","v":0},0,0,null,{"$f":"SUM(X380:X386)+X363+X371+X379","v":0},{"$f":"(SUM(Y380:Y386)+Y379+Y371+Y363)+IF(Interface!$Q$12=1,IF(Q380<O372,IF(Q380+Q381>(O372-O374),Q380+Q381-O380,0),Q381))","v":0}]
[null,{"$f":"B386+1","v":"2023-12-04"},null,null,null,null,{"$f":"D388-C388+F388-E388","v":"00:00:00"},{"$f":"(G388-INT(G388))*24","v":0},{"$f":"IF(H388>0,H388-Interface!$G$9,0)","v":0},"+",0,null,{"$f":"IF(H388>0,H388-Interface!$G$9,$M$2-Interface!$G$9)","v":-7.5},{"$f":"((M388-ROUNDDOWN(M388,0))/5*3)+ROUNDDOWN(M388,0)","v":-7.3},{"$f":"Interface!$S$9","v":4},"Report",{"$f":"O387","v":0},null,null,null,null,null,null,null,null,{"$f":"IF(S388>0,1,IF(T388>0,2,IF(U388>0,3,IF(V388>0,4,IF(W388>0,W388,IF(X388>0,7,\"\"))))))","v":""}]
[null,{"$f":"B388+1","v":"2023-12-05"},null,null,null,null,"00:00:00",0,{"$f":"IF(H389>0,H389-Interface!$G$10+I388,0+I388)","v":0},"+",0,null,{"$f":"IF(H389>0,H389-Interface!$G$10+M388,$M$2-Interface!$G$10+M388)","v":-15},-15,{"$f":"Interface!$S$11","v":1},"En Plus",{"$f":"IF(M394>0,M394,0)","v":0},null,null,null,null,null,null,null,null,{"$f":"IF(S389>0,1,IF(T389>0,2,IF(U389>0,3,IF(V389>0,4,IF(W389>0,W389,IF(X389>0,7,\"\"))))))","v":""}]
[null,"2023-12-06",null,null,null,null,"00:00:00",0,{"$f":"IF(H390>0,H390-Interface!$G$11+I389,0+I389)","v":0},"+",0,null,{"$f":"IF(H390>0,H390-Interface!$G$11+M389,$M$2-Interface!$G$11+M389)","v":-22.5},-22.3,0.01,"Retenue +",{"$f":"IF(Q389 > O393,O389,Q389)","v":0},null,null,null,null,null,null,null,null,""]
[null,"2023-12-07",null,null,null,null,"00:00:00",0,{"$f":"IF(H391>0,H391-Interface!$G$12+I390,0+I390)","v":0},"+",0,null,{"$f":"IF(H391>0,H391-Interface!$G$12+M390,$M$2-Interface!$G$12+M390)","v":-30},-30,{"$f":"IF(Q391<0,-Q391,Q391)","v":0},"En Moins",{"$f":"IF(M394<-($Q$3-O390),0,IF(M394<0,M394,0))","v":0},null,null,null,null,null,null,null,null,""]
[null,"2023-12-08",null,null,null,null,"00:00:00",0,{"$f":"IF(H392>0,H392-Interface!$G$13+I391,0+I391)","v":0},"+",0,null,{"$f":"IF(H392>0,H392-Interface!$G$13+M391,$M$2-Interface!$G$13+M391)","v":-37.5},-37.299999999999997,{"$f":"SUM(O389-O390)","v":0.99},"Retenue -",{"$f":"IF(Q391=-Q387,0,IF(Q391>=0,0,IF(Q391>-O392,IF(Q388<O389,IF(Q391>-O392,IF(Q388=O391,Q391,IF(O391>Q388,IF((Q388-O389)<Q391,IF(O391>Q388,-Q388,Q388+Q391),-Q388),Q391)),Q391),Q391),IF(Q388<O389,IF(Q391>=-O392,44,Q388+Q391),-O389))))","v":0},null,null,null,null,null,null,null,null,""]
[null,"2023-12-09",null,null,null,null,"00:00:00",0,{"$f":"IF(H393>0,H393-Interface!$G$14+I392,0+I392)","v":0},"+",0,null,{"$f":"IF(H393>0,H393-Interface!$G$14+M392,$M$2-Interface!$G$14+M392)","v":-37.5},-37.299999999999997,{"$f":"SUM(O389+O390)","v":1.01},{"$f":"IF(M394=0,Q388, IF(M394=-$Q$3,Q388,IF(Q388+Q390>O388,0,IF(Q388<O389,IF(Q390>0,Q388+Q392+Q390,Q388-O391),0))))","v":0},{"$f":"IF(M394=-$Q$3,0,IF(Q388+Q390>O388,O388,IF(Q388>=O389,IF(Q392<=-O390,Q388+Q392,Q388+Q390),0)))","v":0},null,null,null,null,null,null,null,null,""]
[null,"2023-12-10",null,null,null,null,"00:00:00",0,{"$f":"IF(H394>0,H394-Interface!$G$15+I393,0+I393)","v":0},"+",0,null,{"$f":"IF(H394>0,H394-Interface!$G$15+M393,$M$2-Interface!$G$15+M393)","v":-37.5},-37.299999999999997,null,{"$f":"IF(M394=0,Q388,IF((P393+Q393)<=0,0,P393+Q393))","v":0},{"$f":"IF(M394=-$Q$3,0,IF(M394<-O390,IF(Q388>-O392,IF(Q388<O389,IF(Q391<-O392,Q392,IF(Q388=0,Q391,IF(Q388=O391,Q388+Q391,Q391-Q392))),IF(Q391<=-O389,Q391-Q392,IF((Q388-Q392)>0,0,41))),0),0))","v":0},null,null,null,null,null,null,null,null,""]
[null,null,"Ajustement Compteur",null,0,{"$f":"F387+1","v":49},{"$f":"G388+G389+G390+G391+G392+G393+G394","v":0},{"$f":"SUM(H388:H394)","v":0},{"$f":"I394","v":0},"+",0,null,-37.5,-37.299999999999997,{"$f":"((P395-INT(P395))*5/3)+INT(P395)","v":0},{"$f":"((P394-INT(P394))*3/5)+INT(P394)+E395","v":0},{"$f":"((Q394-ROUNDDOWN(Q394,0))/5*3)+ROUNDDOWN(Q394,0)","v":0},null,{"$f":"SUM(S388:S394)","v":0},0,0,0,null,{"$f":"SUM(X388:X394)","v":0},{"$f":"SUM(Y388:Y394)+IF(Interface!$P$11=O389,IF(Q388<O388,IF(Q388+Q389>(O388-O390),Q388+Q389-O388,0),Q389))","v":0}]
[null,{"$f":"B394+1","v":"2023-12-11"},null,null,null,null,{"$f":"D396-C396+F396-E396","v":"00:00:00"},{"$f":"(G396-INT(G396))*24","v":0},{"$f":"IF(H396>0,H396-Interface!$G$9,0)","v":0},{"$f":"IF(I396>=0,\"+\",\"-\")","v":"+"},{"$f":"TIME(TRUNC(ABS(I396)),ROUND((ABS(I396)-TRUNC(ABS(I396)))*60,),0)","v":0},null,{"$f":"IF(H396>0,H396-Interface!$G$9,$M$2-Interface!$G$9)","v":-7.5},-7.3,{"$f":"Interface!$S$9","v":4},"Report",{"$f":"O395","v":0},null,null,null,null,null,null,null,null,{"$f":"IF(S396>0,1,IF(T396>0,2,IF(U396>0,3,IF(V396>0,4,IF(W396>0,W396,IF(X396>0,7,\"\"))))))","v":""}]
[null,{"$f":"B396+1","v":"2023-12-12"},null,null,null,null,"00:00:00",0,{"$f":"IF(H397>0,H397-Interface!$G$10+I396,0+I396)","v":0},"+",0,null,{"$f":"IF(H397>0,H397-Interface!$G$10+M396,$M$2-Interface!$G$10+M396)","v":-15},-15,{"$f":"Interface!$S$11","v":1},"En Plus",{"$f":"IF(M402>0,M402,0)","v":0},null,null,null,null,null,null,null,null,{"$f":"IF(S397>0,1,IF(T397>0,2,IF(U397>0,3,IF(V397>0,4,IF(W397>0,W397,IF(X397>0,7,\"\"))))))","v":""}]
[null,"2023-12-13",null,null,null,null,"00:00:00",0,{"$f":"IF(H398>0,H398-Interface!$G$11+I397,0+I397)","v":0},"+",0,null,{"$f":"IF(H398>0,H398-Interface!$G$11+M397,$M$2-Interface!$G$11+M397)","v":-22.5},-22.3,0.01,"Retenue +",{"$f":"IF(Q397 > O401,O397,Q397)","v":0},null,null,null,null,null,null,null,null,""]
[null,"2023-12-14",null,null,null,null,"00:00:00",0,{"$f":"IF(H399>0,H399-Interface!$G$12+I398,0+I398)","v":0},"+",0,null,{"$f":"IF(H399>0,H399-Interface!$G$12+M398,$M$2-Interface!$G$12+M398)","v":-30},-30,{"$f":"IF(Q399<0,-Q399,Q399)","v":0},"En Moins",{"$f":"IF(M402<-($Q$3-O398),0,IF(M402<0,M402,0))","v":0},null,null,null,null,null,null,null,null,""]
[null,"2023-12-15",null,null,null,null,"00:00:00",0,{"$f":"IF(H400>0,H400-Interface!$G$13+I399,0+I399)","v":0},"+",0,null,{"$f":"IF(H400>0,H400-Interface!$G$13+M399,$M$2-Interface!$G$13+M399)","v":-37.5},-37.299999999999997,{"$f":"SUM(O397-O398)","v":0.99},"Retenue -",{"$f":"IF(Q399=-Q395,0,IF(Q399>=0,0,IF(Q399>-O400,IF(Q396<O397,IF(Q399>-O400,IF(Q396=O399,Q399,IF(O399>Q396,IF((Q396-O397)<Q399,IF(O399>Q396,-Q396,Q396+Q399),-Q396),Q399)),Q399),Q399),IF(Q396<O397,IF(Q399>=-O400,44,Q396+Q399),-O397))))","v":0},null,null,null,null,null,null,null,null,""]
[null,"2023-12-16",null,null,null,null,"00:00:00",0,{"$f":"IF(H401>0,H401-Interface!$G$14+I400,0+I400)","v":0},"+",0,null,{"$f":"IF(H401>0,H401-Interface!$G$14+M400,$M$2-Interface!$G$14+M400)","v":-37.5},-37.299999999999997,{"$f":"SUM(O397+O398)","v":1.01},{"$f":"IF(M402=0,Q396, IF(M402=-$Q$3,Q396,IF(Q396+Q398>O396,0,IF(Q396<O397,IF(Q398>0,Q396+Q400+Q398,Q396-O399),0))))","v":0},{"$f":"IF(M402=-$Q$3,0,IF(Q396+Q398>O396,O396,IF(Q396>=O397,IF(Q400<=-O398,Q396+Q400,Q396+Q398),0)))","v":0},null,null,null,null,null,null,null,null,""]
[null,"2023-12-17",null,null,null,null,"00:00:00",0,{"$f":"IF(H402>0,H402-Interface!$G$15+I401,0+I401)","v":0},"+",0,null,{"$f":"IF(H402>0,H402-Interface!$G$15+M401,$M$2-Interface!$G$15+M401)","v":-37.5},-37.299999999999997,null,{"$f":"IF(M402=0,Q396,IF((P401+Q401)<=0,0,P401+Q401))","v":0},{"$f":"IF(M402=-$Q$3,0,IF(M402<-O398,IF(Q396>-O400,IF(Q396<O397,IF(Q399<-O400,Q400,IF(Q396=0,Q399,IF(Q396=O399,Q396+Q399,Q399-Q400))),IF(Q399<=-O397,Q399-Q400,IF((Q396-Q400)>0,0,41))),0),0))","v":0},null,null,null,null,null,null,null,null,""]
[null,null,"Ajustement Compteur",null,0,{"$f":"F395+1","v":50},{"$f":"G396+G397+G398+G399+G400+G401+G402","v":0},{"$f":"SUM(H396:H402)","v":0},{"$f":"I402","v":0},"+",0,null,-37.5,-37.299999999999997,{"$f":"((P403-INT(P403))*5/3)+INT(P403)","v":0},{"$f":"((P402-INT(P402))*3/5)+INT(P402)+E403","v":0},{"$f":"((Q402-ROUNDDOWN(Q402,0))/5*3)+ROUNDDOWN(Q402,0)","v":0},null,{"$f":"SUM(S396:S402)","v":0},0,0,0,null,{"$f":"SUM(X396:X402)","v":0},{"$f":"SUM(Y396:Y402)+IF(Interface!$P$11=O397,IF(Q396<O396,IF(Q396+Q397>(O396-O398),Q396+Q397-O396,0),Q397))","v":0}]
[null,{"$f":"B402+1","v":"2023-12-18"},null,null,null,null,{"$f":"D404-C404+F404-E404","v":"00:00:00"},{"$f":"(G404-INT(G404))*24","v":0},{"$f":"IF(H404>0,H404-Interface!$G$9,0)","v":0},"+",0,null,{"$f":"IF(H404>0,H404-Interface!$G$9,$M$2-Interface!$G$9)","v":-7.5},-7.3,{"$f":"Interface!$S$9","v":4},"Report",{"$f":"O403","v":0},null,null,null,null,null,null,null,null,{"$f":"IF(S404>0,1,IF(T404>0,2,IF(U404>0,3,IF(V404>0,4,IF(W404>0,W404,IF(X404>0,7,\"\"))))))","v":""}]
[null,{"$f":"B404+1","v":"2023-12-19"},null,null,null,null,"00:00:00",0,{"$f":"IF(H405>0,H405-Interface!$G$10+I404,0+I404)","v":0},"+",0,null,{"$f":"IF(H405>0,H405-Interface!$G$10+M404,$M$2-Interface!$G$10+M404)","v":-15},-15,{"$f":"Interface!$S$11","v":1},"En Plus",{"$f":"IF(M410>0,M410,0)","v":0},null,null,null,null,null,null,null,null,{"$f":"IF(S405>0,1,IF(T405>0,2,IF(U405>0,3,IF(V405>0,4,IF(W405>0,W405,IF(X405>0,7,\"\"))))))","v":""}]
[null,"2023-12-20",null,null,null,null,"00:00:00",0,{"$f":"IF(H406>0,H406-Interface!$G$11+I405,0+I405)","v":0},"+",0,null,{"$f":"IF(H406>0,H406-Interface!$G$11+M405,$M$2-Interface!$G$11+M405)","v":-22.5},-22.3,0.01,"Retenue +",{"$f":"IF(Q405 > O409,O405,Q405)","v":0},null,null,null,null,null,null,null,null,""]
[null,"2023-12-21",null,null,null,null,"00:00:00",0,{"$f":"IF(H407>0,H407-Interface!$G$12+I406,0+I406)","v":0},"+",0,null,{"$f":"IF(H407>0,H407-Interface!$G$12+M406,$M$2-Interface!$G$12+M406)","v":-30},-30,{"$f":"IF(Q407<0,-Q407,Q407)","v":0},"En Moins",{"$f":"IF(M410<-($Q$3-O406),0,IF(M410<0,M410,0))","v":0},null,null,null,null,null,null,null,null,""]
[null,"2023-12-22",null,null,null,null,"00:00:00",0,{"$f":"IF(H408>0,H408-Interface!$G$13+I407,0+I407)","v":0},"+",0,null,{"$f":"IF(H408>0,H408-Interface!$G$13+M407,$M$2-Interface!$G$13+M407)","v":-37.5},-37.299999999999997,{"$f":"SUM(O405-O406)","v":0.99},"Retenue -",{"$f":"IF(Q407=-Q403,0,IF(Q407>=0,0,IF(Q407>-O408,IF(Q404<O405,IF(Q407>-O408,IF(Q404=O407,Q407,IF(O407>Q404,IF((Q404-O405)<Q407,IF(O407>Q404,-Q404,Q404+Q407),-Q404),Q407)),Q407),Q407),IF(Q404<O405,IF(Q407>=-O408,44,Q404+Q407),-O405))))","v":0},null,null,null,null,null,null,null,null,""]
[null,"2023-12-23",null,null,null,null,"00:00:00",0,{"$f":"IF(H409>0,H409-Interface!$G$14+I408,0+I408)","v":0},"+",0,null,{"$f":"IF(H409>0,H409-Interface!$G$14+M408,$M$2-Interface!$G$14+M408)","v":-37.5},-37.299999999999997,{"$f":"SUM(O405+O406)","v":1.01},{"$f":"IF(M410=0,Q404, IF(M410=-$Q$3,Q404,IF(Q404+Q406>O404,0,IF(Q404<O405,IF(Q406>0,Q404+Q408+Q406,Q404-O407),0))))","v":0},{"$f":"IF(M410=-$Q$3,0,IF(Q404+Q406>O404,O404,IF(Q404>=O405,IF(Q408<=-O406,Q404+Q408,Q404+Q406),0)))","v":0},null,null,null,null,null,null,null,null,""]
[null,"2023-12-24",null,null,null,null,"00:00:00",0,{"$f":"IF(H410>0,H410-Interface!$G$15+I409,0+I409)","v":0},"+",0,null,{"$f":"IF(H410>0,H410-Interface!$G$15+M409,$M$2-Interface!$G$15+M409)","v":-37.5},-37.299999999999997,null,{"$f":"IF(M410=0,Q404,IF((P409+Q409)<=0,0,P409+Q409))","v":0},{"$f":"IF(M410=-$Q$3,0,IF(M410<-O406,IF(Q404>-O408,IF(Q404<O405,IF(Q407<-O408,Q408,IF(Q404=0,Q407,IF(Q404=O407,Q404+Q407,Q407-Q408))),IF(Q407<=-O405,Q407-Q408,IF((Q404-Q408)>0,0,41))),0),0))","v":0},null,null,null,null,null,null,null,null,""]
[null,null,"Ajustement Compteur",null,0,{"$f":"F403+1","v":51},{"$f":"G404+G405+G406+G407+G408+G409+G410","v":0},{"$f":"SUM(H404:H410)","v":0},{"$f":"I410","v":0},"+",0,null,{"$f":"M410","v":-37.5},-37.299999999999997,{"$f":"((P411-INT(P411))*5/3)+INT(P411)","v":0},{"$f":"((P410-INT(P410))*3/5)+INT(P410)+E411","v":0},{"$f":"((Q410-ROUNDDOWN(Q410,0))/5*3)+ROUNDDOWN(Q410,0)","v":0},null,{"$f":"SUM(S404:S410)","v":0},0,0,0,null,{"$f":"SUM(X404:X410)","v":0},{"$f":"SUM(Y404:Y410)+IF(Interface!$P$11=O405,IF(Q404<O404,IF(Q404+Q405>(O404-O406),Q404+Q405-O404,0),Q405))","v":0}]
[null,{"$f":"B410+1","v":"2023-12-25"},null,null,null,null,{"$f":"D412-C412+F412-E412","v":"00:00:00"},{"$f":"(G412-INT(G412))*24","v":0},{"$f":"IF(H412>0,H412-Interface!$G$9,0)","v":0},"+",0,null,{"$f":"IF(H412>0,H412-Interface!$G$9,$M$2-Interface!$G$9)","v":-7.5},-7.3,{"$f":"Interface!$S$9","v":4},"Report",{"$f":"O411","v":0},null,null,null,null,null,null,null,null,{"$f":"IF(S412>0,1,IF(T412>0,2,IF(U412>0,3,IF(V412>0,4,IF(W412>0,W412,IF(X412>0,7,\"\"))))))","v":""}]
[null,{"$f":"B412+1","v":"2023-12-26"},null,null,null,null,"00:00:00",0,{"$f":"IF(H413>0,H413-Interface!$G$10+I412,0+I412)","v":0},"+",0,null,{"$f":"IF(H413>0,H413-Interface!$G$10+M412,$M$2-Interface!$G$10+M412)","v":-15},-15,{"$f":"Interface!$S$11","v":1},"En Plus",{"$f":"IF(M418>0,M418,0)","v":0},null,null,null,null,null,null,null,null,{"$f":"IF(S413>0,1,IF(T413>0,2,IF(U413>0,3,IF(V413>0,4,IF(W413>0,W413,IF(X413>0,7,\"\"))))))","v":""}]
[null,"2023-12-27",null,null,null,null,"00:00:00",0,{"$f":"IF(H414>0,H414-Interface!$G$11+I413,0+I413)","v":0},"+",0,null,{"$f":"IF(H414>0,H414-Interface!$G$11+M413,$M$2-Interface!$G$11+M413)","v":-22.5},-22.3,0.01,"Retenue +",{"$f":"IF(Q413 > O417,O413,Q413)","v":0},null,null,null,null,null,null,null,null,""]
[null,"2023-12-28",null,null,null,null,"00:00:00",0,{"$f":"IF(H415>0,H415-Interface!$G$12+I414,0+I414)","v":0},"+",0,null,{"$f":"IF(H415>0,H415-Interface!$G$12+M414,$M$2-Interface!$G$12+M414)","v":-30},-30,{"$f":"IF(Q415<0,-Q415,Q415)","v":0},"En Moins",{"$f":"IF(M418<-($Q$3-O414),0,IF(M418<0,M418,0))","v":0},null,null,null,null,null,null,null,null,""]
[null,"2023-12-29",null,null,null,null,"00:00:00",0,{"$f":"IF(H416>0,H416-Interface!$G$13+I415,0+I415)","v":0},"+",0,null,{"$f":"IF(H416>0,H416-Interface!$G$13+M415,$M$2-Interface!$G$13+M415)","v":-37.5},-37.299999999999997,{"$f":"SUM(O413-O414)","v":0.99},"Retenue -",{"$f":"IF(Q415=-Q411,0,IF(Q415>=0,0,IF(Q415>-O416,IF(Q412<O413,IF(Q415>-O416,IF(Q412=O415,Q415,IF(O415>Q412,IF((Q412-O413)<Q415,IF(O415>Q412,-Q412,Q412+Q415),-Q412),Q415)),Q415),Q415),IF(Q412<O413,IF(Q415>=-O416,44,Q412+Q415),-O413))))","v":0},null,null,null,null,null,null,null,null,""]
[null,"2023-12-30",null,null,null,null,"00:00:00",0,{"$f":"IF(H417>0,H417-Interface!$G$14+I416,0+I416)","v":0},"+",0,null,{"$f":"IF(H417>0,H417-Interface!$G$14+M416,$M$2-Interface!$G$14+M416)","v":-37.5},-37.299999999999997,{"$f":"SUM(O413+O414)","v":1.01},{"$f":"IF(M418=0,Q412, IF(M418=-$Q$3,Q412,IF(Q412+Q414>O412,0,IF(Q412<O413,IF(Q414>0,Q412+Q416+Q414,Q412-O415),0))))","v":0},{"$f":"IF(M418=-$Q$3,0,IF(Q412+Q414>O412,O412,IF(Q412>=O413,IF(Q416<=-O414,Q412+Q416,Q412+Q414),0)))","v":0},null,null,null,null,null,null,null,null,""]
[null,"2023-12-31",null,null,null,null,"00:00:00",0,{"$f":"IF(H418>0,H418-Interface!$G$15+I417,0+I417)","v":0},"+",0,null,{"$f":"IF(H418>0,H418-Interface!$G$15+M417,$M$2-Interface!$G$15+M417)","v":-37.5},-37.299999999999997,null,{"$f":"IF(M418=0,Q412,IF((P417+Q417)<=0,0,P417+Q417))","v":0},{"$f":"IF(M418=-$Q$3,0,IF(M418<-O414,IF(Q412>-O416,IF(Q412<O413,IF(Q415<-O416,Q416,IF(Q412=0,Q415,IF(Q412=O415,Q412+Q415,Q415-Q416))),IF(Q415<=-O413,Q415-Q416,IF((Q412-Q416)>0,0,41))),0),0))","v":0},null,null,null,null,null,null,null,null,""]
[null,null,"Ajustement Compteur",null,0,{"$f":"F411+1","v":52},{"$f":"G412+G413+G414+G415+G416+G417+G418","v":0},{"$f":"SUM(H412:H418)","v":0},{"$f":"I418","v":0},"+",0,null,-37.5,-37.299999999999997,{"$f":"((P419-INT(P419))*5/3)+INT(P419)","v":0},{"$f":"((P418-INT(P418))*3/5)+INT(P418)+E419","v":0},{"$f":"((Q418-ROUNDDOWN(Q418,0))/5*3)+ROUNDDOWN(Q418,0)","v":0},null,{"$f":"SUM(S412:S418)","v":0},0,0,0,null,{"$f":"SUM(X412:X418)","v":0},{"$f":"SUM(Y412:Y418)+IF(Interface!$P$11=O413,IF(Q412<O412,IF(Q412+Q413>(O412-O414),Q412+Q413-O412,0),Q413))","v":0}]
[null,{"$f":"B418+1","v":"2024-01-01"},null,null,null,null,{"$f":"D420-C420+F420-E420","v":"00:00:00"},{"$f":"(G420-INT(G420))*24","v":0},{"$f":"IF(H420>0,H420-Interface!$G$9,0)","v":0},"+",0,null,{"$f":"IF(H420>0,H420-Interface!$G$9,$M$2-Interface!$G$9)","v":-7.5},-7.3,{"$f":"Interface!$S$9","v":4},"Report",{"$f":"O419","v":0},null,null,null,null,null,null,null,null,{"$f":"IF(S420>0,1,IF(T420>0,2,IF(U420>0,3,IF(V420>0,4,IF(W420>0,W420,IF(X420>0,7,\"\"))))))","v":""}]
[null,{"$f":"B420+1","v":"2024-01-02"},null,null,null,null,"00:00:00",0,{"$f":"IF(H421>0,H421-Interface!$G$10+I420,0+I420)","v":0},"+",0,null,{"$f":"IF(H421>0,H421-Interface!$G$10+M420,$M$2-Interface!$G$10+M420)","v":-15},-15,{"$f":"Interface!$S$11","v":1},"En Plus",{"$f":"IF(M426>0,M426,0)","v":0},null,null,null,null,null,null,null,null,{"$f":"IF(S421>0,1,IF(T421>0,2,IF(U421>0,3,IF(V421>0,4,IF(W421>0,W421,IF(X421>0,7,\"\"))))))","v":""}]
[null,"2024-01-03",null,null,null,null,"00:00:00",0,{"$f":"IF(H422>0,H422-Interface!$G$11+I421,0+I421)","v":0},"+",0,null,{"$f":"IF(H422>0,H422-Interface!$G$11+M421,$M$2-Interface!$G$11+M421)","v":-22.5},-22.3,0.01,"Retenue +",{"$f":"IF(Q421 > O425,O421,Q421)","v":0},null,null,null,null,null,null,null,null,""]
[null,"2024-01-04",null,null,null,null,"00:00:00",0,{"$f":"IF(H423>0,H423-Interface!$G$12+I422,0+I422)","v":0},"+",0,null,{"$f":"IF(H423>0,H423-Interface!$G$12+M422,$M$2-Interface!$G$12+M422)","v":-30},-30,{"$f":"IF(Q423<0,-Q423,Q423)","v":0},"En Moins",{"$f":"IF(M426<-($Q$3-O422),0,IF(M426<0,M426,0))","v":0},null,null,null,null,null,null,null,null,""]
[null,"2024-01-05",null,null,null,null,"00:00:00",0,{"$f":"IF(H424>0,H424-Interface!$G$13+I423,0+I423)","v":0},"+",0,null,{"$f":"IF(H424>0,H424-Interface!$G$13+M423,$M$2-Interface!$G$13+M423)","v":-37.5},-37.299999999999997,{"$f":"SUM(O421-O422)","v":0.99},"Retenue -",{"$f":"IF(Q423=-Q419,0,IF(Q423>=0,0,IF(Q423>-O424,IF(Q420<O421,IF(Q423>-O424,IF(Q420=O423,Q423,IF(O423>Q420,IF((Q420-O421)<Q423,IF(O423>Q420,-Q420,Q420+Q423),-Q420),Q423)),Q423),Q423),IF(Q420<O421,IF(Q423>=-O424,44,Q420+Q423),-O421))))","v":0},null,null,null,null,null,null,null,null,""]
[null,"2024-01-06",null,null,null,null,"00:00:00",0,{"$f":"IF(H425>0,H425-Interface!$G$14+I424,0+I424)","v":0},"+",0,null,{"$f":"IF(H425>0,H425-Interface!$G$14+M424,$M$2-Interface!$G$14+M424)","v":-37.5},-37.299999999999997,{"$f":"SUM(O421+O422)","v":1.01},{"$f":"IF(M426=0,Q420, IF(M426=-$Q$3,Q420,IF(Q420+Q422>O420,0,IF(Q420<O421,IF(Q422>0,Q420+Q424+Q422,Q420-O423),0))))","v":0},{"$f":"IF(M426=-$Q$3,0,IF(Q420+Q422>O420,O420,IF(Q420>=O421,IF(Q424<=-O422,Q420+Q424,Q420+Q422),0)))","v":0},null,null,null,null,null,null,null,null,""]
[null,"2024-01-07",null,null,null,null,"00:00:00",0,{"$f":"IF(H426>0,H426-Interface!$G$15+I425,0+I425)","v":0},"+",0,null,{"$f":"IF(H426>0,H426-Interface!$G$15+M425,$M$2-Interface!$G$15+M425)","v":-37.5},-37.299999999999997,null,{"$f":"IF(M426=0,Q420,IF((P425+Q425)<=0,0,P425+Q425))","v":0},{"$f":"IF(M426=-$Q$3,0,IF(M426<-O422,IF(Q420>-O424,IF(Q420<O421,IF(Q423<-O424,Q424,IF(Q420=0,Q423,IF(Q420=O423,Q420+Q423,Q423-Q424))),IF(Q423<=-O421,Q423-Q424,IF((Q420-Q424)>0,0,41))),0),0))","v":0},null,null,null,null,null,null,null,null,""]
[null,"Décembre","Ajustement Compteur",null,0,1,{"$f":"G420+G421+G422+G423+G424+G425+G426","v":0},{"$f":"SUM(H420:H426)","v":0},{"$f":"I426","v":0},"+",0,null,-37.5,-37.299999999999997,{"$f":"((P427-INT(P427))*5/3)+INT(P427)","v":0},{"$f":"((P426-INT(P426))*3/5)+INT(P426)+E427","v":0},{"$f":"((Q426-ROUNDDOWN(Q426,0))/5*3)+ROUNDDOWN(Q426,0)","v":0},null,{"$f":"SUM(S420:S426)+S395+S403+S411+S419","v":0},{"$f":"SUM(T420:T426)+T395+T403+T411+T419","v":0},{"$f":"SUM(U420:U426)+U395+U403+U411+U419","v":0},{"$f":"SUM(V420:V426)+V395+V403+V411+V419","v":0},null,{"$f":"SUM(X420:X426)+X395+X403+X411+X419","v":0},{"$f":"SUM(Y420:Y426)+Y395+Y403+Y411+Y419","v":0}]
[]
[null,null,null,"Pris",null,"Reste",null,null,null,"total",null,null,null,null,null,null,"Pris",null,{"$f":"SUM(S43+S75+S107+S139+S179+S211+S251+S283+S315+S355+S387+S427)","v":0},{"$f":"SUM(T43+T75+T107+T139+T179+T211+T251+T283+T315+T355+T387+T427)","v":0},{"$f":"SUM(U43+U75+U107+U139+U179+U211+U251+U283+U315+U355+U387+U427)","v":0},{"$f":"SUM(V43+V75+V107+V139+V179+V211+V251+V283+V315+V355+V387+V427)","v":0},null,{"$f":"SUM(X43+X75+X107+X139+X179+X211+X251+X283+X315+X355+X387+X427)","v":0},{"$f":"SUM(Y43+Y75+Y107+Y139+Y179+Y211+Y251+Y283+Y315+Y355+Y387+Y427)","v":0}]
[null,null,"H:mm",{"$f":"S429+T429+U429+V429","v":0},"H:mm",{"$f":"S3+T3+U3+V3","v":13.4375},"H:mm",null,null,{"$f":"D430+F430","v":13.4375},null,null,null,null,null,null,"Solde",null,{"$f":"S3*24","v":52.5},{"$f":"T3*24","v":60},{"$f":"U3*24","v":22.5},{"$f":"V3*24","v":187.5},null,{"$f":"(X429*24)","v":0},{"$f":"Y429","v":0}]
[null,null,null,{"$f":"D430*24","v":0},null,{"$f":"F430*24","v":322.5},null,null,null,{"$f":"J430*24","v":322.5},null,null,null,null,null,null,null,null,{"$f":"S430/7.5","v":7},{"$f":"T430/7.5","v":8},{"$f":"U430/7.5","v":3},{"$f":"V430/7.5","v":25},null,{"$f":"TIME(TRUNC(X430),ROUND((X430-TRUNC(X430))*60,),0)","v":0},{"$f":"Y430+((V432*24))-X430","v":0}]
[null,null,"Jour",{"$f":"D431/7.5","v":0},"Jour",{"$f":"F431/7.5","v":43},"Jour",null,null,{"$f":"F432+D432","v":43},null,null,null,null,null,null,"7 Jour * 7:30 = ",null,{"$f":"Interface!L11","v":2.1875},null,null,{"$f":"Interface!Q11","v":"00:00:00"},null,{"$f":"TIME(TRUNC(Y431),ROUND((Y431-TRUNC(Y431))*60,),0)","v":0},{"$f":"X432*24","v":0}]
[]
[]
[null,null,null,null,null,null,null,null,null,null,null,null,null,null,null,null,null,null,"Solde",null,"hh:mn","Jour"]
[null,null,null,null,null,null,null,null,null,null,null,null,null,null,null,null,null,null,null,null,{"$f":"SUM(S3:X3)","v":13.4375},{"$f":"S431+T431+U431+V431+X431","v":43}]

{"sheet":"Carton","index":2,"n_rows":14,"n_cols":30,"rows_kept":14,"cut":false,"hidden":true,"merged":[[8,29,9,29],[8,23,8,25],[9,23,10,25],[9,20,10,22],[1,19,4,20],[6,19,6,21],[7,19,7,21],[8,20,8,22]]}
[]
[]
[]
[]
[]
[null,null,null,null,null,null,null,null,null,null,null,null,null,null,null,null,null,null,null,null,null,null,null,null,null,null,null,null,null,0]
[]
[]
[null,null,null,null,null,null,null,null,null,null,null,null,null,null,null,null,null,null,null,null,"Date du 1° Lundi",null,null,"Année en cour",null,null,null,null,null,"Gestion Des Compteurs"]
[null,null,null,null,null,null,null,null,null,null,null,null,null,null,null,null,null,null,0,null,"2023-01-02",null,null,"Effectuées                        En 2023"]
[null,null,null,null,null,null,null,null,null,null,null,null,null,null,null,null,null,null,null,null,null,null,null,null,null,null,null,null,null,2023]
[null,null,null,null,null,null,null,null,null,null,null,null,null,null,null,null,null,null,null,null,null,null,null,null,null,null,null,null,null,"Michel Archidiacono"]
[null,null,null,null,null,null,null,null,null,null,null,null,null,null,null,null,null,null,null,null,null,null,null,null,null,null,null,null,null,"SN-2023-01-0001-AM"]
[null,null,null,null,null,null,null,null,null,null,null,null,null,null,null,null,null,null,null,null,null,null,null,null,null,null,null,null,null,"Mich-Logiciel.fr"]